{"text_format":"1","workbook":"xlsx","n_sheets":5,"sheets":["Fixtures","Grid","LadderH","Ladder","McRopod"],"not_rendered":{"charts":0,"images":0,"macros":1,"external_links":0,"defined_names":6,"comments":0,"pivot_tables":0},"unopened":[],"bounds":{"document_bytes":16777216,"sheet_cells":100000,"rows_first":2000,"rows_last":500,"rows_between":2000,"halvings":0,"cell_chars":16384,"cell_head_chars":4096},"cells_cut":0,"cells_raw":0,"read":"whole","date_system":"1900"}

{"sheet":"Fixtures","index":0,"n_rows":146,"n_cols":11,"rows_kept":146,"cut":false,"hidden":false,"merged":[]}
[]
[null,"Date","Time    Fixture","H","A"]
[null,"2024-09-17","18:45    BSC Young Boys v Aston Villa",0,3,null,null,"YBB","ASV",1,2]
[null,"2024-09-17","18:45    Juventus v PSV Eindhoven",3,1,null,null,"JUV","PSV",3,4]
[null,"2024-09-17","21:00    AC Milan v Liverpool",1,3,null,null,"MIL","POO",5,6]
[null,"2024-09-17","21:00    Bayern München v GNK Dinamo Zagreb",9,2,null,null,"BAY","GNK",7,8]
[null,"2024-09-17","21:00    Real Madrid  v VfB Stuttgart",3,1,null,null,"REA","STT",9,10]
[null,"2024-09-17","21:00    Sporting Clube de Portugal v LOSC Lille",2,0,null,null,"SPP","LLL",11,12]
[null,"2024-09-18","18:45    AC Sparta Praha v Salzburg",3,0,null,null,"SPG","SLZ",13,14]
[null,"2024-09-18","18:45    Bologna 1909 v Shakhtar Donetsk",0,0,null,null,"BOL","DON",15,16]
[null,"2024-09-18","21:00    Celtic v ŠK Slovan Bratislava",5,1,null,null,"CEL","SBR",36,17]
[null,"2024-09-18","21:00    Club Brugge KV v Borussia Dortmund",0,3,null,null,"BGG","DOR",18,19]
[null,"2024-09-18","21:00    Manchester City v Internazionale Milano",0,0,null,null,"MCT","IML",20,21]
[null,"2024-09-18","21:00    Paris Saint-Germain v Girona",1,0,null,null,"PSG","GIR",22,23]
[null,"2024-09-19","18:45    Feyenoord v Bayer 04 Leverkusen",0,4,null,null,"FEY","LEV",24,25]
[null,"2024-09-18","18:45    Crvena zvezda v SL Benfica",1,2,null,null,"CVZ","BEN",26,27]
[null,"2024-09-18","21:00    AS Monaco v Barcelona",2,1,null,null,"MON","BAR",28,29]
[null,"2024-09-18","21:00    Atalanta BC v Arsenal",0,0,null,null,"ATA","ARS",30,31]
[null,"2024-09-18","21:00    Atlético de Madrid v RB Leipzig",2,1,null,null,"AMD","LPZ",32,33]
[null,"2024-09-18","21:00    Stade Brestois 29 v SK Sturm Graz",2,1,null,null,"BRE","STG",34,35]
[null,"2024-10-01","18:45    Salzburg v Stade Brestois 29",0,4,null,null,"SLZ","BRE",14,34]
[null,"2024-10-01","18:45    VfB Stuttgart v AC Sparta Praha",1,1,null,null,"STT","SPG",10,13]
[null,"2024-10-01","21:00    Arsenal v Paris Saint-Germain",2,0,null,null,"ARS","PSG",31,22]
[null,"2024-10-01","21:00    Bayer 04 Leverkusen v AC Milan",1,0,null,null,"LEV","MIL",25,5]
[null,"2024-10-01","21:00    Borussia Dortmund v Celtic",7,1,null,null,"DOR","CEL",19,36]
[null,"2024-10-01","21:00    Barcelona v BSC Young Boys",5,0,null,null,"BAR","YBB",29,1]
[null,"2024-10-01","21:00    Internazionale Milano v Crvena zvezda",4,0,null,null,"IML","CVZ",21,26]
[null,"2024-10-01","21:00    PSV Eindhoven v Sporting Clube de Portugal",1,1,null,null,"PSV","SPP",4,11]
[null,"2024-10-01","21:00    ŠK Slovan Bratislava v Manchester City",0,4,null,null,"SBR","MCT",17,20]
[null,"2024-10-02","18:45    Shakhtar Donetsk v Atalanta BC",0,3,null,null,"DON","ATA",16,30]
[null,"2024-10-02","18:45    Girona v Feyenoord",2,3,null,null,"GIR","FEY",23,24]
[null,"2024-10-02","21:00    Aston Villa v Bayern München",1,0,null,null,"ASV","BAY",2,7]
[null,"2024-10-02","21:00    GNK Dinamo v AS Monaco",2,2,null,null,"GNK","MON",8,28]
[null,"2024-10-02","21:00    Liverpool v Bologna 1909",2,0,null,null,"POO","BOL",6,15]
[null,"2024-10-02","21:00    LOSC Lille v Real Madrid ",1,0,null,null,"LLL","REA",12,9]
[null,"2024-10-02","21:00    RB Leipzig v Juventus",2,3,null,null,"LPZ","JUV",33,3]
[null,"2024-10-02","21:00    SK Sturm Graz v Club Brugge KV",0,1,null,null,"STG","BGG",35,18]
[null,"2024-10-02","21:00    SL Benfica v Atlético de Madrid",4,0,null,null,"BEN","AMD",27,32]
[null,"2024-10-22","18:45    AC Milan v Club Brugge KV",null,null,null,null,"MIL","BGG",5,18]
[null,"2024-10-22","18:45    AS Monaco v Crvena zvezda",null,null,null,null,"MON","CVZ",28,26]
[null,"2024-10-22","21:00    Arsenal v Shakhtar Donetsk",null,null,null,null,"ARS","DON",31,16]
[null,"2024-10-22","21:00    Aston Villa v Bologna 1909",null,null,null,null,"ASV","BOL",2,15]
[null,"2024-10-22","21:00    Girona v ŠK Slovan Bratislava",null,null,null,null,"GIR","SBR",23,17]
[null,"2024-10-22","21:00    Juventus v VfB Stuttgart",null,null,null,null,"JUV","STT",3,10]
[null,"2024-10-22","21:00    Paris Saint-Germain v PSV Eindhoven",null,null,null,null,"PSG","PSV",22,4]
[null,"2024-10-22","21:00    Real Madrid  v Borussia Dortmund",null,null,null,null,"REA","DOR",9,19]
[null,"2024-10-22","21:00    SK Sturm Graz v Sporting Clube de Portugal",null,null,null,null,"STG","SPP",35,11]
[null,"2024-10-23","18:45    Atalanta BC v Celtic",null,null,null,null,"ATA","CEL",30,36]
[null,"2024-10-23","18:45    Stade Brestois 29 v Bayer 04 Leverkusen",null,null,null,null,"BRE","LEV",34,25]
[null,"2024-10-23","21:00    Atlético de Madrid v LOSC Lille",null,null,null,null,"AMD","LLL",32,12]
[null,"2024-10-23","21:00    BSC Young Boys v Internazionale Milano",null,null,null,null,"YBB","IML",1,21]
[null,"2024-10-23","21:00    Barcelona v Bayern München",null,null,null,null,"BAR","BAY",29,7]
[null,"2024-10-23","21:00    Salzburg v GNK Dinamo",null,null,null,null,"SLZ","GNK",14,8]
[null,"2024-10-23","21:00    Manchester City v AC Sparta Praha",null,null,null,null,"MCT","SPG",20,13]
[null,"2024-10-23","21:00    RB Leipzig v Liverpool",null,null,null,null,"LPZ","POO",33,6]
[null,"2024-10-23","21:00    SL Benfica v Feyenoord",null,null,null,null,"BEN","FEY",27,24]
[null,"2024-11-05","18:45    PSV Eindhoven v Girona",null,null,null,null,"PSV","GIR",4,23]
[null,"2024-11-05","18:45    ŠK Slovan Bratislava v GNK Dinamo",null,null,null,null,"SBR","GNK",17,8]
[null,"2024-11-05","21:00    Bologna 1909 v AS Monaco",null,null,null,null,"BOL","MON",15,28]
[null,"2024-11-05","21:00    Borussia Dortmund v SK Sturm Graz",null,null,null,null,"DOR","STG",19,35]
[null,"2024-11-05","21:00    Celtic v RB Leipzig",null,null,null,null,"CEL","LPZ",36,33]
[null,"2024-11-05","21:00    Liverpool v Bayer 04 Leverkusen",null,null,null,null,"POO","LEV",6,25]
[null,"2024-11-05","21:00    LOSC Lille v Juventus",null,null,null,null,"LLL","JUV",12,3]
[null,"2024-11-05","21:00    Real Madrid  v AC Milan",null,null,null,null,"REA","MIL",9,5]
[null,"2024-11-05","21:00    Sporting Clube de Portugal v Manchester City",null,null,null,null,"SPP","MCT",11,20]
[null,"2024-11-06","18:45    Club Brugge KV v Aston Villa ",null,null,null,null,"BGG","ASV",18,2]
[null,"2024-11-06","18:45    Shakhtar Donetsk v BSC Young Boys",null,null,null,null,"DON","YBB",16,1]
[null,"2024-11-06","21:00    AC Sparta Praha v Stade Brestois 29",null,null,null,null,"SPG","BRE",13,34]
[null,"2024-11-06","21:00    Bayern München v SL Benfica",null,null,null,null,"BAY","BEN",7,27]
[null,"2024-11-06","21:00    Internazionale Milano v Arsenal",null,null,null,null,"IML","ARS",21,31]
[null,"2024-11-06","21:00    Feyenoord v Salzburg",null,null,null,null,"FEY","SLZ",24,14]
[null,"2024-11-06","21:00    Crvena zvezda v Barcelona",null,null,null,null,"CVZ","BAR",26,29]
[null,"2024-11-06","21:00    Paris Saint-Germain v Atlético de Madrid",null,null,null,null,"PSG","AMD",22,32]
[null,"2024-11-06","21:00    VfB Stuttgart v Atalanta BC",null,null,null,null,"STT","ATA",10,30]
[null,"2024-11-26","18:45    AC Sparta Praha v Atlético de Madrid",null,null,null,null,"SPG","AMD",13,32]
[null,"2024-11-26","18:45    ŠK Slovan Bratislava v AC Milan",null,null,null,null,"SBR","MIL",17,5]
[null,"2024-11-26","21:00    Bayer 04 Leverkusen v Salzburg",null,null,null,null,"LEV","SLZ",25,14]
[null,"2024-11-26","21:00    BSC Young Boys v Atalanta BC",null,null,null,null,"YBB","ATA",1,30]
[null,"2024-11-26","21:00    Barcelona v Stade Brestois 29",null,null,null,null,"BAR","BRE",29,34]
[null,"2024-11-26","21:00    Bayern München v Paris Saint-Germain",null,null,null,null,"BAY","PSG",7,22]
[null,"2024-11-26","21:00    Internazionale Milano v RB Leipzig",null,null,null,null,"IML","LPZ",21,33]
[null,"2024-11-26","21:00    Manchester City v Feyenoord",null,null,null,null,"MCT","FEY",20,24]
[null,"2024-11-26","21:00    Sporting Clube de Portugal v Arsenal",null,null,null,null,"SPP","ARS",11,31]
[null,"2024-11-27","18:45    Crvena zvezda v VfB Stuttgart",null,null,null,null,"CVZ","STT",26,10]
[null,"2024-11-27","18:45    SK Sturm Graz v Girona",null,null,null,null,"STG","GIR",35,23]
[null,"2024-11-27","21:00    AS Monaco v SL Benfica",null,null,null,null,"MON","BEN",28,27]
[null,"2024-11-27","21:00    Aston Villa v Juventus",null,null,null,null,"ASV","JUV",2,3]
[null,"2024-11-27","21:00    Bologna 1909 v LOSC Lille",null,null,null,null,"BOL","LLL",15,12]
[null,"2024-11-27","21:00    Celtic v Club Brugge KV",null,null,null,null,"CEL","BGG",36,18]
[null,"2024-11-27","21:00    GNK Dinamo v Borussia Dortmund",null,null,null,null,"GNK","DOR",8,19]
[null,"2024-11-27","21:00    Liverpool v Real Madrid ",null,null,null,null,"POO","REA",6,9]
[null,"2024-11-27","21:00    PSV Eindhoven v Shakhtar Donetsk",null,null,null,null,"PSV","DON",4,16]
[null,"2024-12-10","18:45    Girona v Liverpool",null,null,null,null,"GIR","POO",23,6]
[null,"2024-12-10","18:45    GNK Dinamo v Celtic",null,null,null,null,"GNK","CEL",8,36]
[null,"2024-12-10","21:00    Atalanta BC v Real Madrid ",null,null,null,null,"ATA","REA",30,9]
[null,"2024-12-10","21:00    Bayer 04 Leverkusen v Internazionale Milano",null,null,null,null,"LEV","IML",25,21]
[null,"2024-12-10","21:00    Club Brugge KV v Sporting Clube de Portugal",null,null,null,null,"BGG","SPP",18,11]
[null,"2024-12-10","21:00    Salzburg v Paris Saint-Germain",null,null,null,null,"SLZ","PSG",14,22]
[null,"2024-12-10","21:00    Shakhtar Donetsk v Bayern München",null,null,null,null,"DON","BAY",16,7]
[null,"2024-12-10","21:00    RB Leipzig v Aston Villa",null,null,null,null,"LPZ","ASV",33,2]
[null,"2024-12-10","21:00    Stade Brestois 29 v PSV Eindhoven",null,null,null,null,"BRE","PSV",34,4]
[null,"2024-12-11","18:45    Atlético de Madrid v ŠK Slovan Bratislava",null,null,null,null,"AMD","SBR",32,17]
[null,"2024-12-11","18:45    LOSC Lille v SK Sturm Graz",null,null,null,null,"LLL","STG",12,35]
[null,"2024-12-11","21:00    AC Milan v Crvena zvezda",null,null,null,null,"MIL","CVZ",5,26]
[null,"2024-12-11","21:00    Arsenal v AS Monaco",null,null,null,null,"ARS","MON",31,28]
[null,"2024-12-11","21:00    Borussia Dortmund v Barcelona",null,null,null,null,"DOR","BAR",19,29]
[null,"2024-12-11","21:00    Feyenoord v AC Sparta Praha",null,null,null,null,"FEY","SPG",24,13]
[null,"2024-12-11","21:00    Juventus v Manchester City",null,null,null,null,"JUV","MCT",3,20]
[null,"2024-12-11","21:00    SL Benfica v Bologna 1909",null,null,null,null,"BEN","BOL",27,15]
[null,"2024-12-11","21:00    VfB Stuttgart v BSC Young Boys",null,null,null,null,"STT","YBB",10,1]
[null,"2025-01-21","18:45    AS Monaco v Aston Villa",null,null,null,null,"MON","ASV",28,2]
[null,"2025-01-21","18:45    Atalanta BC v SK Sturm Graz",null,null,null,null,"ATA","STG",30,35]
[null,"2025-01-21","21:00    Atlético de Madrid v Bayer 04 Leverkusen",null,null,null,null,"AMD","LEV",32,25]
[null,"2025-01-21","21:00    Bologna 1909 v Borussia Dortmund",null,null,null,null,"BOL","DOR",15,19]
[null,"2025-01-21","21:00    Club Brugge KV v Juventus",null,null,null,null,"BGG","JUV",18,3]
[null,"2025-01-21","21:00    Crvena zvezda v PSV Eindhoven",null,null,null,null,"CVZ","PSV",26,4]
[null,"2025-01-21","21:00    Liverpool v LOSC Lille",null,null,null,null,"POO","LLL",6,12]
[null,"2025-01-21","21:00    ŠK Slovan Bratislava v VfB Stuttgart",null,null,null,null,"SBR","STT",17,10]
[null,"2025-01-21","21:00    SL Benfica v Barcelona",null,null,null,null,"BEN","BAR",27,29]
[null,"2025-01-22","18:45    Shakhtar Donetsk v Stade Brestois 29",null,null,null,null,"DON","BRE",16,34]
[null,"2025-01-22","18:45    RB Leipzig v Sporting Clube de Portugal",null,null,null,null,"LPZ","SPP",33,11]
[null,"2025-01-22","21:00    AC Milan v Girona",null,null,null,null,"MIL","GIR",5,23]
[null,"2025-01-22","21:00    AC Sparta Praha vs FC Internazionale Milano",null,null,null,null,"SPG","IML",13,21]
[null,"2025-01-22","21:00    Arsenal v GNK Dinamo",null,null,null,null,"ARS","GNK",31,8]
[null,"2025-01-22","21:00    Celtic v BSC Young Boys",null,null,null,null,"CEL","YBB",36,1]
[null,"2025-01-22","21:00    Feyenoord v Bayern München",null,null,null,null,"FEY","BAY",24,7]
[null,"2025-01-22","21:00    Paris Saint-Germain v Manchester City",null,null,null,null,"PSG","MCT",22,20]
[null,"2025-01-22","21:00    Real Madrid  v Salzburg",null,null,null,null,"REA","SLZ",9,14]
[null,"2025-01-29","21:00    Aston Villa v Celtic",null,null,null,null,"ASV","CEL",2,36]
[null,"2025-01-29","21:00    Bayer 04 Leverkusen v AC Sparta Praha",null,null,null,null,"LEV","SPG",25,13]
[null,"2025-01-29","21:00    Borussia Dortmund v Shakhtar Donetsk",null,null,null,null,"DOR","DON",19,16]
[null,"2025-01-29","21:00    BSC Young Boys v Crvena zvezda",null,null,null,null,"YBB","CVZ",1,26]
[null,"2025-01-29","21:00    Barcelona v Atalanta BC",null,null,null,null,"BAR","ATA",29,30]
[null,"2025-01-29","21:00    Bayern München v ŠK Slovan Bratislava",null,null,null,null,"BAY","SBR",7,17]
[null,"2025-01-29","21:00    Internazionale Milano v AS Monaco",null,null,null,null,"IML","MON",21,28]
[null,"2025-01-29","21:00    Salzburg v Atlético de Madrid",null,null,null,null,"SLZ","AMD",14,32]
[null,"2025-01-29","21:00    Girona v Arsenal",null,null,null,null,"GIR","ARS",23,31]
[null,"2025-01-29","21:00    GNK Dinamo v AC Milan",null,null,null,null,"GNK","MIL",8,5]
[null,"2025-01-29","21:00    Juventus v SL Benfica",null,null,null,null,"JUV","BEN",3,27]
[null,"2025-01-29","21:00    LOSC Lille v Feyenoord",null,null,null,null,"LLL","FEY",12,24]
[null,"2025-01-29","21:00    Manchester City v Club Brugge KV",null,null,null,null,"MCT","BGG",20,18]
[null,"2025-01-29","21:00    PSV Eindhoven v Liverpool",null,null,null,null,"PSV","POO",4,6]
[null,"2025-01-29","21:00    SK Sturm Graz v RB Leipzig",null,null,null,null,"STG","LPZ",35,33]
[null,"2025-01-29","21:00    Sporting Clube de Portugal v Bologna 1909",null,null,null,null,"SPP","BOL",11,15]
[null,"2025-01-29","21:00    Stade Brestois 29 v Real Madrid ",null,null,null,null,"BRE","REA",34,9]
[null,"2025-01-29","21:00    VfB Stuttgart v Paris Saint-Germain",null,null,null,null,"STT","PSG",10,22]

{"sheet":"Grid","index":1,"n_rows":187,"n_cols":139,"rows_kept":187,"cut":false,"hidden":true,"merged":[]}
[]
[null,null,{"$f":"COUNTA(C4:C39)","v":4},4,null,{"$f":"COUNTA(F4:F39)","v":4},4,null,{"$f":"COUNTA(I4:I39)","v":4},4,null,{"$f":"COUNTA(L4:L39)","v":4},4,null,{"$f":"COUNTA(O4:O39)","v":4},4,null,{"$f":"COUNTA(R4:R39)","v":4},4,null,{"$f":"COUNTA(U4:U39)","v":4},4,null,{"$f":"COUNTA(X4:X39)","v":4},4,null,{"$f":"COUNTA(AA4:AA39)","v":4},4,null,{"$f":"COUNTA(AD4:AD39)","v":4},4,null,{"$f":"COUNTA(AG4:AG39)","v":4},4,null,{"$f":"COUNTA(AJ4:AJ39)","v":4},4,null,{"$f":"COUNTA(AM4:AM39)","v":4},4,null,{"$f":"COUNTA(AP4:AP39)","v":4},4,null,{"$f":"COUNTA(AS4:AS39)","v":4},4,null,{"$f":"COUNTA(AV4:AV39)","v":4},4,null,{"$f":"COUNTA(AY4:AY39)","v":4},4,null,{"$f":"COUNTA(BB4:BB39)","v":4},4,null,{"$f":"COUNTA(BE4:BE39)","v":4},4,null,{"$f":"COUNTA(BH4:BH39)","v":4},4,null,{"$f":"COUNTA(BK4:BK39)","v":4},4,null,{"$f":"COUNTA(BN4:BN39)","v":4},4,null,{"$f":"COUNTA(BQ4:BQ39)","v":4},4,null,{"$f":"COUNTA(BT4:BT39)","v":4},4,null,{"$f":"COUNTA(BW4:BW39)","v":4},4,null,{"$f":"COUNTA(BZ4:BZ39)","v":4},4,null,{"$f":"COUNTA(CC4:CC39)","v":4},4,null,{"$f":"COUNTA(CF4:CF39)","v":4},{"$f":"COUNTA(CG4:CG39)","v":4},null,{"$f":"COUNTA(CI4:CI39)","v":4},4,null,{"$f":"COUNTA(CL4:CL39)","v":4},4,null,{"$f":"COUNTA(CO4:CO39)","v":4},{"$f":"COUNTA(CP4:CP39)","v":4},null,{"$f":"COUNTA(CR4:CR39)","v":4},4,null,{"$f":"COUNTA(CU4:CU39)","v":4},4,null,{"$f":"COUNTA(CX4:CX39)","v":4},4,null,{"$f":"COUNTA(DA4:DA39)","v":4},4,null,{"$f":"COUNTA(DD4:DD39)","v":4},4,null,null,null,null,null,null,null,"Home",null,null,null,null,null,null,null,"Away",null,null,null,null,null,null,null,null,"Home and Away Group"]
[null,"Team",null,{"$f":"B4","v":"AC Milan"},null,null,{"$f":"B5","v":"Arsenal"},null,null,{"$f":"B6","v":"Aston Villa"},null,null,{"$f":"B7","v":"Atalanta"},null,null,{"$f":"B8","v":"Atletico Madrid"},null,null,{"$f":"B9","v":"Barcelona"},null,null,{"$f":"B10","v":"Bayer Leverkusen"},null,null,{"$f":"B11","v":"Bayern Munich"},null,null,{"$f":"B12","v":"Benfica"},null,null,{"$f":"B13","v":"Bologna"},null,null,{"$f":"B14","v":"Borussia Dortmund"},null,null,{"$f":"B15","v":"Stade Brestois 29"},null,null,{"$f":"B16","v":"Celtic"},null,null,{"$f":"B17","v":"Club Brugge KV"},null,null,{"$f":"B18","v":"GNK Dinamo Zagreb"},null,null,{"$f":"B19","v":"Feyenoord"},null,null,{"$f":"B20","v":"Girona"},null,null,{"$f":"B21","v":"Internazionale Milano"},null,null,{"$f":"B22","v":"Juventus"},null,null,{"$f":"B23","v":"Lille"},null,null,{"$f":"B24","v":"Liverpool"},null,null,{"$f":"B25","v":"Manchester City"},null,null,{"$f":"B26","v":"Monaco"},null,null,{"$f":"B27","v":"Paris Saint-Germain"},null,null,{"$f":"B28","v":"PSV"},null,null,{"$f":"B29","v":"RB Leipzig"},null,null,{"$f":"B30","v":"Real Madrid"},null,null,{"$f":"B31","v":"Crvena zvezda"},null,null,{"$f":"B32","v":"Salzburg"},null,null,{"$f":"B33","v":"Shakhtar Donetsk"},null,null,{"$f":"B34","v":"Slovan Bratislava"},null,null,{"$f":"B35","v":"Sparta Prague"},null,null,{"$f":"B36","v":"Sporting CP"},null,null,{"$f":"B37","v":"Sturm Graz"},null,null,{"$f":"B38","v":"Stuttgart"},null,null,{"$f":"B39","v":"Young Boys"},null,null,null,"P","W","D","L","F","A","G/D","Pts","P","W","D","L","F","A","G/D","Pts",null,"P","W","D","L","F","A","G/D","Pts"]
[null,"AC Milan",null,null,{"$f":"IF(C4=\"\",\"\",IF(D4=\"\",\"\",IF(C4>D4,\"W\", IF(C4<D4,\"L\",IF(C4=D4,\"D\")))))","v":""},null,null,{"$f":"IF(F4=\"\",\"\",IF(G4=\"\",\"\",IF(F4>G4,\"W\", IF(F4<G4,\"L\",IF(F4=G4,\"D\")))))","v":""},null,null,{"$f":"IF(I4=\"\",\"\",IF(J4=\"\",\"\",IF(I4>J4,\"W\", IF(I4<J4,\"L\",IF(I4=J4,\"D\")))))","v":""},null,null,{"$f":"IF(L4=\"\",\"\",IF(M4=\"\",\"\",IF(L4>M4,\"W\", IF(L4<M4,\"L\",IF(L4=M4,\"D\")))))","v":""},null,null,{"$f":"IF(O4=\"\",\"\",IF(P4=\"\",\"\",IF(O4>P4,\"W\", IF(O4<P4,\"L\",IF(O4=P4,\"D\")))))","v":""},null,null,{"$f":"IF(R4=\"\",\"\",IF(S4=\"\",\"\",IF(R4>S4,\"W\", IF(R4<S4,\"L\",IF(R4=S4,\"D\")))))","v":""},null,null,{"$f":"IF(U4=\"\",\"\",IF(V4=\"\",\"\",IF(U4>V4,\"W\", IF(U4<V4,\"L\",IF(U4=V4,\"D\")))))","v":""},null,null,{"$f":"IF(X4=\"\",\"\",IF(Y4=\"\",\"\",IF(X4>Y4,\"W\", IF(X4<Y4,\"L\",IF(X4=Y4,\"D\")))))","v":""},null,null,{"$f":"IF(AA4=\"\",\"\",IF(AB4=\"\",\"\",IF(AA4>AB4,\"W\", IF(AA4<AB4,\"L\",IF(AA4=AB4,\"D\")))))","v":""},null,null,{"$f":"IF(AD4=\"\",\"\",IF(AE4=\"\",\"\",IF(AD4>AE4,\"W\", IF(AD4<AE4,\"L\",IF(AD4=AE4,\"D\")))))","v":""},null,null,{"$f":"IF(AG4=\"\",\"\",IF(AH4=\"\",\"\",IF(AG4>AH4,\"W\", IF(AG4<AH4,\"L\",IF(AG4=AH4,\"D\")))))","v":""},null,null,{"$f":"IF(AJ4=\"\",\"\",IF(AK4=\"\",\"\",IF(AJ4>AK4,\"W\", IF(AJ4<AK4,\"L\",IF(AJ4=AK4,\"D\")))))","v":""},null,null,{"$f":"IF(AM4=\"\",\"\",IF(AN4=\"\",\"\",IF(AM4>AN4,\"W\", IF(AM4<AN4,\"L\",IF(AM4=AN4,\"D\")))))","v":""},{"$f":"IF(Fixtures!$D$39=\"\",\"\",Fixtures!$D$39)","v":""},{"$f":"IF(Fixtures!$E$39=\"\",\"\",Fixtures!$E$39)","v":""},{"$f":"IF(AP4=\"\",\"\",IF(AQ4=\"\",\"\",IF(AP4>AQ4,\"W\", IF(AP4<AQ4,\"L\",IF(AP4=AQ4,\"D\")))))","v":""},null,null,{"$f":"IF(AS4=\"\",\"\",IF(AT4=\"\",\"\",IF(AS4>AT4,\"W\", IF(AS4<AT4,\"L\",IF(AS4=AT4,\"D\")))))","v":""},null,null,{"$f":"IF(AV4=\"\",\"\",IF(AW4=\"\",\"\",IF(AV4>AW4,\"W\", IF(AV4<AW4,\"L\",IF(AV4=AW4,\"D\")))))","v":""},{"$f":"IF(Fixtures!$D$122=\"\",\"\",Fixtures!$D$122)","v":""},{"$f":"IF(Fixtures!$E$122=\"\",\"\",Fixtures!$E$122)","v":""},{"$f":"IF(AY4=\"\",\"\",IF(AZ4=\"\",\"\",IF(AY4>AZ4,\"W\", IF(AY4<AZ4,\"L\",IF(AY4=AZ4,\"D\")))))","v":""},null,null,{"$f":"IF(BB4=\"\",\"\",IF(BC4=\"\",\"\",IF(BB4>BC4,\"W\", IF(BB4<BC4,\"L\",IF(BB4=BC4,\"D\")))))","v":""},null,null,{"$f":"IF(BE4=\"\",\"\",IF(BF4=\"\",\"\",IF(BE4>BF4,\"W\", IF(BE4<BF4,\"L\",IF(BE4=BF4,\"D\")))))","v":""},null,null,{"$f":"IF(BH4=\"\",\"\",IF(BI4=\"\",\"\",IF(BH4>BI4,\"W\", IF(BH4<BI4,\"L\",IF(BH4=BI4,\"D\")))))","v":""},{"$f":"IF(Fixtures!$D$5=\"\",\"\",Fixtures!$D$5)","v":1},{"$f":"IF(Fixtures!$E$5=\"\",\"\",Fixtures!$E$5)","v":3},{"$f":"IF(BK4=\"\",\"\",IF(BL4=\"\",\"\",IF(BK4>BL4,\"W\", IF(BK4<BL4,\"L\",IF(BK4=BL4,\"D\")))))","v":"L"},null,null,{"$f":"IF(BN4=\"\",\"\",IF(BO4=\"\",\"\",IF(BN4>BO4,\"W\", IF(BN4<BO4,\"L\",IF(BN4=BO4,\"D\")))))","v":""},null,null,{"$f":"IF(BQ4=\"\",\"\",IF(BR4=\"\",\"\",IF(BQ4>BR4,\"W\", IF(BQ4<BR4,\"L\",IF(BQ4=BR4,\"D\")))))","v":""},null,null,{"$f":"IF(BT4=\"\",\"\",IF(BU4=\"\",\"\",IF(BT4>BU4,\"W\", IF(BT4<BU4,\"L\",IF(BT4=BU4,\"D\")))))","v":""},null,null,{"$f":"IF(BW4=\"\",\"\",IF(BX4=\"\",\"\",IF(BW4>BX4,\"W\", IF(BW4<BX4,\"L\",IF(BW4=BX4,\"D\")))))","v":""},null,null,{"$f":"IF(BZ4=\"\",\"\",IF(CA4=\"\",\"\",IF(BZ4>CA4,\"W\", IF(BZ4<CA4,\"L\",IF(BZ4=CA4,\"D\")))))","v":""},null,null,{"$f":"IF(CC4=\"\",\"\",IF(CD4=\"\",\"\",IF(CC4>CD4,\"W\", IF(CC4<CD4,\"L\",IF(CC4=CD4,\"D\")))))","v":""},{"$f":"IF(Fixtures!$D$104=\"\",\"\",Fixtures!$D$104)","v":""},{"$f":"IF(Fixtures!$E$104=\"\",\"\",Fixtures!$E$104)","v":""},{"$f":"IF(CF4=\"\",\"\",IF(CG4=\"\",\"\",IF(CF4>CG4,\"W\", IF(CF4<CG4,\"L\",IF(CF4=CG4,\"D\")))))","v":""},null,null,{"$f":"IF(CI4=\"\",\"\",IF(CJ4=\"\",\"\",IF(CI4>CJ4,\"W\", IF(CI4<CJ4,\"L\",IF(CI4=CJ4,\"D\")))))","v":""},null,null,{"$f":"IF(CL4=\"\",\"\",IF(CM4=\"\",\"\",IF(CL4>CM4,\"W\", IF(CL4<CM4,\"L\",IF(CL4=CM4,\"D\")))))","v":""},null,null,{"$f":"IF(CO4=\"\",\"\",IF(CP4=\"\",\"\",IF(CO4>CP4,\"W\", IF(CO4<CP4,\"L\",IF(CO4=CP4,\"D\")))))","v":""},null,null,{"$f":"IF(CR4=\"\",\"\",IF(CS4=\"\",\"\",IF(CR4>CS4,\"W\", IF(CR4<CS4,\"L\",IF(CR4=CS4,\"D\")))))","v":""},null,null,{"$f":"IF(CU4=\"\",\"\",IF(CV4=\"\",\"\",IF(CU4>CV4,\"W\", IF(CU4<CV4,\"L\",IF(CU4=CV4,\"D\")))))","v":""},null,null,{"$f":"IF(CX4=\"\",\"\",IF(CY4=\"\",\"\",IF(CX4>CY4,\"W\", IF(CX4<CY4,\"L\",IF(CX4=CY4,\"D\")))))","v":""},null,null,{"$f":"IF(DA4=\"\",\"\",IF(DB4=\"\",\"\",IF(DA4>DB4,\"W\", IF(DA4<DB4,\"L\",IF(DA4=DB4,\"D\")))))","v":""},null,null,{"$f":"IF(DD4=\"\",\"\",IF(DE4=\"\",\"\",IF(DD4>DE4,\"W\", IF(DD4<DE4,\"L\",IF(DD4=DE4,\"D\")))))","v":""},{"$f":"IF(SUM(DH4*4)=DM4,\"OK\",\"!!!\")","v":"!!!"},5,{"$f":"SUM(DJ4:DL4)","v":1},{"$f":"IF(E4=\"W\",1,0)+IF(H4=\"W\",1,0)+IF(K4=\"W\",1,0)+IF(N4=\"W\",1,0)+IF(Q4=\"W\",1,0)+IF(T4=\"W\",1,0)+IF(W4=\"W\",1,0)+IF(AC4=\"W\",1,0)+IF(AF4=\"W\",1,0)+IF(AI4=\"W\",1,0)+IF(AL4=\"W\",1,0)+IF(AO4=\"W\",1,0)+IF(AR4=\"W\",1,0)+IF(AU4=\"W\",1,0)+IF(AX4=\"W\",1,0)+IF(BA4=\"W\",1,0)+IF(BD4=\"W\",1,0)+IF(BG4=\"W\",1,0)+IF(BJ4=\"W\",1,0)+IF(BM4=\"W\",1,0)+IF(BP4=\"W\",1,0)+IF(BS4=\"W\",1,0)+IF(BV4=\"W\",1,0)+IF(BY4=\"W\",1,0)+IF(CB4=\"W\",1,0)+IF(CE4=\"W\",1,0)+IF(CH4=\"W\",1,0)+IF(CK4=\"W\",1,0)+IF(CN4=\"W\",1,0)+IF(CQ4=\"W\",1,0)+IF(CT4=\"W\",1,0)+IF(CW4=\"W\",1,0)+IF(CZ4=\"W\",1,0)+IF(DC4=\"W\",1,0)+IF(DF4=\"W\",1,0)+IF(Z4=\"W\",1,0)","v":0},{"$f":"IF(E4=\"D\",1,0)+IF(H4=\"D\",1,0)+IF(K4=\"D\",1,0)+IF(N4=\"D\",1,0)+IF(Q4=\"D\",1,0)+IF(T4=\"D\",1,0)+IF(W4=\"D\",1,0)+IF(AC4=\"D\",1,0)+IF(AF4=\"D\",1,0)+IF(AI4=\"D\",1,0)+IF(AL4=\"D\",1,0)+IF(AO4=\"D\",1,0)+IF(AR4=\"D\",1,0)+IF(AU4=\"D\",1,0)+IF(AX4=\"D\",1,0)+IF(BA4=\"D\",1,0)+IF(BD4=\"D\",1,0)+IF(BG4=\"D\",1,0)+IF(BJ4=\"D\",1,0)+IF(BM4=\"D\",1,0)+IF(BP4=\"D\",1,0)+IF(BS4=\"D\",1,0)+IF(BV4=\"D\",1,0)+IF(BY4=\"D\",1,0)+IF(CB4=\"D\",1,0)+IF(CE4=\"D\",1,0)+IF(CH4=\"D\",1,0)+IF(CK4=\"D\",1,0)+IF(CN4=\"D\",1,0)+IF(CQ4=\"D\",1,0)+IF(CT4=\"D\",1,0)+IF(CW4=\"D\",1,0)+IF(CZ4=\"D\",1,0)+IF(DC4=\"D\",1,0)+IF(DF4=\"D\",1,0)+IF(Z4=\"D\",1,0)","v":0},{"$f":"IF(E4=\"L\",1,0)+IF(H4=\"L\",1,0)+IF(K4=\"L\",1,0)+IF(N4=\"L\",1,0)+IF(Q4=\"L\",1,0)+IF(T4=\"L\",1,0)+IF(W4=\"L\",1,0)+IF(AC4=\"L\",1,0)+IF(AF4=\"L\",1,0)+IF(AI4=\"L\",1,0)+IF(AL4=\"L\",1,0)+IF(AO4=\"L\",1,0)+IF(AR4=\"L\",1,0)+IF(AU4=\"L\",1,0)+IF(AX4=\"L\",1,0)+IF(BA4=\"L\",1,0)+IF(BD4=\"L\",1,0)+IF(BG4=\"L\",1,0)+IF(BJ4=\"L\",1,0)+IF(BM4=\"L\",1,0)+IF(BP4=\"L\",1,0)+IF(BS4=\"L\",1,0)+IF(BV4=\"L\",1,0)+IF(BY4=\"L\",1,0)+IF(CB4=\"L\",1,0)+IF(CE4=\"L\",1,0)+IF(CH4=\"L\",1,0)+IF(CK4=\"L\",1,0)+IF(CN4=\"L\",1,0)+IF(CQ4=\"L\",1,0)+IF(CT4=\"L\",1,0)+IF(CW4=\"L\",1,0)+IF(CZ4=\"L\",1,0)+IF(DC4=\"L\",1,0)+IF(DF4=\"L\",1,0)+IF(Z4=\"L\",1,0)","v":1},{"$f":"SUM(C4)+SUM(F4)+SUM(I4)+SUM(L4)+SUM(O4)+SUM(R4)+SUM(U4)+SUM(X4)+SUM(AA4)+SUM(AD4)+SUM(AG4)+SUM(AJ4)+SUM(AM4)+SUM(AP4)+SUM(AS4)+SUM(AV4)+SUM(AY4)+SUM(BB4)+SUM(BE4)+SUM(BH4)+SUM(BK4)+SUM(BN4)+SUM(BQ4)+SUM(BT4)+SUM(BW4)+SUM(BZ4)+SUM(CC4)+SUM(CF4)+SUM(CI4)+SUM(CL4)+SUM(CO4)+SUM(CR4)+SUM(CU4)+SUM(CX4)+SUM(DA4)+SUM(DD4)","v":1},{"$f":"SUM(D4)+SUM(G4)+SUM(J4)+SUM(M4)+SUM(P4)+SUM(S4)+SUM(V4)+SUM(Y4)+SUM(AB4)+SUM(AE4)+SUM(AH4)+SUM(AK4)+SUM(AN4)+SUM(AQ4)+SUM(AT4)+SUM(AW4)+SUM(AZ4)+SUM(BC4)+SUM(BF4)+SUM(BI4)+SUM(BL4)+SUM(BO4)+SUM(BR4)+SUM(BU4)+SUM(BX4)+SUM(CA4)+SUM(CD4)+SUM(CG4)+SUM(CJ4)+SUM(CM4)+SUM(CP4)+SUM(CS4)+SUM(CV4)+SUM(CY4)+SUM(DB4)+SUM(DE4)","v":3},{"$f":"DM4-DN4","v":-2},{"$f":"DJ4*3+DK4","v":0},{"$f":"SUM(DR4:DT4)","v":1},{"$f":"C40","v":0},{"$f":"D40","v":0},1,{"$f":"D41","v":0},{"$f":"E41","v":1},{"$f":"DU4-DV4","v":-1},{"$f":"DR4*3+DS4","v":0},{"$f":"B4","v":"AC Milan"},{"$f":"SUM(DI4+DQ4)","v":2},{"$f":"SUM(DJ4+DR4)","v":0},{"$f":"SUM(DK4+DS4)","v":0},{"$f":"SUM(DL4+DT4)","v":2},{"$f":"SUM(DM4+DU4)","v":1},{"$f":"SUM(DN4+DV4)","v":4},{"$f":"SUM(DO4+DW4)","v":-3},{"$f":"SUM(DP4+DX4)","v":0},null,{"$f":"IF(ED4=SUM(DH4*8),\"OK\",\"!!!\")","v":"!!!"}]
[null,"Arsenal",null,null,"",null,null,"",null,null,"",null,null,"",null,null,"",null,null,"",null,null,"",null,null,"",null,null,"",null,null,"",null,null,"",null,null,"",null,null,"",null,null,"",{"$f":"IF(Fixtures!$D$124=\"\",\"\",Fixtures!$D$124)","v":""},{"$f":"IF(Fixtures!$E$124=\"\",\"\",Fixtures!$E$124)","v":""},"",null,null,"",null,null,"",null,null,"",null,null,"",null,null,"",null,null,"",null,null,"",{"$f":"IF(Fixtures!$D$105=\"\",\"\",Fixtures!$D$105)","v":""},{"$f":"IF(Fixtures!$E$105=\"\",\"\",Fixtures!$E$105)","v":""},"",{"$f":"IF(Fixtures!$D$23=\"\",\"\",Fixtures!$D$23)","v":2},{"$f":"IF(Fixtures!$E$23=\"\",\"\",Fixtures!$E$23)","v":0},"W",null,null,"",null,null,"",null,null,"",null,null,"",null,null,"",{"$f":"IF(Fixtures!$D$41=\"\",\"\",Fixtures!$D$41)","v":""},{"$f":"IF(Fixtures!$E$41=\"\",\"\",Fixtures!$E$41)","v":""},"",null,null,"",null,null,"",null,null,"",null,null,"",null,null,"",null,null,"",{"$f":"IF(SUM(DH5*4)=DM5,\"OK\",\"!!!\")","v":"!!!"},31,{"$f":"SUM(DJ5:DL5)","v":1},{"$f":"IF(E5=\"W\",1,0)+IF(H5=\"W\",1,0)+IF(K5=\"W\",1,0)+IF(N5=\"W\",1,0)+IF(Q5=\"W\",1,0)+IF(T5=\"W\",1,0)+IF(W5=\"W\",1,0)+IF(AC5=\"W\",1,0)+IF(AF5=\"W\",1,0)+IF(AI5=\"W\",1,0)+IF(AL5=\"W\",1,0)+IF(AO5=\"W\",1,0)+IF(AR5=\"W\",1,0)+IF(AU5=\"W\",1,0)+IF(AX5=\"W\",1,0)+IF(BA5=\"W\",1,0)+IF(BD5=\"W\",1,0)+IF(BG5=\"W\",1,0)+IF(BJ5=\"W\",1,0)+IF(BM5=\"W\",1,0)+IF(BP5=\"W\",1,0)+IF(BS5=\"W\",1,0)+IF(BV5=\"W\",1,0)+IF(BY5=\"W\",1,0)+IF(CB5=\"W\",1,0)+IF(CE5=\"W\",1,0)+IF(CH5=\"W\",1,0)+IF(CK5=\"W\",1,0)+IF(CN5=\"W\",1,0)+IF(CQ5=\"W\",1,0)+IF(CT5=\"W\",1,0)+IF(CW5=\"W\",1,0)+IF(CZ5=\"W\",1,0)+IF(DC5=\"W\",1,0)+IF(DF5=\"W\",1,0)+IF(Z5=\"W\",1,0)","v":1},{"$f":"IF(E5=\"D\",1,0)+IF(H5=\"D\",1,0)+IF(K5=\"D\",1,0)+IF(N5=\"D\",1,0)+IF(Q5=\"D\",1,0)+IF(T5=\"D\",1,0)+IF(W5=\"D\",1,0)+IF(AC5=\"D\",1,0)+IF(AF5=\"D\",1,0)+IF(AI5=\"D\",1,0)+IF(AL5=\"D\",1,0)+IF(AO5=\"D\",1,0)+IF(AR5=\"D\",1,0)+IF(AU5=\"D\",1,0)+IF(AX5=\"D\",1,0)+IF(BA5=\"D\",1,0)+IF(BD5=\"D\",1,0)+IF(BG5=\"D\",1,0)+IF(BJ5=\"D\",1,0)+IF(BM5=\"D\",1,0)+IF(BP5=\"D\",1,0)+IF(BS5=\"D\",1,0)+IF(BV5=\"D\",1,0)+IF(BY5=\"D\",1,0)+IF(CB5=\"D\",1,0)+IF(CE5=\"D\",1,0)+IF(CH5=\"D\",1,0)+IF(CK5=\"D\",1,0)+IF(CN5=\"D\",1,0)+IF(CQ5=\"D\",1,0)+IF(CT5=\"D\",1,0)+IF(CW5=\"D\",1,0)+IF(CZ5=\"D\",1,0)+IF(DC5=\"D\",1,0)+IF(DF5=\"D\",1,0)+IF(Z5=\"D\",1,0)","v":0},{"$f":"IF(E5=\"L\",1,0)+IF(H5=\"L\",1,0)+IF(K5=\"L\",1,0)+IF(N5=\"L\",1,0)+IF(Q5=\"L\",1,0)+IF(T5=\"L\",1,0)+IF(W5=\"L\",1,0)+IF(AC5=\"L\",1,0)+IF(AF5=\"L\",1,0)+IF(AI5=\"L\",1,0)+IF(AL5=\"L\",1,0)+IF(AO5=\"L\",1,0)+IF(AR5=\"L\",1,0)+IF(AU5=\"L\",1,0)+IF(AX5=\"L\",1,0)+IF(BA5=\"L\",1,0)+IF(BD5=\"L\",1,0)+IF(BG5=\"L\",1,0)+IF(BJ5=\"L\",1,0)+IF(BM5=\"L\",1,0)+IF(BP5=\"L\",1,0)+IF(BS5=\"L\",1,0)+IF(BV5=\"L\",1,0)+IF(BY5=\"L\",1,0)+IF(CB5=\"L\",1,0)+IF(CE5=\"L\",1,0)+IF(CH5=\"L\",1,0)+IF(CK5=\"L\",1,0)+IF(CN5=\"L\",1,0)+IF(CQ5=\"L\",1,0)+IF(CT5=\"L\",1,0)+IF(CW5=\"L\",1,0)+IF(CZ5=\"L\",1,0)+IF(DC5=\"L\",1,0)+IF(DF5=\"L\",1,0)+IF(Z5=\"L\",1,0)","v":0},{"$f":"SUM(C5)+SUM(F5)+SUM(I5)+SUM(L5)+SUM(O5)+SUM(R5)+SUM(U5)+SUM(X5)+SUM(AA5)+SUM(AD5)+SUM(AG5)+SUM(AJ5)+SUM(AM5)+SUM(AP5)+SUM(AS5)+SUM(AV5)+SUM(AY5)+SUM(BB5)+SUM(BE5)+SUM(BH5)+SUM(BK5)+SUM(BN5)+SUM(BQ5)+SUM(BT5)+SUM(BW5)+SUM(BZ5)+SUM(CC5)+SUM(CF5)+SUM(CI5)+SUM(CL5)+SUM(CO5)+SUM(CR5)+SUM(CU5)+SUM(CX5)+SUM(DA5)+SUM(DD5)","v":2},{"$f":"SUM(D5)+SUM(G5)+SUM(J5)+SUM(M5)+SUM(P5)+SUM(S5)+SUM(V5)+SUM(Y5)+SUM(AB5)+SUM(AE5)+SUM(AH5)+SUM(AK5)+SUM(AN5)+SUM(AQ5)+SUM(AT5)+SUM(AW5)+SUM(AZ5)+SUM(BC5)+SUM(BF5)+SUM(BI5)+SUM(BL5)+SUM(BO5)+SUM(BR5)+SUM(BU5)+SUM(BX5)+SUM(CA5)+SUM(CD5)+SUM(CG5)+SUM(CJ5)+SUM(CM5)+SUM(CP5)+SUM(CS5)+SUM(CV5)+SUM(CY5)+SUM(DB5)+SUM(DE5)","v":0},{"$f":"DM5-DN5","v":2},{"$f":"DJ5*3+DK5","v":3},{"$f":"SUM(DR5:DT5)","v":1},{"$f":"F40","v":0},{"$f":"G40","v":1},{"$f":"H40","v":0},{"$f":"G41","v":0},{"$f":"H41","v":0},{"$f":"DU5-DV5","v":0},{"$f":"DR5*3+DS5","v":1},{"$f":"B5","v":"Arsenal"},2,1,1,0,2,0,2,4,null,{"$f":"IF(ED5=SUM(DH5*8),\"OK\",\"!!!\")","v":"!!!"}]
[null,"Aston Villa",null,null,"",null,null,"",null,null,"",null,null,"",null,null,"",null,null,"",null,null,"",{"$f":"IF(Fixtures!$D$32=\"\",\"\",Fixtures!$D$32)","v":1},{"$f":"IF(Fixtures!$E$32=\"\",\"\",Fixtures!$E$32)","v":0},"W",null,null,"",{"$f":"IF(Fixtures!$D$42=\"\",\"\",Fixtures!$D$42)","v":""},{"$f":"IF(Fixtures!$E$42=\"\",\"\",Fixtures!$E$42)","v":""},"",null,null,"",null,null,"",{"$f":"IF(Fixtures!$D$129=\"\",\"\",Fixtures!$D$129)","v":""},{"$f":"IF(Fixtures!$E$129=\"\",\"\",Fixtures!$E$129)","v":""},"",null,null,"",null,null,"",null,null,"",null,null,"",null,null,"",{"$f":"IF(Fixtures!$D$87=\"\",\"\",Fixtures!$D$87)","v":""},{"$f":"IF(Fixtures!$E$87=\"\",\"\",Fixtures!$E$87)","v":""},"",null,null,"",null,null,"",null,null,"",null,null,"",null,null,"",null,null,"",null,null,"",null,null,"",null,null,"",null,null,"",null,null,"",null,null,"",null,null,"",null,null,"",null,null,"",null,null,"",null,null,"",{"$f":"IF(SUM(DH6*4)=DM6,\"OK\",\"!!!\")","v":"!!!"},2,1,1,0,0,1,0,1,3,1,{"$f":"I40","v":1},{"$f":"J40","v":0},{"$f":"K40","v":0},{"$f":"J41","v":3},{"$f":"K41","v":0},3,3,"Aston Villa",2,2,0,0,4,0,4,6,null,"!!!"]
[null,"Atalanta",null,null,"",{"$f":"IF(Fixtures!$D$18=\"\",\"\",Fixtures!$D$18)","v":0},{"$f":"IF(Fixtures!$E$18=\"\",\"\",Fixtures!$E$18)","v":0},"D",null,null,"",null,null,"",null,null,"",null,null,"",null,null,"",null,null,"",null,null,"",null,null,"",null,null,"",null,null,"",{"$f":"IF(Fixtures!$D$48=\"\",\"\",Fixtures!$D$48)","v":""},{"$f":"IF(Fixtures!$E$48=\"\",\"\",Fixtures!$E$48)","v":""},"",null,null,"",null,null,"",null,null,"",null,null,"",null,null,"",null,null,"",null,null,"",null,null,"",null,null,"",null,null,"",null,null,"",null,null,"",null,null,"",{"$f":"IF(Fixtures!$D$95=\"\",\"\",Fixtures!$D$95)","v":""},{"$f":"IF(Fixtures!$E$95=\"\",\"\",Fixtures!$E$95)","v":""},"",null,null,"",null,null,"",null,null,"",null,null,"",null,null,"",null,null,"",{"$f":"IF(Fixtures!$D$112=\"\",\"\",Fixtures!$D$112)","v":""},{"$f":"IF(Fixtures!$E$112=\"\",\"\",Fixtures!$E$112)","v":""},"",null,null,"",null,null,"","!!!",30,1,0,1,0,0,0,0,1,1,{"$f":"L40","v":1},{"$f":"M40","v":0},{"$f":"N40","v":0},{"$f":"M41","v":3},{"$f":"N41","v":0},3,3,"Atalanta",2,1,1,0,3,0,3,4,null,"!!!"]
[null,"Atletico Madrid",null,null,"",null,null,"",null,null,"",null,null,"",null,null,"",null,null,"",{"$f":"IF(Fixtures!$D$113=\"\",\"\",Fixtures!$D$113)","v":""},{"$f":"IF(Fixtures!$E$113=\"\",\"\",Fixtures!$E$113)","v":""},"",null,null,"",null,null,"",null,null,"",null,null,"",null,null,"",null,null,"",null,null,"",null,null,"",null,null,"",null,null,"",null,null,"",null,null,"",{"$f":"IF(Fixtures!$D$50=\"\",\"\",Fixtures!$D$50)","v":""},{"$f":"IF(Fixtures!$E$50=\"\",\"\",Fixtures!$E$50)","v":""},"",null,null,"",null,null,"",null,null,"",null,null,"",null,null,"",{"$f":"IF(Fixtures!$D$19=\"\",\"\",Fixtures!$D$19)","v":2},{"$f":"IF(Fixtures!$E$19=\"\",\"\",Fixtures!$E$19)","v":1},"W",null,null,"",null,null,"",null,null,"",null,null,"",{"$f":"IF(Fixtures!$D$102=\"\",\"\",Fixtures!$D$102)","v":""},{"$f":"IF(Fixtures!$E$102=\"\",\"\",Fixtures!$E$102)","v":""},"",null,null,"",null,null,"",null,null,"",null,null,"",null,null,"","!!!",32,1,1,0,0,2,1,1,3,1,{"$f":"O40","v":0},{"$f":"P40","v":0},{"$f":"Q40","v":1},{"$f":"P41","v":0},{"$f":"Q41","v":4},-4,0,"Atletico Madrid",2,1,0,1,2,5,-3,3,null,"!!!"]
[null,"Barcelona",null,null,"",null,null,"",null,null,"",{"$f":"IF(Fixtures!$D$133=\"\",\"\",Fixtures!$D$133)","v":""},{"$f":"IF(Fixtures!$E$133=\"\",\"\",Fixtures!$E$133)","v":""},"",null,null,"",null,null,"",null,null,"",{"$f":"IF(Fixtures!$D$52=\"\",\"\",Fixtures!$D$52)","v":""},{"$f":"IF(Fixtures!$E$52=\"\",\"\",Fixtures!$E$52)","v":""},"",null,null,"",null,null,"",null,null,"",{"$f":"IF(Fixtures!$D$79=\"\",\"\",Fixtures!$D$79)","v":""},{"$f":"IF(Fixtures!$E$79=\"\",\"\",Fixtures!$E$79)","v":""},"",null,null,"",null,null,"",null,null,"",null,null,"",null,null,"",null,null,"",null,null,"",null,null,"",null,null,"",null,null,"",null,null,"",null,null,"",null,null,"",null,null,"",null,null,"",null,null,"",null,null,"",null,null,"",null,null,"",null,null,"",null,null,"",null,null,"",null,null,"",{"$f":"IF(Fixtures!$D$26=\"\",\"\",Fixtures!$D$26)","v":5},{"$f":"IF(Fixtures!$E$26=\"\",\"\",Fixtures!$E$26)","v":0},"W","!!!",29,1,1,0,0,5,0,5,3,1,{"$f":"R40","v":0},{"$f":"S40","v":0},{"$f":"T40","v":1},{"$f":"S41","v":1},{"$f":"T41","v":2},-1,0,"Barcelona",2,1,0,1,6,2,4,3,null,"!!!"]
[null,"Bayer Leverkusen",{"$f":"IF(Fixtures!$D$24=\"\",\"\",Fixtures!$D$24)","v":1},{"$f":"IF(Fixtures!$E$24=\"\",\"\",Fixtures!$E$24)","v":0},{"$f":"IF(C10=\"\",\"\",IF(D10=\"\",\"\",IF(C10>D10,\"W\", IF(C10<D10,\"L\",IF(C10=D10,\"D\")))))","v":"W"},null,null,{"$f":"IF(F10=\"\",\"\",IF(G10=\"\",\"\",IF(F10>G10,\"W\", IF(F10<G10,\"L\",IF(F10=G10,\"D\")))))","v":""},null,null,{"$f":"IF(I10=\"\",\"\",IF(J10=\"\",\"\",IF(I10>J10,\"W\", IF(I10<J10,\"L\",IF(I10=J10,\"D\")))))","v":""},null,null,{"$f":"IF(L10=\"\",\"\",IF(M10=\"\",\"\",IF(L10>M10,\"W\", IF(L10<M10,\"L\",IF(L10=M10,\"D\")))))","v":""},null,null,{"$f":"IF(O10=\"\",\"\",IF(P10=\"\",\"\",IF(O10>P10,\"W\", IF(O10<P10,\"L\",IF(O10=P10,\"D\")))))","v":""},null,null,{"$f":"IF(R10=\"\",\"\",IF(S10=\"\",\"\",IF(R10>S10,\"W\", IF(R10<S10,\"L\",IF(R10=S10,\"D\")))))","v":""},null,null,{"$f":"IF(U10=\"\",\"\",IF(V10=\"\",\"\",IF(U10>V10,\"W\", IF(U10<V10,\"L\",IF(U10=V10,\"D\")))))","v":""},null,null,{"$f":"IF(X10=\"\",\"\",IF(Y10=\"\",\"\",IF(X10>Y10,\"W\", IF(X10<Y10,\"L\",IF(X10=Y10,\"D\")))))","v":""},null,null,{"$f":"IF(AA10=\"\",\"\",IF(AB10=\"\",\"\",IF(AA10>AB10,\"W\", IF(AA10<AB10,\"L\",IF(AA10=AB10,\"D\")))))","v":""},null,null,{"$f":"IF(AD10=\"\",\"\",IF(AE10=\"\",\"\",IF(AD10>AE10,\"W\", IF(AD10<AE10,\"L\",IF(AD10=AE10,\"D\")))))","v":""},null,null,{"$f":"IF(AG10=\"\",\"\",IF(AH10=\"\",\"\",IF(AG10>AH10,\"W\", IF(AG10<AH10,\"L\",IF(AG10=AH10,\"D\")))))","v":""},null,null,{"$f":"IF(AJ10=\"\",\"\",IF(AK10=\"\",\"\",IF(AJ10>AK10,\"W\", IF(AJ10<AK10,\"L\",IF(AJ10=AK10,\"D\")))))","v":""},null,null,{"$f":"IF(AM10=\"\",\"\",IF(AN10=\"\",\"\",IF(AM10>AN10,\"W\", IF(AM10<AN10,\"L\",IF(AM10=AN10,\"D\")))))","v":""},null,null,{"$f":"IF(AP10=\"\",\"\",IF(AQ10=\"\",\"\",IF(AP10>AQ10,\"W\", IF(AP10<AQ10,\"L\",IF(AP10=AQ10,\"D\")))))","v":""},null,null,{"$f":"IF(AS10=\"\",\"\",IF(AT10=\"\",\"\",IF(AS10>AT10,\"W\", IF(AS10<AT10,\"L\",IF(AS10=AT10,\"D\")))))","v":""},null,null,{"$f":"IF(AV10=\"\",\"\",IF(AW10=\"\",\"\",IF(AV10>AW10,\"W\", IF(AV10<AW10,\"L\",IF(AV10=AW10,\"D\")))))","v":""},null,null,{"$f":"IF(AY10=\"\",\"\",IF(AZ10=\"\",\"\",IF(AY10>AZ10,\"W\", IF(AY10<AZ10,\"L\",IF(AY10=AZ10,\"D\")))))","v":""},{"$f":"IF(Fixtures!$D$96=\"\",\"\",Fixtures!$D$96)","v":""},{"$f":"IF(Fixtures!$E$96=\"\",\"\",Fixtures!$E$96)","v":""},{"$f":"IF(BB10=\"\",\"\",IF(BC10=\"\",\"\",IF(BB10>BC10,\"W\", IF(BB10<BC10,\"L\",IF(BB10=BC10,\"D\")))))","v":""},null,null,{"$f":"IF(BE10=\"\",\"\",IF(BF10=\"\",\"\",IF(BE10>BF10,\"W\", IF(BE10<BF10,\"L\",IF(BE10=BF10,\"D\")))))","v":""},null,null,{"$f":"IF(BH10=\"\",\"\",IF(BI10=\"\",\"\",IF(BH10>BI10,\"W\", IF(BH10<BI10,\"L\",IF(BH10=BI10,\"D\")))))","v":""},null,null,{"$f":"IF(BK10=\"\",\"\",IF(BL10=\"\",\"\",IF(BK10>BL10,\"W\", IF(BK10<BL10,\"L\",IF(BK10=BL10,\"D\")))))","v":""},null,null,{"$f":"IF(BN10=\"\",\"\",IF(BO10=\"\",\"\",IF(BN10>BO10,\"W\", IF(BN10<BO10,\"L\",IF(BN10=BO10,\"D\")))))","v":""},null,null,{"$f":"IF(BQ10=\"\",\"\",IF(BR10=\"\",\"\",IF(BQ10>BR10,\"W\", IF(BQ10<BR10,\"L\",IF(BQ10=BR10,\"D\")))))","v":""},null,null,{"$f":"IF(BT10=\"\",\"\",IF(BU10=\"\",\"\",IF(BT10>BU10,\"W\", IF(BT10<BU10,\"L\",IF(BT10=BU10,\"D\")))))","v":""},null,null,{"$f":"IF(BW10=\"\",\"\",IF(BX10=\"\",\"\",IF(BW10>BX10,\"W\", IF(BW10<BX10,\"L\",IF(BW10=BX10,\"D\")))))","v":""},null,null,{"$f":"IF(BZ10=\"\",\"\",IF(CA10=\"\",\"\",IF(BZ10>CA10,\"W\", IF(BZ10<CA10,\"L\",IF(BZ10=CA10,\"D\")))))","v":""},null,null,{"$f":"IF(CC10=\"\",\"\",IF(CD10=\"\",\"\",IF(CC10>CD10,\"W\", IF(CC10<CD10,\"L\",IF(CC10=CD10,\"D\")))))","v":""},null,null,{"$f":"IF(CF10=\"\",\"\",IF(CG10=\"\",\"\",IF(CF10>CG10,\"W\", IF(CF10<CG10,\"L\",IF(CF10=CG10,\"D\")))))","v":""},{"$f":"IF(Fixtures!$D$77=\"\",\"\",Fixtures!$D$77)","v":""},{"$f":"IF(Fixtures!$E$77=\"\",\"\",Fixtures!$E$77)","v":""},{"$f":"IF(CI10=\"\",\"\",IF(CJ10=\"\",\"\",IF(CI10>CJ10,\"W\", IF(CI10<CJ10,\"L\",IF(CI10=CJ10,\"D\")))))","v":""},null,null,{"$f":"IF(CL10=\"\",\"\",IF(CM10=\"\",\"\",IF(CL10>CM10,\"W\", IF(CL10<CM10,\"L\",IF(CL10=CM10,\"D\")))))","v":""},null,null,{"$f":"IF(CO10=\"\",\"\",IF(CP10=\"\",\"\",IF(CO10>CP10,\"W\", IF(CO10<CP10,\"L\",IF(CO10=CP10,\"D\")))))","v":""},{"$f":"IF(Fixtures!$D$130=\"\",\"\",Fixtures!$D$130)","v":""},{"$f":"IF(Fixtures!$E$130=\"\",\"\",Fixtures!$E$130)","v":""},{"$f":"IF(CR10=\"\",\"\",IF(CS10=\"\",\"\",IF(CR10>CS10,\"W\", IF(CR10<CS10,\"L\",IF(CR10=CS10,\"D\")))))","v":""},null,null,{"$f":"IF(CU10=\"\",\"\",IF(CV10=\"\",\"\",IF(CU10>CV10,\"W\", IF(CU10<CV10,\"L\",IF(CU10=CV10,\"D\")))))","v":""},null,null,{"$f":"IF(CX10=\"\",\"\",IF(CY10=\"\",\"\",IF(CX10>CY10,\"W\", IF(CX10<CY10,\"L\",IF(CX10=CY10,\"D\")))))","v":""},null,null,{"$f":"IF(DA10=\"\",\"\",IF(DB10=\"\",\"\",IF(DA10>DB10,\"W\", IF(DA10<DB10,\"L\",IF(DA10=DB10,\"D\")))))","v":""},null,null,{"$f":"IF(DD10=\"\",\"\",IF(DE10=\"\",\"\",IF(DD10>DE10,\"W\", IF(DD10<DE10,\"L\",IF(DD10=DE10,\"D\")))))","v":""},"!!!",25,1,1,0,0,1,0,1,3,1,{"$f":"U40","v":1},{"$f":"V40","v":0},{"$f":"W40","v":0},{"$f":"V41","v":4},{"$f":"W41","v":0},4,3,"Bayer Leverkusen",2,2,0,0,5,0,5,6,null,"!!!"]
[null,"Bayern Munich",null,null,"",null,null,"",null,null,"",null,null,"",null,null,"",null,null,"",null,null,"",null,null,"",{"$f":"IF(Fixtures!$D$69=\"\",\"\",Fixtures!$D$69)","v":""},{"$f":"IF(Fixtures!$E$69=\"\",\"\",Fixtures!$E$69)","v":""},"",null,null,"",null,null,"",null,null,"",null,null,"",null,null,"",{"$f":"IF(Fixtures!$D$6=\"\",\"\",Fixtures!$D$6)","v":9},{"$f":"IF(Fixtures!$E$6=\"\",\"\",Fixtures!$E$6)","v":2},"W",null,null,"",null,null,"",null,null,"",null,null,"",null,null,"",null,null,"",null,null,"",null,null,"",{"$f":"IF(Fixtures!$D$80=\"\",\"\",Fixtures!$D$80)","v":""},{"$f":"IF(Fixtures!$E$80=\"\",\"\",Fixtures!$E$80)","v":""},"",null,null,"",null,null,"",null,null,"",null,null,"",null,null,"",null,null,"",{"$f":"IF(Fixtures!$D$134=\"\",\"\",Fixtures!$D$134)","v":""},{"$f":"IF(Fixtures!$E$134=\"\",\"\",Fixtures!$E$134)","v":""},"",null,null,"",null,null,"",null,null,"",null,null,"",null,null,"","!!!",7,1,1,0,0,9,2,7,3,1,{"$f":"X40","v":0},{"$f":"Y40","v":0},{"$f":"Z40","v":1},{"$f":"Y41","v":0},{"$f":"Z41","v":1},-1,0,"Bayern Munich",2,1,0,1,9,3,6,3,null,"!!!"]
[null,"Benfica",null,null,"",null,null,"",null,null,"",null,null,"",{"$f":"IF(Fixtures!$D$38=\"\",\"\",Fixtures!$D$38)","v":4},{"$f":"IF(Fixtures!$E$38=\"\",\"\",Fixtures!$E$38)","v":0},"W",{"$f":"IF(Fixtures!$D$119=\"\",\"\",Fixtures!$D$119)","v":""},{"$f":"IF(Fixtures!$E$119=\"\",\"\",Fixtures!$E$119)","v":""},"",null,null,"",null,null,"",null,null,"",{"$f":"IF(Fixtures!$D$109=\"\",\"\",Fixtures!$D$109)","v":""},{"$f":"IF(Fixtures!$E$109=\"\",\"\",Fixtures!$E$109)","v":""},"",null,null,"",null,null,"",null,null,"",null,null,"",null,null,"",{"$f":"IF(Fixtures!$D$56=\"\",\"\",Fixtures!$D$56)","v":""},{"$f":"IF(Fixtures!$E$56=\"\",\"\",Fixtures!$E$56)","v":""},"",null,null,"",null,null,"",null,null,"",null,null,"",null,null,"",null,null,"",null,null,"",null,null,"",null,null,"",null,null,"",null,null,"",null,null,"",null,null,"",null,null,"",null,null,"",null,null,"",null,null,"",null,null,"",null,null,"",null,null,"","!!!",27,1,1,0,0,4,0,4,3,1,{"$f":"AA40","v":1},{"$f":"AB40","v":0},{"$f":"AC40","v":0},{"$f":"AB41","v":2},{"$f":"AC41","v":1},1,3,"Benfica",2,2,0,0,6,1,5,6,null,"!!!"]
[null,"Bologna",null,null,"",null,null,"",null,null,"",null,null,"",null,null,"",null,null,"",null,null,"",null,null,"",null,null,"",null,null,"",{"$f":"IF(Fixtures!$D$114=\"\",\"\",Fixtures!$D$114)","v":""},{"$f":"IF(Fixtures!$E$114=\"\",\"\",Fixtures!$E$114)","v":""},"",null,null,"",null,null,"",null,null,"",null,null,"",null,null,"",null,null,"",null,null,"",null,null,"",{"$f":"IF(Fixtures!$D$88=\"\",\"\",Fixtures!$D$88)","v":""},{"$f":"IF(Fixtures!$E$88=\"\",\"\",Fixtures!$E$88)","v":""},"",null,null,"",null,null,"",{"$f":"IF(Fixtures!$D$59=\"\",\"\",Fixtures!$D$59)","v":""},{"$f":"IF(Fixtures!$E$59=\"\",\"\",Fixtures!$E$59)","v":""},"",null,null,"",null,null,"",null,null,"",null,null,"",null,null,"",null,null,"",{"$f":"IF(Fixtures!$D$10=\"\",\"\",Fixtures!$D$10)","v":0},{"$f":"IF(Fixtures!$E$10=\"\",\"\",Fixtures!$E$10)","v":0},"D",null,null,"",null,null,"",null,null,"",null,null,"",null,null,"",null,null,"","!!!",15,1,0,1,0,0,0,0,1,1,{"$f":"AD40","v":0},{"$f":"AE40","v":0},{"$f":"AF40","v":1},{"$f":"AE41","v":0},{"$f":"AF41","v":2},-2,0,"Bologna",2,0,1,1,0,2,-2,1,null,"!!!"]
[null,"Borussia Dortmund",null,null,"",null,null,"",null,null,"",null,null,"",null,null,"",{"$f":"IF(Fixtures!$D$106=\"\",\"\",Fixtures!$D$106)","v":""},{"$f":"IF(Fixtures!$E$106=\"\",\"\",Fixtures!$E$106)","v":""},"",null,null,"",null,null,"",null,null,"",null,null,"",null,null,"",null,null,"",{"$f":"IF(Fixtures!$D$25=\"\",\"\",Fixtures!$D$25)","v":7},{"$f":"IF(Fixtures!$E$25=\"\",\"\",Fixtures!$E$25)","v":1},"W",null,null,"",null,null,"",null,null,"",null,null,"",null,null,"",null,null,"",null,null,"",null,null,"",null,null,"",null,null,"",null,null,"",null,null,"",null,null,"",null,null,"",null,null,"",null,null,"",{"$f":"IF(Fixtures!$D$131=\"\",\"\",Fixtures!$D$131)","v":""},{"$f":"IF(Fixtures!$E$131=\"\",\"\",Fixtures!$E$131)","v":""},"",null,null,"",null,null,"",null,null,"",{"$f":"IF(Fixtures!$D$60=\"\",\"\",Fixtures!$D$60)","v":""},{"$f":"IF(Fixtures!$E$60=\"\",\"\",Fixtures!$E$60)","v":""},"",null,null,"",null,null,"","!!!",19,1,1,0,0,7,1,6,3,1,{"$f":"AG40","v":1},{"$f":"AH40","v":0},{"$f":"AI40","v":0},{"$f":"AH41","v":3},{"$f":"AI41","v":0},3,3,"Borussia Dortmund",2,2,0,0,10,1,9,6,null,"!!!"]
[null,"Stade Brestois 29",null,null,"",null,null,"",null,null,"",null,null,"",null,null,"",null,null,"",{"$f":"IF(Fixtures!$D$49=\"\",\"\",Fixtures!$D$49)","v":""},{"$f":"IF(Fixtures!$E$49=\"\",\"\",Fixtures!$E$49)","v":""},"",null,null,"",null,null,"",null,null,"",null,null,"",null,null,"",null,null,"",null,null,"",null,null,"",null,null,"",null,null,"",null,null,"",null,null,"",null,null,"",null,null,"",null,null,"",null,null,"",null,null,"",{"$f":"IF(Fixtures!$D$101=\"\",\"\",Fixtures!$D$101)","v":""},{"$f":"IF(Fixtures!$E$101=\"\",\"\",Fixtures!$E$101)","v":""},"",null,null,"",{"$f":"IF(Fixtures!$D$145=\"\",\"\",Fixtures!$D$145)","v":""},{"$f":"IF(Fixtures!$E$145=\"\",\"\",Fixtures!$E$145)","v":""},"",null,null,"",null,null,"",null,null,"",null,null,"",null,null,"",null,null,"",{"$f":"IF(Fixtures!$D$20=\"\",\"\",Fixtures!$D$20)","v":2},{"$f":"IF(Fixtures!$E$20=\"\",\"\",Fixtures!$E$20)","v":1},"W",null,null,"",null,null,"","!!!",34,1,1,0,0,2,1,1,3,1,{"$f":"AJ40","v":1},{"$f":"AK40","v":0},{"$f":"AL40","v":0},{"$f":"AK41","v":4},{"$f":"AL41","v":0},4,3,"Stade Brestois 29",2,2,0,0,6,1,5,6,null,"!!!"]
[null,"Celtic",null,null,"",null,null,"",null,null,"",null,null,"",null,null,"",null,null,"",null,null,"",null,null,"",null,null,"",null,null,"",null,null,"",null,null,"",null,null,"",{"$f":"IF(Fixtures!$D$89=\"\",\"\",Fixtures!$D$89)","v":""},{"$f":"IF(Fixtures!$E$89=\"\",\"\",Fixtures!$E$89)","v":""},"",null,null,"",null,null,"",null,null,"",null,null,"",null,null,"",null,null,"",null,null,"",null,null,"",null,null,"",null,null,"",null,null,"",{"$f":"IF(Fixtures!$D$61=\"\",\"\",Fixtures!$D$61)","v":""},{"$f":"IF(Fixtures!$E$61=\"\",\"\",Fixtures!$E$61)","v":""},"",null,null,"",null,null,"",null,null,"",null,null,"",{"$f":"IF(Fixtures!$D$11=\"\",\"\",Fixtures!$D$11)","v":5},{"$f":"IF(Fixtures!$E$11=\"\",\"\",Fixtures!$E$11)","v":1},"W",null,null,"",null,null,"",null,null,"",null,null,"",{"$f":"IF(Fixtures!$D$125=\"\",\"\",Fixtures!$D$125)","v":""},{"$f":"IF(Fixtures!$E$125=\"\",\"\",Fixtures!$E$125)","v":""},"","!!!",36,1,1,0,0,5,1,4,3,1,{"$f":"AM40","v":0},{"$f":"AN40","v":0},{"$f":"AO40","v":1},{"$f":"AN41","v":1},{"$f":"AO41","v":7},-6,0,"Celtic",{"$f":"SUM(DI16+DQ16)","v":2},{"$f":"SUM(DJ16+DR16)","v":1},0,1,6,8,-2,{"$f":"SUM(DP16+DX16)","v":3},null,"!!!"]
[null,"Club Brugge KV",null,null,"",null,null,"",{"$f":"IF(Fixtures!$D$66=\"\",\"\",Fixtures!$D$66)","v":""},{"$f":"IF(Fixtures!$E$66=\"\",\"\",Fixtures!$E$66)","v":""},"",null,null,"",null,null,"",null,null,"",null,null,"",null,null,"",null,null,"",null,null,"",{"$f":"IF(Fixtures!$D$12=\"\",\"\",Fixtures!$D$12)","v":0},{"$f":"IF(Fixtures!$E$12=\"\",\"\",Fixtures!$E$12)","v":3},"L",null,null,"",null,null,"",null,null,"",null,null,"",null,null,"",null,null,"",null,null,"",{"$f":"IF(Fixtures!$D$115=\"\",\"\",Fixtures!$D$115)","v":""},{"$f":"IF(Fixtures!$E$115=\"\",\"\",Fixtures!$E$115)","v":""},"",null,null,"",null,null,"",null,null,"",null,null,"",null,null,"",null,null,"",null,null,"",null,null,"",null,null,"",null,null,"",null,null,"",null,null,"",null,null,"",{"$f":"IF(Fixtures!$D$97=\"\",\"\",Fixtures!$D$97)","v":""},{"$f":"IF(Fixtures!$E$97=\"\",\"\",Fixtures!$E$97)","v":""},"",null,null,"",null,null,"",null,null,"","!!!",18,1,0,0,1,0,3,-3,0,1,{"$f":"AP40","v":1},{"$f":"AQ40","v":0},{"$f":"AR40","v":0},{"$f":"AQ41","v":1},{"$f":"AR41","v":0},1,3,"Club Brugge KV",{"$f":"SUM(DI17+DQ17)","v":2},1,0,1,1,3,-2,3,null,"!!!"]
[null,"GNK Dinamo Zagreb",{"$f":"IF(Fixtures!$D$138=\"\",\"\",Fixtures!$D$138)","v":""},{"$f":"IF(Fixtures!$E$138=\"\",\"\",Fixtures!$E$138)","v":""},"",null,null,"",null,null,"",null,null,"",null,null,"",null,null,"",null,null,"",null,null,"",null,null,"",null,null,"",{"$f":"IF(Fixtures!$D$90=\"\",\"\",Fixtures!$D$90)","v":""},{"$f":"IF(Fixtures!$E$90=\"\",\"\",Fixtures!$E$90)","v":""},"",null,null,"",{"$f":"IF(Fixtures!$D$94=\"\",\"\",Fixtures!$D$94)","v":""},{"$f":"IF(Fixtures!$E$94=\"\",\"\",Fixtures!$E$94)","v":""},"",null,null,"",null,null,"",null,null,"",null,null,"",null,null,"",null,null,"",null,null,"",null,null,"",null,null,"",{"$f":"IF(Fixtures!$D$33=\"\",\"\",Fixtures!$D$33)","v":2},{"$f":"IF(Fixtures!$E$33=\"\",\"\",Fixtures!$E$33)","v":2},"D",null,null,"",null,null,"",null,null,"",null,null,"",null,null,"",null,null,"",null,null,"",null,null,"",null,null,"",null,null,"",null,null,"",null,null,"",null,null,"","!!!",8,1,0,1,0,2,2,0,1,1,{"$f":"AS40","v":0},{"$f":"AT40","v":0},{"$f":"AU40","v":1},{"$f":"AT41","v":2},{"$f":"AU41","v":9},-7,0,"GNK Dinamo Zagreb",2,0,1,1,4,11,-7,1,null,"!!!"]
[null,"Feyenoord",null,null,"",null,null,"",null,null,"",null,null,"",null,null,"",null,null,"",{"$f":"IF(Fixtures!$D$15=\"\",\"\",Fixtures!$D$15)","v":0},{"$f":"IF(Fixtures!$E$15=\"\",\"\",Fixtures!$E$15)","v":4},"L",{"$f":"IF(Fixtures!$D$126=\"\",\"\",Fixtures!$D$126)","v":""},{"$f":"IF(Fixtures!$E$126=\"\",\"\",Fixtures!$E$126)","v":""},"",null,null,"",null,null,"",null,null,"",null,null,"",null,null,"",null,null,"",null,null,"",null,null,"",null,null,"",null,null,"",null,null,"",null,null,"",null,null,"",null,null,"",null,null,"",null,null,"",null,null,"",null,null,"",null,null,"",null,null,"",{"$f":"IF(Fixtures!$D$71=\"\",\"\",Fixtures!$D$71)","v":""},{"$f":"IF(Fixtures!$E$71=\"\",\"\",Fixtures!$E$71)","v":""},"",null,null,"",null,null,"",{"$f":"IF(Fixtures!$D$107=\"\",\"\",Fixtures!$D$107)","v":""},{"$f":"IF(Fixtures!$E$107=\"\",\"\",Fixtures!$E$107)","v":""},"",null,null,"",null,null,"",null,null,"",null,null,"","!!!",24,1,0,0,1,0,4,-4,0,1,{"$f":"AV40","v":1},{"$f":"AW40","v":0},{"$f":"AX40","v":0},{"$f":"AW41","v":3},{"$f":"AX41","v":2},1,3,"Feyenoord",2,1,0,1,3,6,-3,3,null,"!!!"]
[null,"Girona",null,null,"",{"$f":"IF(Fixtures!$D$137=\"\",\"\",Fixtures!$D$137)","v":""},{"$f":"IF(Fixtures!$E$137=\"\",\"\",Fixtures!$E$137)","v":""},"",null,null,"",null,null,"",null,null,"",null,null,"",null,null,"",null,null,"",null,null,"",null,null,"",null,null,"",null,null,"",null,null,"",null,null,"",null,null,"",{"$f":"IF(Fixtures!$D$31=\"\",\"\",Fixtures!$D$31)","v":2},{"$f":"IF(Fixtures!$E$31=\"\",\"\",Fixtures!$E$31)","v":3},"L",null,null,"",null,null,"",null,null,"",null,null,"",{"$f":"IF(Fixtures!$D$93=\"\",\"\",Fixtures!$D$93)","v":""},{"$f":"IF(Fixtures!$E$93=\"\",\"\",Fixtures!$E$93)","v":""},"",null,null,"",null,null,"",null,null,"",null,null,"",null,null,"",null,null,"",null,null,"",null,null,"",null,null,"",{"$f":"IF(Fixtures!$D$43=\"\",\"\",Fixtures!$D$43)","v":""},{"$f":"IF(Fixtures!$E$43=\"\",\"\",Fixtures!$E$43)","v":""},"",null,null,"",null,null,"",null,null,"",null,null,"",null,null,"","!!!",23,1,0,0,1,2,3,-1,0,1,{"$f":"AY40","v":0},{"$f":"AZ40","v":0},{"$f":"BA40","v":1},{"$f":"AZ41","v":0},{"$f":"BA41","v":1},-1,0,"Girona",2,0,0,2,2,4,-2,0,null,"!!!"]
[null,"Internazionale Milano",null,null,"",{"$f":"IF(Fixtures!$D$70=\"\",\"\",Fixtures!$D$70)","v":""},{"$f":"IF(Fixtures!$E$70=\"\",\"\",Fixtures!$E$70)","v":""},"",null,null,"",null,null,"",null,null,"",null,null,"",null,null,"",null,null,"",null,null,"",null,null,"",null,null,"",null,null,"",null,null,"",null,null,"",null,null,"",null,null,"",null,null,"",null,null,"",null,null,"",null,null,"",null,null,"",null,null,"",{"$f":"IF(Fixtures!$D$135=\"\",\"\",Fixtures!$D$135)","v":""},{"$f":"IF(Fixtures!$E$135=\"\",\"\",Fixtures!$E$135)","v":""},"",null,null,"",null,null,"",{"$f":"IF(Fixtures!$D$81=\"\",\"\",Fixtures!$D$81)","v":""},{"$f":"IF(Fixtures!$E$81=\"\",\"\",Fixtures!$E$81)","v":""},"",null,null,"",{"$f":"IF(Fixtures!$D$27=\"\",\"\",Fixtures!$D$27)","v":4},{"$f":"IF(Fixtures!$E$27=\"\",\"\",Fixtures!$E$27)","v":0},"W",null,null,"",null,null,"",null,null,"",null,null,"",null,null,"",null,null,"",null,null,"",null,null,"","!!!",21,1,1,0,0,4,0,4,3,1,{"$f":"BB40","v":0},{"$f":"BC40","v":1},{"$f":"BD40","v":0},{"$f":"BC41","v":0},{"$f":"BD41","v":0},0,1,"Internazionale Milano",2,1,1,0,4,0,4,4,null,"!!!"]
[null,"Juventus",null,null,"",null,null,"",null,null,"",null,null,"",null,null,"",null,null,"",null,null,"",null,null,"",{"$f":"IF(Fixtures!$D$139=\"\",\"\",Fixtures!$D$139)","v":""},{"$f":"IF(Fixtures!$E$139=\"\",\"\",Fixtures!$E$139)","v":""},"",null,null,"",null,null,"",null,null,"",null,null,"",null,null,"",null,null,"",null,null,"",null,null,"",null,null,"",null,null,"",null,null,"",null,null,"",{"$f":"IF(Fixtures!$D$108=\"\",\"\",Fixtures!$D$108)","v":""},{"$f":"IF(Fixtures!$E$108=\"\",\"\",Fixtures!$E$108)","v":""},"",null,null,"",null,null,"",{"$f":"IF(Fixtures!$D$4=\"\",\"\",Fixtures!$D$4)","v":3},{"$f":"IF(Fixtures!$E$4=\"\",\"\",Fixtures!$E$4)","v":1},"W",null,null,"",null,null,"",null,null,"",null,null,"",null,null,"",null,null,"",null,null,"",null,null,"",null,null,"",{"$f":"IF(Fixtures!$D$44=\"\",\"\",Fixtures!$D$44)","v":""},{"$f":"IF(Fixtures!$E$44=\"\",\"\",Fixtures!$E$44)","v":""},"",null,null,"","!!!",3,1,1,0,0,3,1,2,3,1,{"$f":"BE40","v":1},{"$f":"BF40","v":0},{"$f":"BG40","v":0},{"$f":"BF41","v":3},{"$f":"BG41","v":2},1,3,"Juventus",2,2,0,0,6,3,3,6,null,"!!!"]
[null,"Lille",null,null,"",null,null,"",null,null,"",null,null,"",null,null,"",null,null,"",null,null,"",null,null,"",null,null,"",null,null,"",null,null,"",null,null,"",null,null,"",null,null,"",null,null,"",{"$f":"IF(Fixtures!$D$140=\"\",\"\",Fixtures!$D$140)","v":""},{"$f":"IF(Fixtures!$E$140=\"\",\"\",Fixtures!$E$140)","v":""},"",null,null,"",null,null,"",{"$f":"IF(Fixtures!$D$63=\"\",\"\",Fixtures!$D$63)","v":""},{"$f":"IF(Fixtures!$E$63=\"\",\"\",Fixtures!$E$63)","v":""},"",null,null,"",null,null,"",null,null,"",null,null,"",null,null,"",null,null,"",null,null,"",{"$f":"IF(Fixtures!$D$35=\"\",\"\",Fixtures!$D$35)","v":1},{"$f":"IF(Fixtures!$E$35=\"\",\"\",Fixtures!$E$35)","v":0},"W",null,null,"",null,null,"",null,null,"",null,null,"",null,null,"",null,null,"",{"$f":"IF(Fixtures!$D$103=\"\",\"\",Fixtures!$D$103)","v":""},{"$f":"IF(Fixtures!$E$103=\"\",\"\",Fixtures!$E$103)","v":""},"",null,null,"",null,null,"","!!!",12,1,1,0,0,1,0,1,3,1,{"$f":"BH40","v":0},{"$f":"BI40","v":0},{"$f":"BJ40","v":1},{"$f":"BI41","v":0},{"$f":"BJ41","v":2},-2,0,"Lille",2,1,0,1,1,2,-1,3,null,"!!!"]
[null,"Liverpool",null,null,"",null,null,"",null,null,"",null,null,"",null,null,"",null,null,"",{"$f":"IF(Fixtures!$D$62=\"\",\"\",Fixtures!$D$62)","v":""},{"$f":"IF(Fixtures!$E$62=\"\",\"\",Fixtures!$E$62)","v":""},"",null,null,"",null,null,"",{"$f":"IF(Fixtures!$D$34=\"\",\"\",Fixtures!$D$34)","v":2},{"$f":"IF(Fixtures!$E$34=\"\",\"\",Fixtures!$E$34)","v":0},"W",null,null,"",null,null,"",null,null,"",null,null,"",null,null,"",null,null,"",null,null,"",null,null,"",null,null,"",{"$f":"IF(Fixtures!$D$117=\"\",\"\",Fixtures!$D$117)","v":""},{"$f":"IF(Fixtures!$E$117=\"\",\"\",Fixtures!$E$117)","v":""},"",null,null,"",null,null,"",null,null,"",null,null,"",null,null,"",null,null,"",{"$f":"IF(Fixtures!$D$91=\"\",\"\",Fixtures!$D$91)","v":""},{"$f":"IF(Fixtures!$E$91=\"\",\"\",Fixtures!$E$91)","v":""},"",null,null,"",null,null,"",null,null,"",null,null,"",null,null,"",null,null,"",null,null,"",null,null,"",null,null,"","!!!",6,1,1,0,0,2,0,2,3,1,{"$f":"BK40","v":1},{"$f":"BL40","v":0},{"$f":"BM40","v":0},{"$f":"BL41","v":3},{"$f":"BM41","v":1},2,3,"Liverpool",2,2,0,0,5,1,4,6,null,"!!!"]
[null,"Manchester City",null,null,"",null,null,"",null,null,"",null,null,"",null,null,"",null,null,"",null,null,"",null,null,"",null,null,"",null,null,"",null,null,"",null,null,"",null,null,"",{"$f":"IF(Fixtures!$D$141=\"\",\"\",Fixtures!$D$141)","v":""},{"$f":"IF(Fixtures!$E$141=\"\",\"\",Fixtures!$E$141)","v":""},"",null,null,"",{"$f":"IF(Fixtures!$D$82=\"\",\"\",Fixtures!$D$82)","v":""},{"$f":"IF(Fixtures!$E$82=\"\",\"\",Fixtures!$E$82)","v":""},"",null,null,"",{"$f":"IF(Fixtures!$D$13=\"\",\"\",Fixtures!$D$13)","v":0},{"$f":"IF(Fixtures!$E$13=\"\",\"\",Fixtures!$E$13)","v":0},"D",null,null,"",null,null,"",null,null,"",null,null,"",null,null,"",null,null,"",null,null,"",null,null,"",null,null,"",null,null,"",null,null,"",null,null,"",null,null,"",{"$f":"IF(Fixtures!$D$54=\"\",\"\",Fixtures!$D$54)","v":""},{"$f":"IF(Fixtures!$E$54=\"\",\"\",Fixtures!$E$54)","v":""},"",null,null,"",null,null,"",null,null,"",null,null,"","!!!",20,1,0,1,0,0,0,0,1,1,{"$f":"BN40","v":1},{"$f":"BO40","v":0},{"$f":"BP40","v":0},{"$f":"BO41","v":4},{"$f":"BP41","v":0},4,3,"Manchester City",2,1,1,0,4,0,4,4,null,"!!!"]
[null,"Monaco",null,null,"",null,null,"",{"$f":"IF(Fixtures!$D$111=\"\",\"\",Fixtures!$D$111)","v":""},{"$f":"IF(Fixtures!$E$111=\"\",\"\",Fixtures!$E$111)","v":""},"",null,null,"",null,null,"",{"$f":"IF(Fixtures!$D$17=\"\",\"\",Fixtures!$D$17)","v":2},{"$f":"IF(Fixtures!$E$17=\"\",\"\",Fixtures!$E$17)","v":1},"W",null,null,"",null,null,"",{"$f":"IF(Fixtures!$D$86=\"\",\"\",Fixtures!$D$86)","v":""},{"$f":"IF(Fixtures!$E$86=\"\",\"\",Fixtures!$E$86)","v":""},"",null,null,"",null,null,"",null,null,"",null,null,"",null,null,"",null,null,"",null,null,"",null,null,"",null,null,"",null,null,"",null,null,"",null,null,"",null,null,"",null,null,"",null,null,"",null,null,"",null,null,"",null,null,"",{"$f":"IF(Fixtures!$D$40=\"\",\"\",Fixtures!$D$40)","v":""},{"$f":"IF(Fixtures!$E$40=\"\",\"\",Fixtures!$E$40)","v":""},"",null,null,"",null,null,"",null,null,"",null,null,"",null,null,"",null,null,"",null,null,"",null,null,"",{"$f":"IF(SUM(DH26*4)=DM26,\"OK\",\"!!!\")","v":"!!!"},28,1,1,0,0,2,1,1,3,1,{"$f":"BQ40","v":0},{"$f":"BR40","v":1},{"$f":"BS40","v":0},{"$f":"BR41","v":2},{"$f":"BS41","v":2},0,1,"Monaco",2,1,1,0,4,3,1,4,null,"!!!"]
[null,"Paris Saint-Germain",null,null,"",null,null,"",null,null,"",null,null,"",{"$f":"IF(Fixtures!$D$73=\"\",\"\",Fixtures!$D$73)","v":""},{"$f":"IF(Fixtures!$E$73=\"\",\"\",Fixtures!$E$73)","v":""},"",null,null,"",null,null,"",null,null,"",null,null,"",null,null,"",null,null,"",null,null,"",null,null,"",null,null,"",null,null,"",null,null,"",{"$f":"IF(Fixtures!$D$14=\"\",\"\",Fixtures!$D$14)","v":1},{"$f":"IF(Fixtures!$E$14=\"\",\"\",Fixtures!$E$14)","v":0},"W",null,null,"",null,null,"",null,null,"",null,null,"",{"$f":"IF(Fixtures!$D$127=\"\",\"\",Fixtures!$D$127)","v":""},{"$f":"IF(Fixtures!$E$127=\"\",\"\",Fixtures!$E$127)","v":""},"",null,null,"",null,null,"",{"$f":"IF(Fixtures!$D$45=\"\",\"\",Fixtures!$D$45)","v":""},{"$f":"IF(Fixtures!$E$45=\"\",\"\",Fixtures!$E$45)","v":""},"",null,null,"",null,null,"",null,null,"",null,null,"",null,null,"",null,null,"",null,null,"",null,null,"",null,null,"",null,null,"",null,null,"","!!!",22,1,1,0,0,1,0,1,3,1,{"$f":"BT40","v":0},{"$f":"BU40","v":0},{"$f":"BV40","v":1},{"$f":"BU41","v":0},{"$f":"BV41","v":2},-2,0,"Paris Saint-Germain",2,1,0,1,1,2,-1,3,null,"!!!"]
[null,"PSV",null,null,"",null,null,"",null,null,"",null,null,"",null,null,"",null,null,"",null,null,"",null,null,"",null,null,"",null,null,"",null,null,"",null,null,"",null,null,"",null,null,"",null,null,"",null,null,"",{"$f":"IF(Fixtures!$D$57=\"\",\"\",Fixtures!$D$57)","v":""},{"$f":"IF(Fixtures!$E$57=\"\",\"\",Fixtures!$E$57)","v":""},"",null,null,"",null,null,"",null,null,"",{"$f":"IF(Fixtures!$D$142=\"\",\"\",Fixtures!$D$142)","v":""},{"$f":"IF(Fixtures!$E$142=\"\",\"\",Fixtures!$E$142)","v":""},"",null,null,"",null,null,"",null,null,"",null,null,"",null,null,"",null,null,"",null,null,"",null,null,"",{"$f":"IF(Fixtures!$D$92=\"\",\"\",Fixtures!$D$92)","v":""},{"$f":"IF(Fixtures!$E$92=\"\",\"\",Fixtures!$E$92)","v":""},"",null,null,"",null,null,"",{"$f":"IF(Fixtures!$D$28=\"\",\"\",Fixtures!$D$28)","v":1},{"$f":"IF(Fixtures!$E$28=\"\",\"\",Fixtures!$E$28)","v":1},"D",null,null,"",null,null,"",null,null,"","!!!",4,1,0,1,0,1,1,0,1,1,{"$f":"BW40","v":0},{"$f":"BX40","v":0},{"$f":"BY40","v":1},{"$f":"BX41","v":1},{"$f":"BY41","v":3},-2,0,"PSV",2,0,1,1,2,4,-2,1,null,"!!!"]
[null,"RB Leipzig",null,null,"",null,null,"",{"$f":"IF(Fixtures!$D$100=\"\",\"\",Fixtures!$D$100)","v":""},{"$f":"IF(Fixtures!$E$100=\"\",\"\",Fixtures!$E$100)","v":""},"",null,null,"",null,null,"",null,null,"",null,null,"",null,null,"",null,null,"",null,null,"",null,null,"",null,null,"",null,null,"",null,null,"",null,null,"",null,null,"",null,null,"",null,null,"",{"$f":"IF(Fixtures!$D$36=\"\",\"\",Fixtures!$D$36)","v":2},{"$f":"IF(Fixtures!$E$36=\"\",\"\",Fixtures!$E$36)","v":3},"L",null,null,"",{"$f":"IF(Fixtures!$D$55=\"\",\"\",Fixtures!$D$55)","v":""},{"$f":"IF(Fixtures!$E$55=\"\",\"\",Fixtures!$E$55)","v":""},"",null,null,"",null,null,"",null,null,"",null,null,"",null,null,"",null,null,"",null,null,"",null,null,"",null,null,"",null,null,"",null,null,"",{"$f":"IF(Fixtures!$D$121=\"\",\"\",Fixtures!$D$121)","v":""},{"$f":"IF(Fixtures!$E$121=\"\",\"\",Fixtures!$E$121)","v":""},"",null,null,"",null,null,"",null,null,"","!!!",33,1,0,0,1,2,3,-1,0,1,{"$f":"BZ40","v":0},{"$f":"CA40","v":0},{"$f":"CB40","v":1},{"$f":"CA41","v":1},{"$f":"CB41","v":2},-1,0,"RB Leipzig",2,0,0,2,3,5,-2,0,null,"!!!"]
[null,"Real Madrid",{"$f":"IF(Fixtures!$D$64=\"\",\"\",Fixtures!$D$64)","v":""},{"$f":"IF(Fixtures!$E$64=\"\",\"\",Fixtures!$E$64)","v":""},"",null,null,"",null,null,"",null,null,"",null,null,"",null,null,"",null,null,"",null,null,"",null,null,"",null,null,"",{"$f":"IF(Fixtures!$D$46=\"\",\"\",Fixtures!$D$46)","v":""},{"$f":"IF(Fixtures!$E$46=\"\",\"\",Fixtures!$E$46)","v":""},"",null,null,"",null,null,"",null,null,"",null,null,"",null,null,"",null,null,"",null,null,"",null,null,"",null,null,"",null,null,"",null,null,"",null,null,"",null,null,"",null,null,"",null,null,"",null,null,"",null,null,"",{"$f":"IF(Fixtures!$D$128=\"\",\"\",Fixtures!$D$128)","v":""},{"$f":"IF(Fixtures!$E$128=\"\",\"\",Fixtures!$E$128)","v":""},"",null,null,"",null,null,"",null,null,"",null,null,"",null,null,"",{"$f":"IF(Fixtures!$D$7=\"\",\"\",Fixtures!$D$7)","v":3},{"$f":"IF(Fixtures!$E$7=\"\",\"\",Fixtures!$E$7)","v":1},"W",null,null,"",{"$f":"IF(SUM(DH30*4)=DM30,\"OK\",\"!!!\")","v":"!!!"},9,1,1,0,0,3,1,2,3,1,{"$f":"CC40","v":0},{"$f":"CD40","v":0},{"$f":"CE40","v":1},{"$f":"CD41","v":0},{"$f":"CE41","v":1},-1,0,"Real Madrid",2,1,0,1,3,2,1,3,null,"!!!"]
[null,"Crvena zvezda",null,null,"",null,null,"",null,null,"",null,null,"",null,null,"",{"$f":"IF(Fixtures!$D$72=\"\",\"\",Fixtures!$D$72)","v":""},{"$f":"IF(Fixtures!$E$72=\"\",\"\",Fixtures!$E$72)","v":""},"",null,null,"",null,null,"",{"$f":"IF(Fixtures!$D$16=\"\",\"\",Fixtures!$D$16)","v":1},{"$f":"IF(Fixtures!$E$16=\"\",\"\",Fixtures!$E$16)","v":2},"L",null,null,"",null,null,"",null,null,"",null,null,"",null,null,"",null,null,"",null,null,"",null,null,"",null,null,"",null,null,"",null,null,"",null,null,"",null,null,"",null,null,"",null,null,"",{"$f":"IF(Fixtures!$D$116=\"\",\"\",Fixtures!$D$116)","v":""},{"$f":"IF(Fixtures!$E$116=\"\",\"\",Fixtures!$E$116)","v":""},"",null,null,"",null,null,"",null,null,"",null,null,"",null,null,"",null,null,"",null,null,"",null,null,"",null,null,"",{"$f":"IF(Fixtures!$D$84=\"\",\"\",Fixtures!$D$84)","v":""},{"$f":"IF(Fixtures!$E$84=\"\",\"\",Fixtures!$E$84)","v":""},"",null,null,"","!!!",26,1,0,0,1,1,2,-1,0,1,{"$f":"CF40","v":0},{"$f":"CG40","v":0},{"$f":"CH40","v":1},{"$f":"CG41","v":0},{"$f":"CH41","v":4},-4,0,"Crvena zvezda",2,0,0,2,1,6,-5,0,null,"!!!"]
[null,"Salzburg",null,null,"",null,null,"",null,null,"",null,null,"",{"$f":"IF(Fixtures!$D$136=\"\",\"\",Fixtures!$D$136)","v":""},{"$f":"IF(Fixtures!$E$136=\"\",\"\",Fixtures!$E$136)","v":""},"",null,null,"",null,null,"",null,null,"",null,null,"",null,null,"",null,null,"",{"$f":"IF(Fixtures!$D$21=\"\",\"\",Fixtures!$D$21)","v":0},{"$f":"IF(Fixtures!$E$21=\"\",\"\",Fixtures!$E$21)","v":4},"L",null,null,"",null,null,"",{"$f":"IF(Fixtures!$D$53=\"\",\"\",Fixtures!$D$53)","v":""},{"$f":"IF(Fixtures!$E$53=\"\",\"\",Fixtures!$E$53)","v":""},"",null,null,"",null,null,"",null,null,"",null,null,"",null,null,"",null,null,"",null,null,"",null,null,"",{"$f":"IF(Fixtures!$D$98=\"\",\"\",Fixtures!$D$98)","v":""},{"$f":"IF(Fixtures!$E$98=\"\",\"\",Fixtures!$E$98)","v":""},"",null,null,"",null,null,"",null,null,"",null,null,"",null,null,"",null,null,"",null,null,"",null,null,"",null,null,"",null,null,"",null,null,"",null,null,"","!!!",14,1,0,0,1,0,4,-4,0,1,{"$f":"CI40","v":0},{"$f":"CJ40","v":0},{"$f":"CK40","v":1},{"$f":"CJ41","v":0},{"$f":"CK41","v":3},-3,0,"Salzburg",2,{"$f":"SUM(DJ32+DR32)","v":0},{"$f":"SUM(DK32+DS32)","v":0},{"$f":"SUM(DL32+DT32)","v":2},{"$f":"SUM(DM32+DU32)","v":0},{"$f":"SUM(DN32+DV32)","v":7},{"$f":"SUM(DO32+DW32)","v":-7},{"$f":"SUM(DP32+DX32)","v":0},null,"!!!"]
[null,"Shakhtar Donetsk",null,null,"",null,null,"",null,null,"",{"$f":"IF(Fixtures!$D$30=\"\",\"\",Fixtures!$D$30)","v":0},{"$f":"IF(Fixtures!$E$30=\"\",\"\",Fixtures!$E$30)","v":3},"L",null,null,"",null,null,"",null,null,"",{"$f":"IF(Fixtures!$D$99=\"\",\"\",Fixtures!$D$99)","v":""},{"$f":"IF(Fixtures!$E$99=\"\",\"\",Fixtures!$E$99)","v":""},"",null,null,"",null,null,"",null,null,"",{"$f":"IF(Fixtures!$D$120=\"\",\"\",Fixtures!$D$120)","v":""},{"$f":"IF(Fixtures!$E$120=\"\",\"\",Fixtures!$E$120)","v":""},"",null,null,"",null,null,"",null,null,"",null,null,"",null,null,"",null,null,"",null,null,"",null,null,"",null,null,"",null,null,"",null,null,"",null,null,"",null,null,"",null,null,"",null,null,"",null,null,"",null,null,"",null,null,"",null,null,"",null,null,"",null,null,"",null,null,"",null,null,"",{"$f":"IF(Fixtures!$D$67=\"\",\"\",Fixtures!$D$67)","v":""},{"$f":"IF(Fixtures!$E$67=\"\",\"\",Fixtures!$E$67)","v":""},"","!!!",16,1,0,0,1,0,3,-3,0,1,{"$f":"CL40","v":0},{"$f":"CM40","v":1},{"$f":"CN40","v":0},{"$f":"CM41","v":0},{"$f":"CN41","v":0},0,1,"Shakhtar Donetsk",2,0,1,1,0,3,-3,1,null,"!!!"]
[null,"Slovan Bratislava",{"$f":"IF(Fixtures!$D$76=\"\",\"\",Fixtures!$D$76)","v":""},{"$f":"IF(Fixtures!$E$76=\"\",\"\",Fixtures!$E$76)","v":""},"",null,null,"",null,null,"",null,null,"",null,null,"",null,null,"",null,null,"",null,null,"",null,null,"",null,null,"",null,null,"",null,null,"",null,null,"",null,null,"",{"$f":"IF(Fixtures!$D$58=\"\",\"\",Fixtures!$D$58)","v":""},{"$f":"IF(Fixtures!$E$58=\"\",\"\",Fixtures!$E$58)","v":""},"",null,null,"",null,null,"",null,null,"",null,null,"",null,null,"",null,null,"",{"$f":"IF(Fixtures!$D$29=\"\",\"\",Fixtures!$D$29)","v":0},{"$f":"IF(Fixtures!$E$29=\"\",\"\",Fixtures!$E$29)","v":4},"L",null,null,"",null,null,"",null,null,"",null,null,"",null,null,"",null,null,"",null,null,"",null,null,"",null,null,"",null,null,"",null,null,"",null,null,"",{"$f":"IF(Fixtures!$D$118=\"\",\"\",Fixtures!$D$118)","v":""},{"$f":"IF(Fixtures!$E$118=\"\",\"\",Fixtures!$E$118)","v":""},"",null,null,"","!!!",17,1,0,0,1,{"$f":"SUM(C34)+SUM(F34)+SUM(I34)+SUM(L34)+SUM(O34)+SUM(R34)+SUM(U34)+SUM(X34)+SUM(AA34)+SUM(AD34)+SUM(AG34)+SUM(AJ34)+SUM(AM34)+SUM(AP34)+SUM(AS34)+SUM(AV34)+SUM(AY34)+SUM(BB34)+SUM(BE34)+SUM(BH34)+SUM(BK34)+SUM(BN34)+SUM(BQ34)+SUM(BT34)+SUM(BW34)+SUM(BZ34)+SUM(CC34)+SUM(CF34)+SUM(CI34)+SUM(CL34)+SUM(CO34)+SUM(CR34)+SUM(CU34)+SUM(CX34)+SUM(DA34)+SUM(DD34)","v":0},4,-4,0,1,{"$f":"CO40","v":0},{"$f":"CP40","v":0},{"$f":"CQ40","v":1},{"$f":"CP41","v":1},{"$f":"CQ41","v":5},-4,0,"Slovan Bratislava",2,0,0,2,1,9,-8,0,null,"!!!"]
[null,"Sparta Prague",null,null,"",null,null,"",null,null,"",null,null,"",{"$f":"IF(Fixtures!$D$75=\"\",\"\",Fixtures!$D$75)","v":""},{"$f":"IF(Fixtures!$E$75=\"\",\"\",Fixtures!$E$75)","v":""},"",null,null,"",null,null,"",null,null,"",null,null,"",null,null,"",null,null,"",{"$f":"IF(Fixtures!$D$68=\"\",\"\",Fixtures!$D$68)","v":""},{"$f":"IF(Fixtures!$E$68=\"\",\"\",Fixtures!$E$68)","v":""},"",null,null,"",null,null,"",null,null,"",null,null,"",null,null,"",{"$f":"IF(Fixtures!$D$123=\"\",\"\",Fixtures!$D$123)","v":""},{"$f":"IF(Fixtures!$E$123=\"\",\"\",Fixtures!$E$123)","v":""},"",null,null,"",null,null,"",null,null,"",null,null,"",null,null,"",null,null,"",null,null,"",null,null,"",null,null,"",null,null,"",{"$f":"IF(Fixtures!$D$9=\"\",\"\",Fixtures!$D$9)","v":3},{"$f":"IF(Fixtures!$E$9=\"\",\"\",Fixtures!$E$9)","v":0},"W",null,null,"",null,null,"",null,null,"",null,null,"",null,null,"",null,null,"",null,null,"","!!!",13,1,1,0,0,{"$f":"SUM(C35)+SUM(F35)+SUM(I35)+SUM(L35)+SUM(O35)+SUM(R35)+SUM(U35)+SUM(X35)+SUM(AA35)+SUM(AD35)+SUM(AG35)+SUM(AJ35)+SUM(AM35)+SUM(AP35)+SUM(AS35)+SUM(AV35)+SUM(AY35)+SUM(BB35)+SUM(BE35)+SUM(BH35)+SUM(BK35)+SUM(BN35)+SUM(BQ35)+SUM(BT35)+SUM(BW35)+SUM(BZ35)+SUM(CC35)+SUM(CF35)+SUM(CI35)+SUM(CL35)+SUM(CO35)+SUM(CR35)+SUM(CU35)+SUM(CX35)+SUM(DA35)+SUM(DD35)","v":3},0,3,3,1,{"$f":"CR40","v":0},{"$f":"CS40","v":1},{"$f":"CT40","v":0},{"$f":"CS41","v":1},{"$f":"CT41","v":1},0,1,"Sparta Prague",2,1,1,0,4,1,3,4,null,"!!!"]
[null,"Sporting CP",null,null,"",{"$f":"IF(Fixtures!$D$83=\"\",\"\",Fixtures!$D$83)","v":""},{"$f":"IF(Fixtures!$E$83=\"\",\"\",Fixtures!$E$83)","v":""},"",null,null,"",null,null,"",null,null,"",null,null,"",null,null,"",null,null,"",null,null,"",{"$f":"IF(Fixtures!$D$144=\"\",\"\",Fixtures!$D$144)","v":""},{"$f":"IF(Fixtures!$E$144=\"\",\"\",Fixtures!$E$144)","v":""},"",null,null,"",null,null,"",null,null,"",null,null,"",null,null,"",null,null,"",null,null,"",null,null,"",null,null,"",{"$f":"IF(Fixtures!$D$8=\"\",\"\",Fixtures!$D$8)","v":2},{"$f":"IF(Fixtures!$E$8=\"\",\"\",Fixtures!$E$8)","v":0},"W",null,null,"",{"$f":"IF(Fixtures!$D$65=\"\",\"\",Fixtures!$D$65)","v":""},{"$f":"IF(Fixtures!$E$65=\"\",\"\",Fixtures!$E$65)","v":""},"",null,null,"",null,null,"",null,null,"",null,null,"",null,null,"",null,null,"",null,null,"",null,null,"",null,null,"",null,null,"",null,null,"",null,null,"",null,null,"",null,null,"","!!!",11,1,1,0,0,2,0,2,3,1,{"$f":"CU40","v":0},{"$f":"CV40","v":1},{"$f":"CW40","v":0},{"$f":"CV41","v":1},{"$f":"CW41","v":1},0,1,"Sporting CP",2,1,1,0,3,1,2,4,null,"!!!"]
[null,"Sturm Graz",null,null,"",null,null,"",null,null,"",null,null,"",null,null,"",null,null,"",null,null,"",null,null,"",null,null,"",null,null,"",null,null,"",null,null,"",null,null,"",{"$f":"IF(Fixtures!$D$37=\"\",\"\",Fixtures!$D$37)","v":0},{"$f":"IF(Fixtures!$E$37=\"\",\"\",Fixtures!$E$37)","v":1},"L",null,null,"",null,null,"",{"$f":"IF(Fixtures!$D$85=\"\",\"\",Fixtures!$D$85)","v":""},{"$f":"IF(Fixtures!$E$85=\"\",\"\",Fixtures!$E$85)","v":""},"",null,null,"",null,null,"",null,null,"",null,null,"",null,null,"",null,null,"",null,null,"",null,null,"",{"$f":"IF(Fixtures!$D$143=\"\",\"\",Fixtures!$D$143)","v":""},{"$f":"IF(Fixtures!$E$143=\"\",\"\",Fixtures!$E$143)","v":""},"",null,null,"",null,null,"",null,null,"",null,null,"",null,null,"",null,null,"",{"$f":"IF(Fixtures!$D$47=\"\",\"\",Fixtures!$D$47)","v":""},{"$f":"IF(Fixtures!$E$47=\"\",\"\",Fixtures!$E$47)","v":""},"",null,null,"",null,null,"",null,null,"","!!!",35,1,0,0,1,0,1,-1,0,1,{"$f":"CX40","v":0},{"$f":"CY40","v":0},{"$f":"CZ40","v":1},{"$f":"CY41","v":1},{"$f":"CZ41","v":2},-1,0,"Sturm Graz",2,0,0,2,1,3,-2,0,null,"!!!"]
[null,"Stuttgart",null,null,"",null,null,"",null,null,"",{"$f":"IF(Fixtures!$D$74=\"\",\"\",Fixtures!$D$74)","v":""},{"$f":"IF(Fixtures!$E$74=\"\",\"\",Fixtures!$E$74)","v":""},"",null,null,"",null,null,"",null,null,"",null,null,"",null,null,"",null,null,"",null,null,"",null,null,"",null,null,"",null,null,"",null,null,"",null,null,"",null,null,"",null,null,"",null,null,"",null,null,"",null,null,"",null,null,"",null,null,"",{"$f":"IF(Fixtures!$D$146=\"\",\"\",Fixtures!$D$146)","v":""},{"$f":"IF(Fixtures!$E$146=\"\",\"\",Fixtures!$E$146)","v":""},"",null,null,"",null,null,"",null,null,"",null,null,"",null,null,"",null,null,"",null,null,"",{"$f":"IF(Fixtures!$D$22=\"\",\"\",Fixtures!$D$22)","v":1},{"$f":"IF(Fixtures!$E$22=\"\",\"\",Fixtures!$E$22)","v":1},"D",null,null,"",null,null,"",null,null,"",{"$f":"IF(Fixtures!$D$110=\"\",\"\",Fixtures!$D$110)","v":""},{"$f":"IF(Fixtures!$E$110=\"\",\"\",Fixtures!$E$110)","v":""},"","!!!",10,1,0,1,0,1,1,0,1,1,{"$f":"DA40","v":0},{"$f":"DB40","v":0},{"$f":"DC40","v":1},{"$f":"DB41","v":1},{"$f":"DC41","v":3},-2,0,"Stuttgart",2,0,1,1,2,4,-2,1,null,"!!!"]
[null,"Young Boys",null,null,"",null,null,"",{"$f":"IF(Fixtures!$D$3=\"\",\"\",Fixtures!$D$3)","v":0},{"$f":"IF(Fixtures!$E$3=\"\",\"\",Fixtures!$E$3)","v":3},"L",{"$f":"IF(Fixtures!$D$78=\"\",\"\",Fixtures!$D$78)","v":""},{"$f":"IF(Fixtures!$E$78=\"\",\"\",Fixtures!$E$78)","v":""},"",null,null,"",null,null,"",null,null,"",null,null,"",null,null,"",null,null,"",null,null,"",null,null,"",null,null,"",null,null,"",null,null,"",null,null,"",null,null,"",{"$f":"IF(Fixtures!$D$51=\"\",\"\",Fixtures!$D$51)","v":""},{"$f":"IF(Fixtures!$E$51=\"\",\"\",Fixtures!$E$51)","v":""},"",null,null,"",null,null,"",null,null,"",null,null,"",null,null,"",null,null,"",null,null,"",null,null,"",null,null,"",{"$f":"IF(Fixtures!$D$132=\"\",\"\",Fixtures!$D$132)","v":""},{"$f":"IF(Fixtures!$E$132=\"\",\"\",Fixtures!$E$132)","v":""},"",null,null,"",null,null,"",null,null,"",null,null,"",null,null,"",null,null,"",null,null,"",null,null,"","!!!",1,1,0,0,1,{"$f":"SUM(C39)+SUM(F39)+SUM(I39)+SUM(L39)+SUM(O39)+SUM(R39)+SUM(U39)+SUM(X39)+SUM(AA39)+SUM(AD39)+SUM(AG39)+SUM(AJ39)+SUM(AM39)+SUM(AP39)+SUM(AS39)+SUM(AV39)+SUM(AY39)+SUM(BB39)+SUM(BE39)+SUM(BH39)+SUM(BK39)+SUM(BN39)+SUM(BQ39)+SUM(BT39)+SUM(BW39)+SUM(BZ39)+SUM(CC39)+SUM(CF39)+SUM(CI39)+SUM(CL39)+SUM(CO39)+SUM(CR39)+SUM(CU39)+SUM(CX39)+SUM(DA39)+SUM(DD39)","v":0},3,-3,0,1,{"$f":"DD40","v":0},{"$f":"DE40","v":0},{"$f":"DF40","v":1},{"$f":"DE41","v":0},{"$f":"DF41","v":5},-5,0,"Young Boys",2,0,0,2,0,8,-8,0,null,"!!!"]
[null,"W/D/L",{"$f":"IF(E4=\"L\",1,0)+IF(E5=\"L\",1,0)+IF(E6=\"L\",1,0)+IF(E7=\"L\",1,0)+IF(E8=\"L\",1,0)+IF(E9=\"L\",1,0)+IF(E10=\"L\",1,0)+IF(E11=\"L\",1,0)+IF(E12=\"L\",1,0)+IF(E13=\"L\",1,0)+IF(E14=\"L\",1,0)+IF(E15=\"L\",1,0)+IF(E16=\"L\",1,0)+IF(E17=\"L\",1,0)+IF(E18=\"L\",1,0)+IF(E19=\"L\",1,0)+IF(E20=\"L\",1,0)+IF(E21=\"L\",1,0)+IF(E22=\"L\",1,0)+IF(E23=\"L\",1,0)+IF(E24=\"L\",1,0)+IF(E25=\"L\",1,0)+IF(E26=\"L\",1,0)+IF(E27=\"L\",1,0)+IF(E28=\"L\",1,0)+IF(E29=\"L\",1,0)+IF(E30=\"L\",1,0)+IF(E31=\"L\",1,0)+IF(E32=\"L\",1,0)+IF(E33=\"L\",1,0)+IF(E34=\"L\",1,0)+IF(E35=\"L\",1,0)+IF(E36=\"L\",1,0)+IF(E37=\"L\",1,0)+IF(E38=\"L\",1,0)+IF(E39=\"L\",1,0)","v":0},{"$f":"IF(E4=\"D\",1,0)+IF(E5=\"D\",1,0)+IF(E6=\"D\",1,0)+IF(E7=\"D\",1,0)+IF(E8=\"D\",1,0)+IF(E9=\"D\",1,0)+IF(E10=\"D\",1,0)+IF(E11=\"D\",1,0)+IF(E12=\"D\",1,0)+IF(E13=\"D\",1,0)+IF(E14=\"D\",1,0)+IF(E15=\"D\",1,0)+IF(E16=\"D\",1,0)+IF(E17=\"D\",1,0)+IF(E18=\"D\",1,0)+IF(E19=\"D\",1,0)+IF(E20=\"D\",1,0)+IF(E21=\"D\",1,0)+IF(E22=\"D\",1,0)+IF(E23=\"D\",1,0)+IF(E24=\"D\",1,0)+IF(E25=\"D\",1,0)+IF(E26=\"D\",1,0)+IF(E27=\"D\",1,0)+IF(E28=\"D\",1,0)+IF(E29=\"D\",1,0)+IF(E30=\"D\",1,0)+IF(E31=\"D\",1,0)+IF(E32=\"D\",1,0)+IF(E33=\"D\",1,0)+IF(E34=\"D\",1,0)+IF(E35=\"D\",1,0)+IF(E36=\"D\",1,0)+IF(E37=\"D\",1,0)+IF(E38=\"D\",1,0)+IF(E39=\"D\",1,0)","v":0},{"$f":"IF(E4=\"W\",1,0)+IF(E5=\"W\",1,0)+IF(E6=\"W\",1,0)+IF(E7=\"W\",1,0)+IF(E8=\"W\",1,0)+IF(E9=\"W\",1,0)+IF(E10=\"W\",1,0)+IF(E11=\"W\",1,0)+IF(E12=\"W\",1,0)+IF(E13=\"W\",1,0)+IF(E14=\"W\",1,0)+IF(E15=\"W\",1,0)+IF(E16=\"W\",1,0)+IF(E17=\"W\",1,0)+IF(E18=\"W\",1,0)+IF(E19=\"W\",1,0)+IF(E20=\"W\",1,0)+IF(E21=\"W\",1,0)+IF(E22=\"W\",1,0)+IF(E23=\"W\",1,0)+IF(E24=\"W\",1,0)+IF(E25=\"W\",1,0)+IF(E26=\"W\",1,0)+IF(E27=\"W\",1,0)+IF(E28=\"W\",1,0)+IF(E29=\"W\",1,0)+IF(E30=\"W\",1,0)+IF(E31=\"W\",1,0)+IF(E32=\"W\",1,0)+IF(E33=\"W\",1,0)+IF(E34=\"W\",1,0)+IF(E35=\"W\",1,0)+IF(E36=\"W\",1,0)+IF(E37=\"W\",1,0)+IF(E38=\"W\",1,0)+IF(E39=\"W\",1,0)","v":1},{"$f":"IF(H4=\"L\",1,0)+IF(H5=\"L\",1,0)+IF(H6=\"L\",1,0)+IF(H7=\"L\",1,0)+IF(H8=\"L\",1,0)+IF(H9=\"L\",1,0)+IF(H10=\"L\",1,0)+IF(H11=\"L\",1,0)+IF(H12=\"L\",1,0)+IF(H13=\"L\",1,0)+IF(H14=\"L\",1,0)+IF(H15=\"L\",1,0)+IF(H16=\"L\",1,0)+IF(H17=\"L\",1,0)+IF(H18=\"L\",1,0)+IF(H19=\"L\",1,0)+IF(H20=\"L\",1,0)+IF(H21=\"L\",1,0)+IF(H22=\"L\",1,0)+IF(H23=\"L\",1,0)+IF(H24=\"L\",1,0)+IF(H25=\"L\",1,0)+IF(H26=\"L\",1,0)+IF(H27=\"L\",1,0)+IF(H28=\"L\",1,0)+IF(H29=\"L\",1,0)+IF(H30=\"L\",1,0)+IF(H31=\"L\",1,0)+IF(H32=\"L\",1,0)+IF(H33=\"L\",1,0)+IF(H34=\"L\",1,0)+IF(H35=\"L\",1,0)+IF(H36=\"L\",1,0)+IF(H37=\"L\",1,0)+IF(H38=\"L\",1,0)+IF(H39=\"L\",1,0)","v":0},{"$f":"IF(H4=\"D\",1,0)+IF(H5=\"D\",1,0)+IF(H6=\"D\",1,0)+IF(H7=\"D\",1,0)+IF(H8=\"D\",1,0)+IF(H9=\"D\",1,0)+IF(H10=\"D\",1,0)+IF(H11=\"D\",1,0)+IF(H12=\"D\",1,0)+IF(H13=\"D\",1,0)+IF(H14=\"D\",1,0)+IF(H15=\"D\",1,0)+IF(H16=\"D\",1,0)+IF(H17=\"D\",1,0)+IF(H18=\"D\",1,0)+IF(H19=\"D\",1,0)+IF(H20=\"D\",1,0)+IF(H21=\"D\",1,0)+IF(H22=\"D\",1,0)+IF(H23=\"D\",1,0)+IF(H24=\"D\",1,0)+IF(H25=\"D\",1,0)+IF(H26=\"D\",1,0)+IF(H27=\"D\",1,0)+IF(H28=\"D\",1,0)+IF(H29=\"D\",1,0)+IF(H30=\"D\",1,0)+IF(H31=\"D\",1,0)+IF(H32=\"D\",1,0)+IF(H33=\"D\",1,0)+IF(H34=\"D\",1,0)+IF(H35=\"D\",1,0)+IF(H36=\"D\",1,0)+IF(H37=\"D\",1,0)+IF(H38=\"D\",1,0)+IF(H39=\"D\",1,0)","v":1},{"$f":"IF(H4=\"W\",1,0)+IF(H5=\"W\",1,0)+IF(H6=\"W\",1,0)+IF(H7=\"W\",1,0)+IF(H8=\"W\",1,0)+IF(H9=\"W\",1,0)+IF(H10=\"W\",1,0)+IF(H11=\"W\",1,0)+IF(H12=\"W\",1,0)+IF(H13=\"W\",1,0)+IF(H14=\"W\",1,0)+IF(H15=\"W\",1,0)+IF(H16=\"W\",1,0)+IF(H17=\"W\",1,0)+IF(H18=\"W\",1,0)+IF(H19=\"W\",1,0)+IF(H20=\"W\",1,0)+IF(H21=\"W\",1,0)+IF(H22=\"W\",1,0)+IF(H23=\"W\",1,0)+IF(H24=\"W\",1,0)+IF(H25=\"W\",1,0)+IF(H26=\"W\",1,0)+IF(H27=\"W\",1,0)+IF(H28=\"W\",1,0)+IF(H29=\"W\",1,0)+IF(H30=\"W\",1,0)+IF(H31=\"W\",1,0)+IF(H32=\"W\",1,0)+IF(H33=\"W\",1,0)+IF(H34=\"W\",1,0)+IF(H35=\"W\",1,0)+IF(H36=\"W\",1,0)+IF(H37=\"W\",1,0)+IF(H38=\"W\",1,0)+IF(H39=\"W\",1,0)","v":0},{"$f":"IF(K4=\"L\",1,0)+IF(K5=\"L\",1,0)+IF(K6=\"L\",1,0)+IF(K7=\"L\",1,0)+IF(K8=\"L\",1,0)+IF(K9=\"L\",1,0)+IF(K10=\"L\",1,0)+IF(K11=\"L\",1,0)+IF(K12=\"L\",1,0)+IF(K13=\"L\",1,0)+IF(K14=\"L\",1,0)+IF(K15=\"L\",1,0)+IF(K16=\"L\",1,0)+IF(K17=\"L\",1,0)+IF(K18=\"L\",1,0)+IF(K19=\"L\",1,0)+IF(K20=\"L\",1,0)+IF(K21=\"L\",1,0)+IF(K22=\"L\",1,0)+IF(K23=\"L\",1,0)+IF(K24=\"L\",1,0)+IF(K25=\"L\",1,0)+IF(K26=\"L\",1,0)+IF(K27=\"L\",1,0)+IF(K28=\"L\",1,0)+IF(K29=\"L\",1,0)+IF(K30=\"L\",1,0)+IF(K31=\"L\",1,0)+IF(K32=\"L\",1,0)+IF(K33=\"L\",1,0)+IF(K34=\"L\",1,0)+IF(K35=\"L\",1,0)+IF(K36=\"L\",1,0)+IF(K37=\"L\",1,0)+IF(K38=\"L\",1,0)+IF(K39=\"L\",1,0)","v":1},{"$f":"IF(K4=\"D\",1,0)+IF(K5=\"D\",1,0)+IF(K6=\"D\",1,0)+IF(K7=\"D\",1,0)+IF(K8=\"D\",1,0)+IF(K9=\"D\",1,0)+IF(K10=\"D\",1,0)+IF(K11=\"D\",1,0)+IF(K12=\"D\",1,0)+IF(K13=\"D\",1,0)+IF(K14=\"D\",1,0)+IF(K15=\"D\",1,0)+IF(K16=\"D\",1,0)+IF(K17=\"D\",1,0)+IF(K18=\"D\",1,0)+IF(K19=\"D\",1,0)+IF(K20=\"D\",1,0)+IF(K21=\"D\",1,0)+IF(K22=\"D\",1,0)+IF(K23=\"D\",1,0)+IF(K24=\"D\",1,0)+IF(K25=\"D\",1,0)+IF(K26=\"D\",1,0)+IF(K27=\"D\",1,0)+IF(K28=\"D\",1,0)+IF(K29=\"D\",1,0)+IF(K30=\"D\",1,0)+IF(K31=\"D\",1,0)+IF(K32=\"D\",1,0)+IF(K33=\"D\",1,0)+IF(K34=\"D\",1,0)+IF(K35=\"D\",1,0)+IF(K36=\"D\",1,0)+IF(K37=\"D\",1,0)+IF(K38=\"D\",1,0)+IF(K39=\"D\",1,0)","v":0},{"$f":"IF(K4=\"W\",1,0)+IF(K5=\"W\",1,0)+IF(K6=\"W\",1,0)+IF(K7=\"W\",1,0)+IF(K8=\"W\",1,0)+IF(K9=\"W\",1,0)+IF(K10=\"W\",1,0)+IF(K11=\"W\",1,0)+IF(K12=\"W\",1,0)+IF(K13=\"W\",1,0)+IF(K14=\"W\",1,0)+IF(K15=\"W\",1,0)+IF(K16=\"W\",1,0)+IF(K17=\"W\",1,0)+IF(K18=\"W\",1,0)+IF(K19=\"W\",1,0)+IF(K20=\"W\",1,0)+IF(K21=\"W\",1,0)+IF(K22=\"W\",1,0)+IF(K23=\"W\",1,0)+IF(K24=\"W\",1,0)+IF(K25=\"W\",1,0)+IF(K26=\"W\",1,0)+IF(K27=\"W\",1,0)+IF(K28=\"W\",1,0)+IF(K29=\"W\",1,0)+IF(K30=\"W\",1,0)+IF(K31=\"W\",1,0)+IF(K32=\"W\",1,0)+IF(K33=\"W\",1,0)+IF(K34=\"W\",1,0)+IF(K35=\"W\",1,0)+IF(K36=\"W\",1,0)+IF(K37=\"W\",1,0)+IF(K38=\"W\",1,0)+IF(K39=\"W\",1,0)","v":0},{"$f":"IF(N4=\"L\",1,0)+IF(N5=\"L\",1,0)+IF(N6=\"L\",1,0)+IF(N7=\"L\",1,0)+IF(N8=\"L\",1,0)+IF(N9=\"L\",1,0)+IF(N10=\"L\",1,0)+IF(N11=\"L\",1,0)+IF(N12=\"L\",1,0)+IF(N13=\"L\",1,0)+IF(N14=\"L\",1,0)+IF(N15=\"L\",1,0)+IF(N16=\"L\",1,0)+IF(N17=\"L\",1,0)+IF(N18=\"L\",1,0)+IF(N19=\"L\",1,0)+IF(N20=\"L\",1,0)+IF(N21=\"L\",1,0)+IF(N22=\"L\",1,0)+IF(N23=\"L\",1,0)+IF(N24=\"L\",1,0)+IF(N25=\"L\",1,0)+IF(N26=\"L\",1,0)+IF(N27=\"L\",1,0)+IF(N28=\"L\",1,0)+IF(N29=\"L\",1,0)+IF(N30=\"L\",1,0)+IF(N31=\"L\",1,0)+IF(N32=\"L\",1,0)+IF(N33=\"L\",1,0)+IF(N34=\"L\",1,0)+IF(N35=\"L\",1,0)+IF(N36=\"L\",1,0)+IF(N37=\"L\",1,0)+IF(N38=\"L\",1,0)+IF(N39=\"L\",1,0)","v":1},{"$f":"IF(N4=\"D\",1,0)+IF(N5=\"D\",1,0)+IF(N6=\"D\",1,0)+IF(N7=\"D\",1,0)+IF(N8=\"D\",1,0)+IF(N9=\"D\",1,0)+IF(N10=\"D\",1,0)+IF(N11=\"D\",1,0)+IF(N12=\"D\",1,0)+IF(N13=\"D\",1,0)+IF(N14=\"D\",1,0)+IF(N15=\"D\",1,0)+IF(N16=\"D\",1,0)+IF(N17=\"D\",1,0)+IF(N18=\"D\",1,0)+IF(N19=\"D\",1,0)+IF(N20=\"D\",1,0)+IF(N21=\"D\",1,0)+IF(N22=\"D\",1,0)+IF(N23=\"D\",1,0)+IF(N24=\"D\",1,0)+IF(N25=\"D\",1,0)+IF(N26=\"D\",1,0)+IF(N27=\"D\",1,0)+IF(N28=\"D\",1,0)+IF(N29=\"D\",1,0)+IF(N30=\"D\",1,0)+IF(N31=\"D\",1,0)+IF(N32=\"D\",1,0)+IF(N33=\"D\",1,0)+IF(N34=\"D\",1,0)+IF(N35=\"D\",1,0)+IF(N36=\"D\",1,0)+IF(N37=\"D\",1,0)+IF(N38=\"D\",1,0)+IF(N39=\"D\",1,0)","v":0},{"$f":"IF(N4=\"W\",1,0)+IF(N5=\"W\",1,0)+IF(N6=\"W\",1,0)+IF(N7=\"W\",1,0)+IF(N8=\"W\",1,0)+IF(N9=\"W\",1,0)+IF(N10=\"W\",1,0)+IF(N11=\"W\",1,0)+IF(N12=\"W\",1,0)+IF(N13=\"W\",1,0)+IF(N14=\"W\",1,0)+IF(N15=\"W\",1,0)+IF(N16=\"W\",1,0)+IF(N17=\"W\",1,0)+IF(N18=\"W\",1,0)+IF(N19=\"W\",1,0)+IF(N20=\"W\",1,0)+IF(N21=\"W\",1,0)+IF(N22=\"W\",1,0)+IF(N23=\"W\",1,0)+IF(N24=\"W\",1,0)+IF(N25=\"W\",1,0)+IF(N26=\"W\",1,0)+IF(N27=\"W\",1,0)+IF(N28=\"W\",1,0)+IF(N29=\"W\",1,0)+IF(N30=\"W\",1,0)+IF(N31=\"W\",1,0)+IF(N32=\"W\",1,0)+IF(N33=\"W\",1,0)+IF(N34=\"W\",1,0)+IF(N35=\"W\",1,0)+IF(N36=\"W\",1,0)+IF(N37=\"W\",1,0)+IF(N38=\"W\",1,0)+IF(N39=\"W\",1,0)","v":0},{"$f":"IF(Q4=\"L\",1,0)+IF(Q5=\"L\",1,0)+IF(Q6=\"L\",1,0)+IF(Q7=\"L\",1,0)+IF(Q8=\"L\",1,0)+IF(Q9=\"L\",1,0)+IF(Q10=\"L\",1,0)+IF(Q11=\"L\",1,0)+IF(Q12=\"L\",1,0)+IF(Q13=\"L\",1,0)+IF(Q14=\"L\",1,0)+IF(Q15=\"L\",1,0)+IF(Q16=\"L\",1,0)+IF(Q17=\"L\",1,0)+IF(Q18=\"L\",1,0)+IF(Q19=\"L\",1,0)+IF(Q20=\"L\",1,0)+IF(Q21=\"L\",1,0)+IF(Q22=\"L\",1,0)+IF(Q23=\"L\",1,0)+IF(Q24=\"L\",1,0)+IF(Q25=\"L\",1,0)+IF(Q26=\"L\",1,0)+IF(Q27=\"L\",1,0)+IF(Q28=\"L\",1,0)+IF(Q29=\"L\",1,0)+IF(Q30=\"L\",1,0)+IF(Q31=\"L\",1,0)+IF(Q32=\"L\",1,0)+IF(Q33=\"L\",1,0)+IF(Q34=\"L\",1,0)+IF(Q35=\"L\",1,0)+IF(Q36=\"L\",1,0)+IF(Q37=\"L\",1,0)+IF(Q38=\"L\",1,0)+IF(Q39=\"L\",1,0)","v":0},{"$f":"IF(Q4=\"D\",1,0)+IF(Q5=\"D\",1,0)+IF(Q6=\"D\",1,0)+IF(Q7=\"D\",1,0)+IF(Q8=\"D\",1,0)+IF(Q9=\"D\",1,0)+IF(Q10=\"D\",1,0)+IF(Q11=\"D\",1,0)+IF(Q12=\"D\",1,0)+IF(Q13=\"D\",1,0)+IF(Q14=\"D\",1,0)+IF(Q15=\"D\",1,0)+IF(Q16=\"D\",1,0)+IF(Q17=\"D\",1,0)+IF(Q18=\"D\",1,0)+IF(Q19=\"D\",1,0)+IF(Q20=\"D\",1,0)+IF(Q21=\"D\",1,0)+IF(Q22=\"D\",1,0)+IF(Q23=\"D\",1,0)+IF(Q24=\"D\",1,0)+IF(Q25=\"D\",1,0)+IF(Q26=\"D\",1,0)+IF(Q27=\"D\",1,0)+IF(Q28=\"D\",1,0)+IF(Q29=\"D\",1,0)+IF(Q30=\"D\",1,0)+IF(Q31=\"D\",1,0)+IF(Q32=\"D\",1,0)+IF(Q33=\"D\",1,0)+IF(Q34=\"D\",1,0)+IF(Q35=\"D\",1,0)+IF(Q36=\"D\",1,0)+IF(Q37=\"D\",1,0)+IF(Q38=\"D\",1,0)+IF(Q39=\"D\",1,0)","v":0},{"$f":"IF(Q4=\"W\",1,0)+IF(Q5=\"W\",1,0)+IF(Q6=\"W\",1,0)+IF(Q7=\"W\",1,0)+IF(Q8=\"W\",1,0)+IF(Q9=\"W\",1,0)+IF(Q10=\"W\",1,0)+IF(Q11=\"W\",1,0)+IF(Q12=\"W\",1,0)+IF(Q13=\"W\",1,0)+IF(Q14=\"W\",1,0)+IF(Q15=\"W\",1,0)+IF(Q16=\"W\",1,0)+IF(Q17=\"W\",1,0)+IF(Q18=\"W\",1,0)+IF(Q19=\"W\",1,0)+IF(Q20=\"W\",1,0)+IF(Q21=\"W\",1,0)+IF(Q22=\"W\",1,0)+IF(Q23=\"W\",1,0)+IF(Q24=\"W\",1,0)+IF(Q25=\"W\",1,0)+IF(Q26=\"W\",1,0)+IF(Q27=\"W\",1,0)+IF(Q28=\"W\",1,0)+IF(Q29=\"W\",1,0)+IF(Q30=\"W\",1,0)+IF(Q31=\"W\",1,0)+IF(Q32=\"W\",1,0)+IF(Q33=\"W\",1,0)+IF(Q34=\"W\",1,0)+IF(Q35=\"W\",1,0)+IF(Q36=\"W\",1,0)+IF(Q37=\"W\",1,0)+IF(Q38=\"W\",1,0)+IF(Q39=\"W\",1,0)","v":1},{"$f":"IF(T4=\"L\",1,0)+IF(T5=\"L\",1,0)+IF(T6=\"L\",1,0)+IF(T7=\"L\",1,0)+IF(T8=\"L\",1,0)+IF(T9=\"L\",1,0)+IF(T10=\"L\",1,0)+IF(T11=\"L\",1,0)+IF(T12=\"L\",1,0)+IF(T13=\"L\",1,0)+IF(T14=\"L\",1,0)+IF(T15=\"L\",1,0)+IF(T16=\"L\",1,0)+IF(T17=\"L\",1,0)+IF(T18=\"L\",1,0)+IF(T19=\"L\",1,0)+IF(T20=\"L\",1,0)+IF(T21=\"L\",1,0)+IF(T22=\"L\",1,0)+IF(T23=\"L\",1,0)+IF(T24=\"L\",1,0)+IF(T25=\"L\",1,0)+IF(T26=\"L\",1,0)+IF(T27=\"L\",1,0)+IF(T28=\"L\",1,0)+IF(T29=\"L\",1,0)+IF(T30=\"L\",1,0)+IF(T31=\"L\",1,0)+IF(T32=\"L\",1,0)+IF(T33=\"L\",1,0)+IF(T34=\"L\",1,0)+IF(T35=\"L\",1,0)+IF(T36=\"L\",1,0)+IF(T37=\"L\",1,0)+IF(T38=\"L\",1,0)+IF(T39=\"L\",1,0)","v":0},{"$f":"IF(T4=\"D\",1,0)+IF(T5=\"D\",1,0)+IF(T6=\"D\",1,0)+IF(T7=\"D\",1,0)+IF(T8=\"D\",1,0)+IF(T9=\"D\",1,0)+IF(T10=\"D\",1,0)+IF(T11=\"D\",1,0)+IF(T12=\"D\",1,0)+IF(T13=\"D\",1,0)+IF(T14=\"D\",1,0)+IF(T15=\"D\",1,0)+IF(T16=\"D\",1,0)+IF(T17=\"D\",1,0)+IF(T18=\"D\",1,0)+IF(T19=\"D\",1,0)+IF(T20=\"D\",1,0)+IF(T21=\"D\",1,0)+IF(T22=\"D\",1,0)+IF(T23=\"D\",1,0)+IF(T24=\"D\",1,0)+IF(T25=\"D\",1,0)+IF(T26=\"D\",1,0)+IF(T27=\"D\",1,0)+IF(T28=\"D\",1,0)+IF(T29=\"D\",1,0)+IF(T30=\"D\",1,0)+IF(T31=\"D\",1,0)+IF(T32=\"D\",1,0)+IF(T33=\"D\",1,0)+IF(T34=\"D\",1,0)+IF(T35=\"D\",1,0)+IF(T36=\"D\",1,0)+IF(T37=\"D\",1,0)+IF(T38=\"D\",1,0)+IF(T39=\"D\",1,0)","v":0},{"$f":"IF(T4=\"W\",1,0)+IF(T5=\"W\",1,0)+IF(T6=\"W\",1,0)+IF(T7=\"W\",1,0)+IF(T8=\"W\",1,0)+IF(T9=\"W\",1,0)+IF(T10=\"W\",1,0)+IF(T11=\"W\",1,0)+IF(T12=\"W\",1,0)+IF(T13=\"W\",1,0)+IF(T14=\"W\",1,0)+IF(T15=\"W\",1,0)+IF(T16=\"W\",1,0)+IF(T17=\"W\",1,0)+IF(T18=\"W\",1,0)+IF(T19=\"W\",1,0)+IF(T20=\"W\",1,0)+IF(T21=\"W\",1,0)+IF(T22=\"W\",1,0)+IF(T23=\"W\",1,0)+IF(T24=\"W\",1,0)+IF(T25=\"W\",1,0)+IF(T26=\"W\",1,0)+IF(T27=\"W\",1,0)+IF(T28=\"W\",1,0)+IF(T29=\"W\",1,0)+IF(T30=\"W\",1,0)+IF(T31=\"W\",1,0)+IF(T32=\"W\",1,0)+IF(T33=\"W\",1,0)+IF(T34=\"W\",1,0)+IF(T35=\"W\",1,0)+IF(T36=\"W\",1,0)+IF(T37=\"W\",1,0)+IF(T38=\"W\",1,0)+IF(T39=\"W\",1,0)","v":1},{"$f":"IF(W4=\"L\",1,0)+IF(W5=\"L\",1,0)+IF(W6=\"L\",1,0)+IF(W7=\"L\",1,0)+IF(W8=\"L\",1,0)+IF(W9=\"L\",1,0)+IF(W10=\"L\",1,0)+IF(W11=\"L\",1,0)+IF(W12=\"L\",1,0)+IF(W13=\"L\",1,0)+IF(W14=\"L\",1,0)+IF(W15=\"L\",1,0)+IF(W16=\"L\",1,0)+IF(W17=\"L\",1,0)+IF(W18=\"L\",1,0)+IF(W19=\"L\",1,0)+IF(W20=\"L\",1,0)+IF(W21=\"L\",1,0)+IF(W22=\"L\",1,0)+IF(W23=\"L\",1,0)+IF(W24=\"L\",1,0)+IF(W25=\"L\",1,0)+IF(W26=\"L\",1,0)+IF(W27=\"L\",1,0)+IF(W28=\"L\",1,0)+IF(W29=\"L\",1,0)+IF(W30=\"L\",1,0)+IF(W31=\"L\",1,0)+IF(W32=\"L\",1,0)+IF(W33=\"L\",1,0)+IF(W34=\"L\",1,0)+IF(W35=\"L\",1,0)+IF(W36=\"L\",1,0)+IF(W37=\"L\",1,0)+IF(W38=\"L\",1,0)+IF(W39=\"L\",1,0)","v":1},{"$f":"IF(W4=\"D\",1,0)+IF(W5=\"D\",1,0)+IF(W6=\"D\",1,0)+IF(W7=\"D\",1,0)+IF(W8=\"D\",1,0)+IF(W9=\"D\",1,0)+IF(W10=\"D\",1,0)+IF(W11=\"D\",1,0)+IF(W12=\"D\",1,0)+IF(W13=\"D\",1,0)+IF(W14=\"D\",1,0)+IF(W15=\"D\",1,0)+IF(W16=\"D\",1,0)+IF(W17=\"D\",1,0)+IF(W18=\"D\",1,0)+IF(W19=\"D\",1,0)+IF(W20=\"D\",1,0)+IF(W21=\"D\",1,0)+IF(W22=\"D\",1,0)+IF(W23=\"D\",1,0)+IF(W24=\"D\",1,0)+IF(W25=\"D\",1,0)+IF(W26=\"D\",1,0)+IF(W27=\"D\",1,0)+IF(W28=\"D\",1,0)+IF(W29=\"D\",1,0)+IF(W30=\"D\",1,0)+IF(W31=\"D\",1,0)+IF(W32=\"D\",1,0)+IF(W33=\"D\",1,0)+IF(W34=\"D\",1,0)+IF(W35=\"D\",1,0)+IF(W36=\"D\",1,0)+IF(W37=\"D\",1,0)+IF(W38=\"D\",1,0)+IF(W39=\"D\",1,0)","v":0},{"$f":"IF(W4=\"W\",1,0)+IF(W5=\"W\",1,0)+IF(W6=\"W\",1,0)+IF(W7=\"W\",1,0)+IF(W8=\"W\",1,0)+IF(W9=\"W\",1,0)+IF(W10=\"W\",1,0)+IF(W11=\"W\",1,0)+IF(W12=\"W\",1,0)+IF(W13=\"W\",1,0)+IF(W14=\"W\",1,0)+IF(W15=\"W\",1,0)+IF(W16=\"W\",1,0)+IF(W17=\"W\",1,0)+IF(W18=\"W\",1,0)+IF(W19=\"W\",1,0)+IF(W20=\"W\",1,0)+IF(W21=\"W\",1,0)+IF(W22=\"W\",1,0)+IF(W23=\"W\",1,0)+IF(W24=\"W\",1,0)+IF(W25=\"W\",1,0)+IF(W26=\"W\",1,0)+IF(W27=\"W\",1,0)+IF(W28=\"W\",1,0)+IF(W29=\"W\",1,0)+IF(W30=\"W\",1,0)+IF(W31=\"W\",1,0)+IF(W32=\"W\",1,0)+IF(W33=\"W\",1,0)+IF(W34=\"W\",1,0)+IF(W35=\"W\",1,0)+IF(W36=\"W\",1,0)+IF(W37=\"W\",1,0)+IF(W38=\"W\",1,0)+IF(W39=\"W\",1,0)","v":0},{"$f":"IF(Z4=\"L\",1,0)+IF(Z5=\"L\",1,0)+IF(Z6=\"L\",1,0)+IF(Z7=\"L\",1,0)+IF(Z8=\"L\",1,0)+IF(Z9=\"L\",1,0)+IF(Z10=\"L\",1,0)+IF(Z11=\"L\",1,0)+IF(Z12=\"L\",1,0)+IF(Z13=\"L\",1,0)+IF(Z14=\"L\",1,0)+IF(Z15=\"L\",1,0)+IF(Z16=\"L\",1,0)+IF(Z17=\"L\",1,0)+IF(Z18=\"L\",1,0)+IF(Z19=\"L\",1,0)+IF(Z20=\"L\",1,0)+IF(Z21=\"L\",1,0)+IF(Z22=\"L\",1,0)+IF(Z23=\"L\",1,0)+IF(Z24=\"L\",1,0)+IF(Z25=\"L\",1,0)+IF(Z26=\"L\",1,0)+IF(Z27=\"L\",1,0)+IF(Z28=\"L\",1,0)+IF(Z29=\"L\",1,0)+IF(Z30=\"L\",1,0)+IF(Z31=\"L\",1,0)+IF(Z32=\"L\",1,0)+IF(Z33=\"L\",1,0)+IF(Z34=\"L\",1,0)+IF(Z35=\"L\",1,0)+IF(Z36=\"L\",1,0)+IF(Z37=\"L\",1,0)+IF(Z38=\"L\",1,0)+IF(Z39=\"L\",1,0)","v":0},{"$f":"IF(Z4=\"D\",1,0)+IF(Z5=\"D\",1,0)+IF(Z6=\"D\",1,0)+IF(Z7=\"D\",1,0)+IF(Z8=\"D\",1,0)+IF(Z9=\"D\",1,0)+IF(Z10=\"D\",1,0)+IF(Z11=\"D\",1,0)+IF(Z12=\"D\",1,0)+IF(Z13=\"D\",1,0)+IF(Z14=\"D\",1,0)+IF(Z15=\"D\",1,0)+IF(Z16=\"D\",1,0)+IF(Z17=\"D\",1,0)+IF(Z18=\"D\",1,0)+IF(Z19=\"D\",1,0)+IF(Z20=\"D\",1,0)+IF(Z21=\"D\",1,0)+IF(Z22=\"D\",1,0)+IF(Z23=\"D\",1,0)+IF(Z24=\"D\",1,0)+IF(Z25=\"D\",1,0)+IF(Z26=\"D\",1,0)+IF(Z27=\"D\",1,0)+IF(Z28=\"D\",1,0)+IF(Z29=\"D\",1,0)+IF(Z30=\"D\",1,0)+IF(Z31=\"D\",1,0)+IF(Z32=\"D\",1,0)+IF(Z33=\"D\",1,0)+IF(Z34=\"D\",1,0)+IF(Z35=\"D\",1,0)+IF(Z36=\"D\",1,0)+IF(Z37=\"D\",1,0)+IF(Z38=\"D\",1,0)+IF(Z39=\"D\",1,0)","v":0},{"$f":"IF(Z4=\"W\",1,0)+IF(Z5=\"W\",1,0)+IF(Z6=\"W\",1,0)+IF(Z7=\"W\",1,0)+IF(Z8=\"W\",1,0)+IF(Z9=\"W\",1,0)+IF(Z10=\"W\",1,0)+IF(Z11=\"W\",1,0)+IF(Z12=\"W\",1,0)+IF(Z13=\"W\",1,0)+IF(Z14=\"W\",1,0)+IF(Z15=\"W\",1,0)+IF(Z16=\"W\",1,0)+IF(Z17=\"W\",1,0)+IF(Z18=\"W\",1,0)+IF(Z19=\"W\",1,0)+IF(Z20=\"W\",1,0)+IF(Z21=\"W\",1,0)+IF(Z22=\"W\",1,0)+IF(Z23=\"W\",1,0)+IF(Z24=\"W\",1,0)+IF(Z25=\"W\",1,0)+IF(Z26=\"W\",1,0)+IF(Z27=\"W\",1,0)+IF(Z28=\"W\",1,0)+IF(Z29=\"W\",1,0)+IF(Z30=\"W\",1,0)+IF(Z31=\"W\",1,0)+IF(Z32=\"W\",1,0)+IF(Z33=\"W\",1,0)+IF(Z34=\"W\",1,0)+IF(Z35=\"W\",1,0)+IF(Z36=\"W\",1,0)+IF(Z37=\"W\",1,0)+IF(Z38=\"W\",1,0)+IF(Z39=\"W\",1,0)","v":1},{"$f":"IF(AC4=\"L\",1,0)+IF(AC5=\"L\",1,0)+IF(AC6=\"L\",1,0)+IF(AC7=\"L\",1,0)+IF(AC8=\"L\",1,0)+IF(AC9=\"L\",1,0)+IF(AC10=\"L\",1,0)+IF(AC11=\"L\",1,0)+IF(AC12=\"L\",1,0)+IF(AC13=\"L\",1,0)+IF(AC14=\"L\",1,0)+IF(AC15=\"L\",1,0)+IF(AC16=\"L\",1,0)+IF(AC17=\"L\",1,0)+IF(AC18=\"L\",1,0)+IF(AC19=\"L\",1,0)+IF(AC20=\"L\",1,0)+IF(AC21=\"L\",1,0)+IF(AC22=\"L\",1,0)+IF(AC23=\"L\",1,0)+IF(AC24=\"L\",1,0)+IF(AC25=\"L\",1,0)+IF(AC26=\"L\",1,0)+IF(AC27=\"L\",1,0)+IF(AC28=\"L\",1,0)+IF(AC29=\"L\",1,0)+IF(AC30=\"L\",1,0)+IF(AC31=\"L\",1,0)+IF(AC32=\"L\",1,0)+IF(AC33=\"L\",1,0)+IF(AC34=\"L\",1,0)+IF(AC35=\"L\",1,0)+IF(AC36=\"L\",1,0)+IF(AC37=\"L\",1,0)+IF(AC38=\"L\",1,0)+IF(AC39=\"L\",1,0)","v":1},{"$f":"IF(AC4=\"D\",1,0)+IF(AC5=\"D\",1,0)+IF(AC6=\"D\",1,0)+IF(AC7=\"D\",1,0)+IF(AC8=\"D\",1,0)+IF(AC9=\"D\",1,0)+IF(AC10=\"D\",1,0)+IF(AC11=\"D\",1,0)+IF(AC12=\"D\",1,0)+IF(AC13=\"D\",1,0)+IF(AC14=\"D\",1,0)+IF(AC15=\"D\",1,0)+IF(AC16=\"D\",1,0)+IF(AC17=\"D\",1,0)+IF(AC18=\"D\",1,0)+IF(AC19=\"D\",1,0)+IF(AC20=\"D\",1,0)+IF(AC21=\"D\",1,0)+IF(AC22=\"D\",1,0)+IF(AC23=\"D\",1,0)+IF(AC24=\"D\",1,0)+IF(AC25=\"D\",1,0)+IF(AC26=\"D\",1,0)+IF(AC27=\"D\",1,0)+IF(AC28=\"D\",1,0)+IF(AC29=\"D\",1,0)+IF(AC30=\"D\",1,0)+IF(AC31=\"D\",1,0)+IF(AC32=\"D\",1,0)+IF(AC33=\"D\",1,0)+IF(AC34=\"D\",1,0)+IF(AC35=\"D\",1,0)+IF(AC36=\"D\",1,0)+IF(AC37=\"D\",1,0)+IF(AC38=\"D\",1,0)+IF(AC39=\"D\",1,0)","v":0},{"$f":"IF(AC4=\"W\",1,0)+IF(AC5=\"W\",1,0)+IF(AC6=\"W\",1,0)+IF(AC7=\"W\",1,0)+IF(AC8=\"W\",1,0)+IF(AC9=\"W\",1,0)+IF(AC10=\"W\",1,0)+IF(AC11=\"W\",1,0)+IF(AC12=\"W\",1,0)+IF(AC13=\"W\",1,0)+IF(AC14=\"W\",1,0)+IF(AC15=\"W\",1,0)+IF(AC16=\"W\",1,0)+IF(AC17=\"W\",1,0)+IF(AC18=\"W\",1,0)+IF(AC19=\"W\",1,0)+IF(AC20=\"W\",1,0)+IF(AC21=\"W\",1,0)+IF(AC22=\"W\",1,0)+IF(AC23=\"W\",1,0)+IF(AC24=\"W\",1,0)+IF(AC25=\"W\",1,0)+IF(AC26=\"W\",1,0)+IF(AC27=\"W\",1,0)+IF(AC28=\"W\",1,0)+IF(AC29=\"W\",1,0)+IF(AC30=\"W\",1,0)+IF(AC31=\"W\",1,0)+IF(AC32=\"W\",1,0)+IF(AC33=\"W\",1,0)+IF(AC34=\"W\",1,0)+IF(AC35=\"W\",1,0)+IF(AC36=\"W\",1,0)+IF(AC37=\"W\",1,0)+IF(AC38=\"W\",1,0)+IF(AC39=\"W\",1,0)","v":0},{"$f":"IF(AF4=\"L\",1,0)+IF(AF5=\"L\",1,0)+IF(AF6=\"L\",1,0)+IF(AF7=\"L\",1,0)+IF(AF8=\"L\",1,0)+IF(AF9=\"L\",1,0)+IF(AF10=\"L\",1,0)+IF(AF11=\"L\",1,0)+IF(AF12=\"L\",1,0)+IF(AF13=\"L\",1,0)+IF(AF14=\"L\",1,0)+IF(AF15=\"L\",1,0)+IF(AF16=\"L\",1,0)+IF(AF17=\"L\",1,0)+IF(AF18=\"L\",1,0)+IF(AF19=\"L\",1,0)+IF(AF20=\"L\",1,0)+IF(AF21=\"L\",1,0)+IF(AF22=\"L\",1,0)+IF(AF23=\"L\",1,0)+IF(AF24=\"L\",1,0)+IF(AF25=\"L\",1,0)+IF(AF26=\"L\",1,0)+IF(AF27=\"L\",1,0)+IF(AF28=\"L\",1,0)+IF(AF29=\"L\",1,0)+IF(AF30=\"L\",1,0)+IF(AF31=\"L\",1,0)+IF(AF32=\"L\",1,0)+IF(AF33=\"L\",1,0)+IF(AF34=\"L\",1,0)+IF(AF35=\"L\",1,0)+IF(AF36=\"L\",1,0)+IF(AF37=\"L\",1,0)+IF(AF38=\"L\",1,0)+IF(AF39=\"L\",1,0)","v":0},{"$f":"IF(AF4=\"D\",1,0)+IF(AF5=\"D\",1,0)+IF(AF6=\"D\",1,0)+IF(AF7=\"D\",1,0)+IF(AF8=\"D\",1,0)+IF(AF9=\"D\",1,0)+IF(AF10=\"D\",1,0)+IF(AF11=\"D\",1,0)+IF(AF12=\"D\",1,0)+IF(AF13=\"D\",1,0)+IF(AF14=\"D\",1,0)+IF(AF15=\"D\",1,0)+IF(AF16=\"D\",1,0)+IF(AF17=\"D\",1,0)+IF(AF18=\"D\",1,0)+IF(AF19=\"D\",1,0)+IF(AF20=\"D\",1,0)+IF(AF21=\"D\",1,0)+IF(AF22=\"D\",1,0)+IF(AF23=\"D\",1,0)+IF(AF24=\"D\",1,0)+IF(AF25=\"D\",1,0)+IF(AF26=\"D\",1,0)+IF(AF27=\"D\",1,0)+IF(AF28=\"D\",1,0)+IF(AF29=\"D\",1,0)+IF(AF30=\"D\",1,0)+IF(AF31=\"D\",1,0)+IF(AF32=\"D\",1,0)+IF(AF33=\"D\",1,0)+IF(AF34=\"D\",1,0)+IF(AF35=\"D\",1,0)+IF(AF36=\"D\",1,0)+IF(AF37=\"D\",1,0)+IF(AF38=\"D\",1,0)+IF(AF39=\"D\",1,0)","v":0},{"$f":"IF(AF4=\"W\",1,0)+IF(AF5=\"W\",1,0)+IF(AF6=\"W\",1,0)+IF(AF7=\"W\",1,0)+IF(AF8=\"W\",1,0)+IF(AF9=\"W\",1,0)+IF(AF10=\"W\",1,0)+IF(AF11=\"W\",1,0)+IF(AF12=\"W\",1,0)+IF(AF13=\"W\",1,0)+IF(AF14=\"W\",1,0)+IF(AF15=\"W\",1,0)+IF(AF16=\"W\",1,0)+IF(AF17=\"W\",1,0)+IF(AF18=\"W\",1,0)+IF(AF19=\"W\",1,0)+IF(AF20=\"W\",1,0)+IF(AF21=\"W\",1,0)+IF(AF22=\"W\",1,0)+IF(AF23=\"W\",1,0)+IF(AF24=\"W\",1,0)+IF(AF25=\"W\",1,0)+IF(AF26=\"W\",1,0)+IF(AF27=\"W\",1,0)+IF(AF28=\"W\",1,0)+IF(AF29=\"W\",1,0)+IF(AF30=\"W\",1,0)+IF(AF31=\"W\",1,0)+IF(AF32=\"W\",1,0)+IF(AF33=\"W\",1,0)+IF(AF34=\"W\",1,0)+IF(AF35=\"W\",1,0)+IF(AF36=\"W\",1,0)+IF(AF37=\"W\",1,0)+IF(AF38=\"W\",1,0)+IF(AF39=\"W\",1,0)","v":1},{"$f":"IF(AI4=\"L\",1,0)+IF(AI5=\"L\",1,0)+IF(AI6=\"L\",1,0)+IF(AI7=\"L\",1,0)+IF(AI8=\"L\",1,0)+IF(AI9=\"L\",1,0)+IF(AI10=\"L\",1,0)+IF(AI11=\"L\",1,0)+IF(AI12=\"L\",1,0)+IF(AI13=\"L\",1,0)+IF(AI14=\"L\",1,0)+IF(AI15=\"L\",1,0)+IF(AI16=\"L\",1,0)+IF(AI17=\"L\",1,0)+IF(AI18=\"L\",1,0)+IF(AI19=\"L\",1,0)+IF(AI20=\"L\",1,0)+IF(AI21=\"L\",1,0)+IF(AI22=\"L\",1,0)+IF(AI23=\"L\",1,0)+IF(AI24=\"L\",1,0)+IF(AI25=\"L\",1,0)+IF(AI26=\"L\",1,0)+IF(AI27=\"L\",1,0)+IF(AI28=\"L\",1,0)+IF(AI29=\"L\",1,0)+IF(AI30=\"L\",1,0)+IF(AI31=\"L\",1,0)+IF(AI32=\"L\",1,0)+IF(AI33=\"L\",1,0)+IF(AI34=\"L\",1,0)+IF(AI35=\"L\",1,0)+IF(AI36=\"L\",1,0)+IF(AI37=\"L\",1,0)+IF(AI38=\"L\",1,0)+IF(AI39=\"L\",1,0)","v":1},{"$f":"IF(AI4=\"D\",1,0)+IF(AI5=\"D\",1,0)+IF(AI6=\"D\",1,0)+IF(AI7=\"D\",1,0)+IF(AI8=\"D\",1,0)+IF(AI9=\"D\",1,0)+IF(AI10=\"D\",1,0)+IF(AI11=\"D\",1,0)+IF(AI12=\"D\",1,0)+IF(AI13=\"D\",1,0)+IF(AI14=\"D\",1,0)+IF(AI15=\"D\",1,0)+IF(AI16=\"D\",1,0)+IF(AI17=\"D\",1,0)+IF(AI18=\"D\",1,0)+IF(AI19=\"D\",1,0)+IF(AI20=\"D\",1,0)+IF(AI21=\"D\",1,0)+IF(AI22=\"D\",1,0)+IF(AI23=\"D\",1,0)+IF(AI24=\"D\",1,0)+IF(AI25=\"D\",1,0)+IF(AI26=\"D\",1,0)+IF(AI27=\"D\",1,0)+IF(AI28=\"D\",1,0)+IF(AI29=\"D\",1,0)+IF(AI30=\"D\",1,0)+IF(AI31=\"D\",1,0)+IF(AI32=\"D\",1,0)+IF(AI33=\"D\",1,0)+IF(AI34=\"D\",1,0)+IF(AI35=\"D\",1,0)+IF(AI36=\"D\",1,0)+IF(AI37=\"D\",1,0)+IF(AI38=\"D\",1,0)+IF(AI39=\"D\",1,0)","v":0},{"$f":"IF(AI4=\"W\",1,0)+IF(AI5=\"W\",1,0)+IF(AI6=\"W\",1,0)+IF(AI7=\"W\",1,0)+IF(AI8=\"W\",1,0)+IF(AI9=\"W\",1,0)+IF(AI10=\"W\",1,0)+IF(AI11=\"W\",1,0)+IF(AI12=\"W\",1,0)+IF(AI13=\"W\",1,0)+IF(AI14=\"W\",1,0)+IF(AI15=\"W\",1,0)+IF(AI16=\"W\",1,0)+IF(AI17=\"W\",1,0)+IF(AI18=\"W\",1,0)+IF(AI19=\"W\",1,0)+IF(AI20=\"W\",1,0)+IF(AI21=\"W\",1,0)+IF(AI22=\"W\",1,0)+IF(AI23=\"W\",1,0)+IF(AI24=\"W\",1,0)+IF(AI25=\"W\",1,0)+IF(AI26=\"W\",1,0)+IF(AI27=\"W\",1,0)+IF(AI28=\"W\",1,0)+IF(AI29=\"W\",1,0)+IF(AI30=\"W\",1,0)+IF(AI31=\"W\",1,0)+IF(AI32=\"W\",1,0)+IF(AI33=\"W\",1,0)+IF(AI34=\"W\",1,0)+IF(AI35=\"W\",1,0)+IF(AI36=\"W\",1,0)+IF(AI37=\"W\",1,0)+IF(AI38=\"W\",1,0)+IF(AI39=\"W\",1,0)","v":0},{"$f":"IF(AL4=\"L\",1,0)+IF(AL5=\"L\",1,0)+IF(AL6=\"L\",1,0)+IF(AL7=\"L\",1,0)+IF(AL8=\"L\",1,0)+IF(AL9=\"L\",1,0)+IF(AL10=\"L\",1,0)+IF(AL11=\"L\",1,0)+IF(AL12=\"L\",1,0)+IF(AL13=\"L\",1,0)+IF(AL14=\"L\",1,0)+IF(AL15=\"L\",1,0)+IF(AL16=\"L\",1,0)+IF(AL17=\"L\",1,0)+IF(AL18=\"L\",1,0)+IF(AL19=\"L\",1,0)+IF(AL20=\"L\",1,0)+IF(AL21=\"L\",1,0)+IF(AL22=\"L\",1,0)+IF(AL23=\"L\",1,0)+IF(AL24=\"L\",1,0)+IF(AL25=\"L\",1,0)+IF(AL26=\"L\",1,0)+IF(AL27=\"L\",1,0)+IF(AL28=\"L\",1,0)+IF(AL29=\"L\",1,0)+IF(AL30=\"L\",1,0)+IF(AL31=\"L\",1,0)+IF(AL32=\"L\",1,0)+IF(AL33=\"L\",1,0)+IF(AL34=\"L\",1,0)+IF(AL35=\"L\",1,0)+IF(AL36=\"L\",1,0)+IF(AL37=\"L\",1,0)+IF(AL38=\"L\",1,0)+IF(AL39=\"L\",1,0)","v":1},{"$f":"IF(AL4=\"D\",1,0)+IF(AL5=\"D\",1,0)+IF(AL6=\"D\",1,0)+IF(AL7=\"D\",1,0)+IF(AL8=\"D\",1,0)+IF(AL9=\"D\",1,0)+IF(AL10=\"D\",1,0)+IF(AL11=\"D\",1,0)+IF(AL12=\"D\",1,0)+IF(AL13=\"D\",1,0)+IF(AL14=\"D\",1,0)+IF(AL15=\"D\",1,0)+IF(AL16=\"D\",1,0)+IF(AL17=\"D\",1,0)+IF(AL18=\"D\",1,0)+IF(AL19=\"D\",1,0)+IF(AL20=\"D\",1,0)+IF(AL21=\"D\",1,0)+IF(AL22=\"D\",1,0)+IF(AL23=\"D\",1,0)+IF(AL24=\"D\",1,0)+IF(AL25=\"D\",1,0)+IF(AL26=\"D\",1,0)+IF(AL27=\"D\",1,0)+IF(AL28=\"D\",1,0)+IF(AL29=\"D\",1,0)+IF(AL30=\"D\",1,0)+IF(AL31=\"D\",1,0)+IF(AL32=\"D\",1,0)+IF(AL33=\"D\",1,0)+IF(AL34=\"D\",1,0)+IF(AL35=\"D\",1,0)+IF(AL36=\"D\",1,0)+IF(AL37=\"D\",1,0)+IF(AL38=\"D\",1,0)+IF(AL39=\"D\",1,0)","v":0},{"$f":"IF(AL4=\"W\",1,0)+IF(AL5=\"W\",1,0)+IF(AL6=\"W\",1,0)+IF(AL7=\"W\",1,0)+IF(AL8=\"W\",1,0)+IF(AL9=\"W\",1,0)+IF(AL10=\"W\",1,0)+IF(AL11=\"W\",1,0)+IF(AL12=\"W\",1,0)+IF(AL13=\"W\",1,0)+IF(AL14=\"W\",1,0)+IF(AL15=\"W\",1,0)+IF(AL16=\"W\",1,0)+IF(AL17=\"W\",1,0)+IF(AL18=\"W\",1,0)+IF(AL19=\"W\",1,0)+IF(AL20=\"W\",1,0)+IF(AL21=\"W\",1,0)+IF(AL22=\"W\",1,0)+IF(AL23=\"W\",1,0)+IF(AL24=\"W\",1,0)+IF(AL25=\"W\",1,0)+IF(AL26=\"W\",1,0)+IF(AL27=\"W\",1,0)+IF(AL28=\"W\",1,0)+IF(AL29=\"W\",1,0)+IF(AL30=\"W\",1,0)+IF(AL31=\"W\",1,0)+IF(AL32=\"W\",1,0)+IF(AL33=\"W\",1,0)+IF(AL34=\"W\",1,0)+IF(AL35=\"W\",1,0)+IF(AL36=\"W\",1,0)+IF(AL37=\"W\",1,0)+IF(AL38=\"W\",1,0)+IF(AL39=\"W\",1,0)","v":0},{"$f":"IF(AO4=\"L\",1,0)+IF(AO5=\"L\",1,0)+IF(AO6=\"L\",1,0)+IF(AO7=\"L\",1,0)+IF(AO8=\"L\",1,0)+IF(AO9=\"L\",1,0)+IF(AO10=\"L\",1,0)+IF(AO11=\"L\",1,0)+IF(AO12=\"L\",1,0)+IF(AO13=\"L\",1,0)+IF(AO14=\"L\",1,0)+IF(AO15=\"L\",1,0)+IF(AO16=\"L\",1,0)+IF(AO17=\"L\",1,0)+IF(AO18=\"L\",1,0)+IF(AO19=\"L\",1,0)+IF(AO20=\"L\",1,0)+IF(AO21=\"L\",1,0)+IF(AO22=\"L\",1,0)+IF(AO23=\"L\",1,0)+IF(AO24=\"L\",1,0)+IF(AO25=\"L\",1,0)+IF(AO26=\"L\",1,0)+IF(AO27=\"L\",1,0)+IF(AO28=\"L\",1,0)+IF(AO29=\"L\",1,0)+IF(AO30=\"L\",1,0)+IF(AO31=\"L\",1,0)+IF(AO32=\"L\",1,0)+IF(AO33=\"L\",1,0)+IF(AO34=\"L\",1,0)+IF(AO35=\"L\",1,0)+IF(AO36=\"L\",1,0)+IF(AO37=\"L\",1,0)+IF(AO38=\"L\",1,0)+IF(AO39=\"L\",1,0)","v":0},{"$f":"IF(AO4=\"D\",1,0)+IF(AO5=\"D\",1,0)+IF(AO6=\"D\",1,0)+IF(AO7=\"D\",1,0)+IF(AO8=\"D\",1,0)+IF(AO9=\"D\",1,0)+IF(AO10=\"D\",1,0)+IF(AO11=\"D\",1,0)+IF(AO12=\"D\",1,0)+IF(AO13=\"D\",1,0)+IF(AO14=\"D\",1,0)+IF(AO15=\"D\",1,0)+IF(AO16=\"D\",1,0)+IF(AO17=\"D\",1,0)+IF(AO18=\"D\",1,0)+IF(AO19=\"D\",1,0)+IF(AO20=\"D\",1,0)+IF(AO21=\"D\",1,0)+IF(AO22=\"D\",1,0)+IF(AO23=\"D\",1,0)+IF(AO24=\"D\",1,0)+IF(AO25=\"D\",1,0)+IF(AO26=\"D\",1,0)+IF(AO27=\"D\",1,0)+IF(AO28=\"D\",1,0)+IF(AO29=\"D\",1,0)+IF(AO30=\"D\",1,0)+IF(AO31=\"D\",1,0)+IF(AO32=\"D\",1,0)+IF(AO33=\"D\",1,0)+IF(AO34=\"D\",1,0)+IF(AO35=\"D\",1,0)+IF(AO36=\"D\",1,0)+IF(AO37=\"D\",1,0)+IF(AO38=\"D\",1,0)+IF(AO39=\"D\",1,0)","v":0},{"$f":"IF(AO4=\"W\",1,0)+IF(AO5=\"W\",1,0)+IF(AO6=\"W\",1,0)+IF(AO7=\"W\",1,0)+IF(AO8=\"W\",1,0)+IF(AO9=\"W\",1,0)+IF(AO10=\"W\",1,0)+IF(AO11=\"W\",1,0)+IF(AO12=\"W\",1,0)+IF(AO13=\"W\",1,0)+IF(AO14=\"W\",1,0)+IF(AO15=\"W\",1,0)+IF(AO16=\"W\",1,0)+IF(AO17=\"W\",1,0)+IF(AO18=\"W\",1,0)+IF(AO19=\"W\",1,0)+IF(AO20=\"W\",1,0)+IF(AO21=\"W\",1,0)+IF(AO22=\"W\",1,0)+IF(AO23=\"W\",1,0)+IF(AO24=\"W\",1,0)+IF(AO25=\"W\",1,0)+IF(AO26=\"W\",1,0)+IF(AO27=\"W\",1,0)+IF(AO28=\"W\",1,0)+IF(AO29=\"W\",1,0)+IF(AO30=\"W\",1,0)+IF(AO31=\"W\",1,0)+IF(AO32=\"W\",1,0)+IF(AO33=\"W\",1,0)+IF(AO34=\"W\",1,0)+IF(AO35=\"W\",1,0)+IF(AO36=\"W\",1,0)+IF(AO37=\"W\",1,0)+IF(AO38=\"W\",1,0)+IF(AO39=\"W\",1,0)","v":1},{"$f":"IF(AR4=\"L\",1,0)+IF(AR5=\"L\",1,0)+IF(AR6=\"L\",1,0)+IF(AR7=\"L\",1,0)+IF(AR8=\"L\",1,0)+IF(AR9=\"L\",1,0)+IF(AR10=\"L\",1,0)+IF(AR11=\"L\",1,0)+IF(AR12=\"L\",1,0)+IF(AR13=\"L\",1,0)+IF(AR14=\"L\",1,0)+IF(AR15=\"L\",1,0)+IF(AR16=\"L\",1,0)+IF(AR17=\"L\",1,0)+IF(AR18=\"L\",1,0)+IF(AR19=\"L\",1,0)+IF(AR20=\"L\",1,0)+IF(AR21=\"L\",1,0)+IF(AR22=\"L\",1,0)+IF(AR23=\"L\",1,0)+IF(AR24=\"L\",1,0)+IF(AR25=\"L\",1,0)+IF(AR26=\"L\",1,0)+IF(AR27=\"L\",1,0)+IF(AR28=\"L\",1,0)+IF(AR29=\"L\",1,0)+IF(AR30=\"L\",1,0)+IF(AR31=\"L\",1,0)+IF(AR32=\"L\",1,0)+IF(AR33=\"L\",1,0)+IF(AR34=\"L\",1,0)+IF(AR35=\"L\",1,0)+IF(AR36=\"L\",1,0)+IF(AR37=\"L\",1,0)+IF(AR38=\"L\",1,0)+IF(AR39=\"L\",1,0)","v":1},{"$f":"IF(AR4=\"D\",1,0)+IF(AR5=\"D\",1,0)+IF(AR6=\"D\",1,0)+IF(AR7=\"D\",1,0)+IF(AR8=\"D\",1,0)+IF(AR9=\"D\",1,0)+IF(AR10=\"D\",1,0)+IF(AR11=\"D\",1,0)+IF(AR12=\"D\",1,0)+IF(AR13=\"D\",1,0)+IF(AR14=\"D\",1,0)+IF(AR15=\"D\",1,0)+IF(AR16=\"D\",1,0)+IF(AR17=\"D\",1,0)+IF(AR18=\"D\",1,0)+IF(AR19=\"D\",1,0)+IF(AR20=\"D\",1,0)+IF(AR21=\"D\",1,0)+IF(AR22=\"D\",1,0)+IF(AR23=\"D\",1,0)+IF(AR24=\"D\",1,0)+IF(AR25=\"D\",1,0)+IF(AR26=\"D\",1,0)+IF(AR27=\"D\",1,0)+IF(AR28=\"D\",1,0)+IF(AR29=\"D\",1,0)+IF(AR30=\"D\",1,0)+IF(AR31=\"D\",1,0)+IF(AR32=\"D\",1,0)+IF(AR33=\"D\",1,0)+IF(AR34=\"D\",1,0)+IF(AR35=\"D\",1,0)+IF(AR36=\"D\",1,0)+IF(AR37=\"D\",1,0)+IF(AR38=\"D\",1,0)+IF(AR39=\"D\",1,0)","v":0},{"$f":"IF(AR4=\"W\",1,0)+IF(AR5=\"W\",1,0)+IF(AR6=\"W\",1,0)+IF(AR7=\"W\",1,0)+IF(AR8=\"W\",1,0)+IF(AR9=\"W\",1,0)+IF(AR10=\"W\",1,0)+IF(AR11=\"W\",1,0)+IF(AR12=\"W\",1,0)+IF(AR13=\"W\",1,0)+IF(AR14=\"W\",1,0)+IF(AR15=\"W\",1,0)+IF(AR16=\"W\",1,0)+IF(AR17=\"W\",1,0)+IF(AR18=\"W\",1,0)+IF(AR19=\"W\",1,0)+IF(AR20=\"W\",1,0)+IF(AR21=\"W\",1,0)+IF(AR22=\"W\",1,0)+IF(AR23=\"W\",1,0)+IF(AR24=\"W\",1,0)+IF(AR25=\"W\",1,0)+IF(AR26=\"W\",1,0)+IF(AR27=\"W\",1,0)+IF(AR28=\"W\",1,0)+IF(AR29=\"W\",1,0)+IF(AR30=\"W\",1,0)+IF(AR31=\"W\",1,0)+IF(AR32=\"W\",1,0)+IF(AR33=\"W\",1,0)+IF(AR34=\"W\",1,0)+IF(AR35=\"W\",1,0)+IF(AR36=\"W\",1,0)+IF(AR37=\"W\",1,0)+IF(AR38=\"W\",1,0)+IF(AR39=\"W\",1,0)","v":0},{"$f":"IF(AU4=\"L\",1,0)+IF(AU5=\"L\",1,0)+IF(AU6=\"L\",1,0)+IF(AU7=\"L\",1,0)+IF(AU8=\"L\",1,0)+IF(AU9=\"L\",1,0)+IF(AU10=\"L\",1,0)+IF(AU11=\"L\",1,0)+IF(AU12=\"L\",1,0)+IF(AU13=\"L\",1,0)+IF(AU14=\"L\",1,0)+IF(AU15=\"L\",1,0)+IF(AU16=\"L\",1,0)+IF(AU17=\"L\",1,0)+IF(AU18=\"L\",1,0)+IF(AU19=\"L\",1,0)+IF(AU20=\"L\",1,0)+IF(AU21=\"L\",1,0)+IF(AU22=\"L\",1,0)+IF(AU23=\"L\",1,0)+IF(AU24=\"L\",1,0)+IF(AU25=\"L\",1,0)+IF(AU26=\"L\",1,0)+IF(AU27=\"L\",1,0)+IF(AU28=\"L\",1,0)+IF(AU29=\"L\",1,0)+IF(AU30=\"L\",1,0)+IF(AU31=\"L\",1,0)+IF(AU32=\"L\",1,0)+IF(AU33=\"L\",1,0)+IF(AU34=\"L\",1,0)+IF(AU35=\"L\",1,0)+IF(AU36=\"L\",1,0)+IF(AU37=\"L\",1,0)+IF(AU38=\"L\",1,0)+IF(AU39=\"L\",1,0)","v":0},{"$f":"IF(AU4=\"D\",1,0)+IF(AU5=\"D\",1,0)+IF(AU6=\"D\",1,0)+IF(AU7=\"D\",1,0)+IF(AU8=\"D\",1,0)+IF(AU9=\"D\",1,0)+IF(AU10=\"D\",1,0)+IF(AU11=\"D\",1,0)+IF(AU12=\"D\",1,0)+IF(AU13=\"D\",1,0)+IF(AU14=\"D\",1,0)+IF(AU15=\"D\",1,0)+IF(AU16=\"D\",1,0)+IF(AU17=\"D\",1,0)+IF(AU18=\"D\",1,0)+IF(AU19=\"D\",1,0)+IF(AU20=\"D\",1,0)+IF(AU21=\"D\",1,0)+IF(AU22=\"D\",1,0)+IF(AU23=\"D\",1,0)+IF(AU24=\"D\",1,0)+IF(AU25=\"D\",1,0)+IF(AU26=\"D\",1,0)+IF(AU27=\"D\",1,0)+IF(AU28=\"D\",1,0)+IF(AU29=\"D\",1,0)+IF(AU30=\"D\",1,0)+IF(AU31=\"D\",1,0)+IF(AU32=\"D\",1,0)+IF(AU33=\"D\",1,0)+IF(AU34=\"D\",1,0)+IF(AU35=\"D\",1,0)+IF(AU36=\"D\",1,0)+IF(AU37=\"D\",1,0)+IF(AU38=\"D\",1,0)+IF(AU39=\"D\",1,0)","v":0},{"$f":"IF(AU4=\"W\",1,0)+IF(AU5=\"W\",1,0)+IF(AU6=\"W\",1,0)+IF(AU7=\"W\",1,0)+IF(AU8=\"W\",1,0)+IF(AU9=\"W\",1,0)+IF(AU10=\"W\",1,0)+IF(AU11=\"W\",1,0)+IF(AU12=\"W\",1,0)+IF(AU13=\"W\",1,0)+IF(AU14=\"W\",1,0)+IF(AU15=\"W\",1,0)+IF(AU16=\"W\",1,0)+IF(AU17=\"W\",1,0)+IF(AU18=\"W\",1,0)+IF(AU19=\"W\",1,0)+IF(AU20=\"W\",1,0)+IF(AU21=\"W\",1,0)+IF(AU22=\"W\",1,0)+IF(AU23=\"W\",1,0)+IF(AU24=\"W\",1,0)+IF(AU25=\"W\",1,0)+IF(AU26=\"W\",1,0)+IF(AU27=\"W\",1,0)+IF(AU28=\"W\",1,0)+IF(AU29=\"W\",1,0)+IF(AU30=\"W\",1,0)+IF(AU31=\"W\",1,0)+IF(AU32=\"W\",1,0)+IF(AU33=\"W\",1,0)+IF(AU34=\"W\",1,0)+IF(AU35=\"W\",1,0)+IF(AU36=\"W\",1,0)+IF(AU37=\"W\",1,0)+IF(AU38=\"W\",1,0)+IF(AU39=\"W\",1,0)","v":1},{"$f":"IF(AX4=\"L\",1,0)+IF(AX5=\"L\",1,0)+IF(AX6=\"L\",1,0)+IF(AX7=\"L\",1,0)+IF(AX8=\"L\",1,0)+IF(AX9=\"L\",1,0)+IF(AX10=\"L\",1,0)+IF(AX11=\"L\",1,0)+IF(AX12=\"L\",1,0)+IF(AX13=\"L\",1,0)+IF(AX14=\"L\",1,0)+IF(AX15=\"L\",1,0)+IF(AX16=\"L\",1,0)+IF(AX17=\"L\",1,0)+IF(AX18=\"L\",1,0)+IF(AX19=\"L\",1,0)+IF(AX20=\"L\",1,0)+IF(AX21=\"L\",1,0)+IF(AX22=\"L\",1,0)+IF(AX23=\"L\",1,0)+IF(AX24=\"L\",1,0)+IF(AX25=\"L\",1,0)+IF(AX26=\"L\",1,0)+IF(AX27=\"L\",1,0)+IF(AX28=\"L\",1,0)+IF(AX29=\"L\",1,0)+IF(AX30=\"L\",1,0)+IF(AX31=\"L\",1,0)+IF(AX32=\"L\",1,0)+IF(AX33=\"L\",1,0)+IF(AX34=\"L\",1,0)+IF(AX35=\"L\",1,0)+IF(AX36=\"L\",1,0)+IF(AX37=\"L\",1,0)+IF(AX38=\"L\",1,0)+IF(AX39=\"L\",1,0)","v":1},{"$f":"IF(AX4=\"D\",1,0)+IF(AX5=\"D\",1,0)+IF(AX6=\"D\",1,0)+IF(AX7=\"D\",1,0)+IF(AX8=\"D\",1,0)+IF(AX9=\"D\",1,0)+IF(AX10=\"D\",1,0)+IF(AX11=\"D\",1,0)+IF(AX12=\"D\",1,0)+IF(AX13=\"D\",1,0)+IF(AX14=\"D\",1,0)+IF(AX15=\"D\",1,0)+IF(AX16=\"D\",1,0)+IF(AX17=\"D\",1,0)+IF(AX18=\"D\",1,0)+IF(AX19=\"D\",1,0)+IF(AX20=\"D\",1,0)+IF(AX21=\"D\",1,0)+IF(AX22=\"D\",1,0)+IF(AX23=\"D\",1,0)+IF(AX24=\"D\",1,0)+IF(AX25=\"D\",1,0)+IF(AX26=\"D\",1,0)+IF(AX27=\"D\",1,0)+IF(AX28=\"D\",1,0)+IF(AX29=\"D\",1,0)+IF(AX30=\"D\",1,0)+IF(AX31=\"D\",1,0)+IF(AX32=\"D\",1,0)+IF(AX33=\"D\",1,0)+IF(AX34=\"D\",1,0)+IF(AX35=\"D\",1,0)+IF(AX36=\"D\",1,0)+IF(AX37=\"D\",1,0)+IF(AX38=\"D\",1,0)+IF(AX39=\"D\",1,0)","v":0},{"$f":"IF(AX4=\"W\",1,0)+IF(AX5=\"W\",1,0)+IF(AX6=\"W\",1,0)+IF(AX7=\"W\",1,0)+IF(AX8=\"W\",1,0)+IF(AX9=\"W\",1,0)+IF(AX10=\"W\",1,0)+IF(AX11=\"W\",1,0)+IF(AX12=\"W\",1,0)+IF(AX13=\"W\",1,0)+IF(AX14=\"W\",1,0)+IF(AX15=\"W\",1,0)+IF(AX16=\"W\",1,0)+IF(AX17=\"W\",1,0)+IF(AX18=\"W\",1,0)+IF(AX19=\"W\",1,0)+IF(AX20=\"W\",1,0)+IF(AX21=\"W\",1,0)+IF(AX22=\"W\",1,0)+IF(AX23=\"W\",1,0)+IF(AX24=\"W\",1,0)+IF(AX25=\"W\",1,0)+IF(AX26=\"W\",1,0)+IF(AX27=\"W\",1,0)+IF(AX28=\"W\",1,0)+IF(AX29=\"W\",1,0)+IF(AX30=\"W\",1,0)+IF(AX31=\"W\",1,0)+IF(AX32=\"W\",1,0)+IF(AX33=\"W\",1,0)+IF(AX34=\"W\",1,0)+IF(AX35=\"W\",1,0)+IF(AX36=\"W\",1,0)+IF(AX37=\"W\",1,0)+IF(AX38=\"W\",1,0)+IF(AX39=\"W\",1,0)","v":0},{"$f":"IF(BA4=\"L\",1,0)+IF(BA5=\"L\",1,0)+IF(BA6=\"L\",1,0)+IF(BA7=\"L\",1,0)+IF(BA8=\"L\",1,0)+IF(BA9=\"L\",1,0)+IF(BA10=\"L\",1,0)+IF(BA11=\"L\",1,0)+IF(BA12=\"L\",1,0)+IF(BA13=\"L\",1,0)+IF(BA14=\"L\",1,0)+IF(BA15=\"L\",1,0)+IF(BA16=\"L\",1,0)+IF(BA17=\"L\",1,0)+IF(BA18=\"L\",1,0)+IF(BA19=\"L\",1,0)+IF(BA20=\"L\",1,0)+IF(BA21=\"L\",1,0)+IF(BA22=\"L\",1,0)+IF(BA23=\"L\",1,0)+IF(BA24=\"L\",1,0)+IF(BA25=\"L\",1,0)+IF(BA26=\"L\",1,0)+IF(BA27=\"L\",1,0)+IF(BA28=\"L\",1,0)+IF(BA29=\"L\",1,0)+IF(BA30=\"L\",1,0)+IF(BA31=\"L\",1,0)+IF(BA32=\"L\",1,0)+IF(BA33=\"L\",1,0)+IF(BA34=\"L\",1,0)+IF(BA35=\"L\",1,0)+IF(BA36=\"L\",1,0)+IF(BA37=\"L\",1,0)+IF(BA38=\"L\",1,0)+IF(BA39=\"L\",1,0)","v":0},{"$f":"IF(BA4=\"D\",1,0)+IF(BA5=\"D\",1,0)+IF(BA6=\"D\",1,0)+IF(BA7=\"D\",1,0)+IF(BA8=\"D\",1,0)+IF(BA9=\"D\",1,0)+IF(BA10=\"D\",1,0)+IF(BA11=\"D\",1,0)+IF(BA12=\"D\",1,0)+IF(BA13=\"D\",1,0)+IF(BA14=\"D\",1,0)+IF(BA15=\"D\",1,0)+IF(BA16=\"D\",1,0)+IF(BA17=\"D\",1,0)+IF(BA18=\"D\",1,0)+IF(BA19=\"D\",1,0)+IF(BA20=\"D\",1,0)+IF(BA21=\"D\",1,0)+IF(BA22=\"D\",1,0)+IF(BA23=\"D\",1,0)+IF(BA24=\"D\",1,0)+IF(BA25=\"D\",1,0)+IF(BA26=\"D\",1,0)+IF(BA27=\"D\",1,0)+IF(BA28=\"D\",1,0)+IF(BA29=\"D\",1,0)+IF(BA30=\"D\",1,0)+IF(BA31=\"D\",1,0)+IF(BA32=\"D\",1,0)+IF(BA33=\"D\",1,0)+IF(BA34=\"D\",1,0)+IF(BA35=\"D\",1,0)+IF(BA36=\"D\",1,0)+IF(BA37=\"D\",1,0)+IF(BA38=\"D\",1,0)+IF(BA39=\"D\",1,0)","v":0},{"$f":"IF(BA4=\"W\",1,0)+IF(BA5=\"W\",1,0)+IF(BA6=\"W\",1,0)+IF(BA7=\"W\",1,0)+IF(BA8=\"W\",1,0)+IF(BA9=\"W\",1,0)+IF(BA10=\"W\",1,0)+IF(BA11=\"W\",1,0)+IF(BA12=\"W\",1,0)+IF(BA13=\"W\",1,0)+IF(BA14=\"W\",1,0)+IF(BA15=\"W\",1,0)+IF(BA16=\"W\",1,0)+IF(BA17=\"W\",1,0)+IF(BA18=\"W\",1,0)+IF(BA19=\"W\",1,0)+IF(BA20=\"W\",1,0)+IF(BA21=\"W\",1,0)+IF(BA22=\"W\",1,0)+IF(BA23=\"W\",1,0)+IF(BA24=\"W\",1,0)+IF(BA25=\"W\",1,0)+IF(BA26=\"W\",1,0)+IF(BA27=\"W\",1,0)+IF(BA28=\"W\",1,0)+IF(BA29=\"W\",1,0)+IF(BA30=\"W\",1,0)+IF(BA31=\"W\",1,0)+IF(BA32=\"W\",1,0)+IF(BA33=\"W\",1,0)+IF(BA34=\"W\",1,0)+IF(BA35=\"W\",1,0)+IF(BA36=\"W\",1,0)+IF(BA37=\"W\",1,0)+IF(BA38=\"W\",1,0)+IF(BA39=\"W\",1,0)","v":1},{"$f":"IF(BD4=\"L\",1,0)+IF(BD5=\"L\",1,0)+IF(BD6=\"L\",1,0)+IF(BD7=\"L\",1,0)+IF(BD8=\"L\",1,0)+IF(BD9=\"L\",1,0)+IF(BD10=\"L\",1,0)+IF(BD11=\"L\",1,0)+IF(BD12=\"L\",1,0)+IF(BD13=\"L\",1,0)+IF(BD14=\"L\",1,0)+IF(BD15=\"L\",1,0)+IF(BD16=\"L\",1,0)+IF(BD17=\"L\",1,0)+IF(BD18=\"L\",1,0)+IF(BD19=\"L\",1,0)+IF(BD20=\"L\",1,0)+IF(BD21=\"L\",1,0)+IF(BD22=\"L\",1,0)+IF(BD23=\"L\",1,0)+IF(BD24=\"L\",1,0)+IF(BD25=\"L\",1,0)+IF(BD26=\"L\",1,0)+IF(BD27=\"L\",1,0)+IF(BD28=\"L\",1,0)+IF(BD29=\"L\",1,0)+IF(BD30=\"L\",1,0)+IF(BD31=\"L\",1,0)+IF(BD32=\"L\",1,0)+IF(BD33=\"L\",1,0)+IF(BD34=\"L\",1,0)+IF(BD35=\"L\",1,0)+IF(BD36=\"L\",1,0)+IF(BD37=\"L\",1,0)+IF(BD38=\"L\",1,0)+IF(BD39=\"L\",1,0)","v":0},{"$f":"IF(BD4=\"D\",1,0)+IF(BD5=\"D\",1,0)+IF(BD6=\"D\",1,0)+IF(BD7=\"D\",1,0)+IF(BD8=\"D\",1,0)+IF(BD9=\"D\",1,0)+IF(BD10=\"D\",1,0)+IF(BD11=\"D\",1,0)+IF(BD12=\"D\",1,0)+IF(BD13=\"D\",1,0)+IF(BD14=\"D\",1,0)+IF(BD15=\"D\",1,0)+IF(BD16=\"D\",1,0)+IF(BD17=\"D\",1,0)+IF(BD18=\"D\",1,0)+IF(BD19=\"D\",1,0)+IF(BD20=\"D\",1,0)+IF(BD21=\"D\",1,0)+IF(BD22=\"D\",1,0)+IF(BD23=\"D\",1,0)+IF(BD24=\"D\",1,0)+IF(BD25=\"D\",1,0)+IF(BD26=\"D\",1,0)+IF(BD27=\"D\",1,0)+IF(BD28=\"D\",1,0)+IF(BD29=\"D\",1,0)+IF(BD30=\"D\",1,0)+IF(BD31=\"D\",1,0)+IF(BD32=\"D\",1,0)+IF(BD33=\"D\",1,0)+IF(BD34=\"D\",1,0)+IF(BD35=\"D\",1,0)+IF(BD36=\"D\",1,0)+IF(BD37=\"D\",1,0)+IF(BD38=\"D\",1,0)+IF(BD39=\"D\",1,0)","v":1},{"$f":"IF(BD4=\"W\",1,0)+IF(BD5=\"W\",1,0)+IF(BD6=\"W\",1,0)+IF(BD7=\"W\",1,0)+IF(BD8=\"W\",1,0)+IF(BD9=\"W\",1,0)+IF(BD10=\"W\",1,0)+IF(BD11=\"W\",1,0)+IF(BD12=\"W\",1,0)+IF(BD13=\"W\",1,0)+IF(BD14=\"W\",1,0)+IF(BD15=\"W\",1,0)+IF(BD16=\"W\",1,0)+IF(BD17=\"W\",1,0)+IF(BD18=\"W\",1,0)+IF(BD19=\"W\",1,0)+IF(BD20=\"W\",1,0)+IF(BD21=\"W\",1,0)+IF(BD22=\"W\",1,0)+IF(BD23=\"W\",1,0)+IF(BD24=\"W\",1,0)+IF(BD25=\"W\",1,0)+IF(BD26=\"W\",1,0)+IF(BD27=\"W\",1,0)+IF(BD28=\"W\",1,0)+IF(BD29=\"W\",1,0)+IF(BD30=\"W\",1,0)+IF(BD31=\"W\",1,0)+IF(BD32=\"W\",1,0)+IF(BD33=\"W\",1,0)+IF(BD34=\"W\",1,0)+IF(BD35=\"W\",1,0)+IF(BD36=\"W\",1,0)+IF(BD37=\"W\",1,0)+IF(BD38=\"W\",1,0)+IF(BD39=\"W\",1,0)","v":0},{"$f":"IF(BG4=\"L\",1,0)+IF(BG5=\"L\",1,0)+IF(BG6=\"L\",1,0)+IF(BG7=\"L\",1,0)+IF(BG8=\"L\",1,0)+IF(BG9=\"L\",1,0)+IF(BG10=\"L\",1,0)+IF(BG11=\"L\",1,0)+IF(BG12=\"L\",1,0)+IF(BG13=\"L\",1,0)+IF(BG14=\"L\",1,0)+IF(BG15=\"L\",1,0)+IF(BG16=\"L\",1,0)+IF(BG17=\"L\",1,0)+IF(BG18=\"L\",1,0)+IF(BG19=\"L\",1,0)+IF(BG20=\"L\",1,0)+IF(BG21=\"L\",1,0)+IF(BG22=\"L\",1,0)+IF(BG23=\"L\",1,0)+IF(BG24=\"L\",1,0)+IF(BG25=\"L\",1,0)+IF(BG26=\"L\",1,0)+IF(BG27=\"L\",1,0)+IF(BG28=\"L\",1,0)+IF(BG29=\"L\",1,0)+IF(BG30=\"L\",1,0)+IF(BG31=\"L\",1,0)+IF(BG32=\"L\",1,0)+IF(BG33=\"L\",1,0)+IF(BG34=\"L\",1,0)+IF(BG35=\"L\",1,0)+IF(BG36=\"L\",1,0)+IF(BG37=\"L\",1,0)+IF(BG38=\"L\",1,0)+IF(BG39=\"L\",1,0)","v":1},{"$f":"IF(BG4=\"D\",1,0)+IF(BG5=\"D\",1,0)+IF(BG6=\"D\",1,0)+IF(BG7=\"D\",1,0)+IF(BG8=\"D\",1,0)+IF(BG9=\"D\",1,0)+IF(BG10=\"D\",1,0)+IF(BG11=\"D\",1,0)+IF(BG12=\"D\",1,0)+IF(BG13=\"D\",1,0)+IF(BG14=\"D\",1,0)+IF(BG15=\"D\",1,0)+IF(BG16=\"D\",1,0)+IF(BG17=\"D\",1,0)+IF(BG18=\"D\",1,0)+IF(BG19=\"D\",1,0)+IF(BG20=\"D\",1,0)+IF(BG21=\"D\",1,0)+IF(BG22=\"D\",1,0)+IF(BG23=\"D\",1,0)+IF(BG24=\"D\",1,0)+IF(BG25=\"D\",1,0)+IF(BG26=\"D\",1,0)+IF(BG27=\"D\",1,0)+IF(BG28=\"D\",1,0)+IF(BG29=\"D\",1,0)+IF(BG30=\"D\",1,0)+IF(BG31=\"D\",1,0)+IF(BG32=\"D\",1,0)+IF(BG33=\"D\",1,0)+IF(BG34=\"D\",1,0)+IF(BG35=\"D\",1,0)+IF(BG36=\"D\",1,0)+IF(BG37=\"D\",1,0)+IF(BG38=\"D\",1,0)+IF(BG39=\"D\",1,0)","v":0},{"$f":"IF(BG4=\"W\",1,0)+IF(BG5=\"W\",1,0)+IF(BG6=\"W\",1,0)+IF(BG7=\"W\",1,0)+IF(BG8=\"W\",1,0)+IF(BG9=\"W\",1,0)+IF(BG10=\"W\",1,0)+IF(BG11=\"W\",1,0)+IF(BG12=\"W\",1,0)+IF(BG13=\"W\",1,0)+IF(BG14=\"W\",1,0)+IF(BG15=\"W\",1,0)+IF(BG16=\"W\",1,0)+IF(BG17=\"W\",1,0)+IF(BG18=\"W\",1,0)+IF(BG19=\"W\",1,0)+IF(BG20=\"W\",1,0)+IF(BG21=\"W\",1,0)+IF(BG22=\"W\",1,0)+IF(BG23=\"W\",1,0)+IF(BG24=\"W\",1,0)+IF(BG25=\"W\",1,0)+IF(BG26=\"W\",1,0)+IF(BG27=\"W\",1,0)+IF(BG28=\"W\",1,0)+IF(BG29=\"W\",1,0)+IF(BG30=\"W\",1,0)+IF(BG31=\"W\",1,0)+IF(BG32=\"W\",1,0)+IF(BG33=\"W\",1,0)+IF(BG34=\"W\",1,0)+IF(BG35=\"W\",1,0)+IF(BG36=\"W\",1,0)+IF(BG37=\"W\",1,0)+IF(BG38=\"W\",1,0)+IF(BG39=\"W\",1,0)","v":0},{"$f":"IF(BJ4=\"L\",1,0)+IF(BJ5=\"L\",1,0)+IF(BJ6=\"L\",1,0)+IF(BJ7=\"L\",1,0)+IF(BJ8=\"L\",1,0)+IF(BJ9=\"L\",1,0)+IF(BJ10=\"L\",1,0)+IF(BJ11=\"L\",1,0)+IF(BJ12=\"L\",1,0)+IF(BJ13=\"L\",1,0)+IF(BJ14=\"L\",1,0)+IF(BJ15=\"L\",1,0)+IF(BJ16=\"L\",1,0)+IF(BJ17=\"L\",1,0)+IF(BJ18=\"L\",1,0)+IF(BJ19=\"L\",1,0)+IF(BJ20=\"L\",1,0)+IF(BJ21=\"L\",1,0)+IF(BJ22=\"L\",1,0)+IF(BJ23=\"L\",1,0)+IF(BJ24=\"L\",1,0)+IF(BJ25=\"L\",1,0)+IF(BJ26=\"L\",1,0)+IF(BJ27=\"L\",1,0)+IF(BJ28=\"L\",1,0)+IF(BJ29=\"L\",1,0)+IF(BJ30=\"L\",1,0)+IF(BJ31=\"L\",1,0)+IF(BJ32=\"L\",1,0)+IF(BJ33=\"L\",1,0)+IF(BJ34=\"L\",1,0)+IF(BJ35=\"L\",1,0)+IF(BJ36=\"L\",1,0)+IF(BJ37=\"L\",1,0)+IF(BJ38=\"L\",1,0)+IF(BJ39=\"L\",1,0)","v":0},{"$f":"IF(BJ4=\"D\",1,0)+IF(BJ5=\"D\",1,0)+IF(BJ6=\"D\",1,0)+IF(BJ7=\"D\",1,0)+IF(BJ8=\"D\",1,0)+IF(BJ9=\"D\",1,0)+IF(BJ10=\"D\",1,0)+IF(BJ11=\"D\",1,0)+IF(BJ12=\"D\",1,0)+IF(BJ13=\"D\",1,0)+IF(BJ14=\"D\",1,0)+IF(BJ15=\"D\",1,0)+IF(BJ16=\"D\",1,0)+IF(BJ17=\"D\",1,0)+IF(BJ18=\"D\",1,0)+IF(BJ19=\"D\",1,0)+IF(BJ20=\"D\",1,0)+IF(BJ21=\"D\",1,0)+IF(BJ22=\"D\",1,0)+IF(BJ23=\"D\",1,0)+IF(BJ24=\"D\",1,0)+IF(BJ25=\"D\",1,0)+IF(BJ26=\"D\",1,0)+IF(BJ27=\"D\",1,0)+IF(BJ28=\"D\",1,0)+IF(BJ29=\"D\",1,0)+IF(BJ30=\"D\",1,0)+IF(BJ31=\"D\",1,0)+IF(BJ32=\"D\",1,0)+IF(BJ33=\"D\",1,0)+IF(BJ34=\"D\",1,0)+IF(BJ35=\"D\",1,0)+IF(BJ36=\"D\",1,0)+IF(BJ37=\"D\",1,0)+IF(BJ38=\"D\",1,0)+IF(BJ39=\"D\",1,0)","v":0},{"$f":"IF(BJ4=\"W\",1,0)+IF(BJ5=\"W\",1,0)+IF(BJ6=\"W\",1,0)+IF(BJ7=\"W\",1,0)+IF(BJ8=\"W\",1,0)+IF(BJ9=\"W\",1,0)+IF(BJ10=\"W\",1,0)+IF(BJ11=\"W\",1,0)+IF(BJ12=\"W\",1,0)+IF(BJ13=\"W\",1,0)+IF(BJ14=\"W\",1,0)+IF(BJ15=\"W\",1,0)+IF(BJ16=\"W\",1,0)+IF(BJ17=\"W\",1,0)+IF(BJ18=\"W\",1,0)+IF(BJ19=\"W\",1,0)+IF(BJ20=\"W\",1,0)+IF(BJ21=\"W\",1,0)+IF(BJ22=\"W\",1,0)+IF(BJ23=\"W\",1,0)+IF(BJ24=\"W\",1,0)+IF(BJ25=\"W\",1,0)+IF(BJ26=\"W\",1,0)+IF(BJ27=\"W\",1,0)+IF(BJ28=\"W\",1,0)+IF(BJ29=\"W\",1,0)+IF(BJ30=\"W\",1,0)+IF(BJ31=\"W\",1,0)+IF(BJ32=\"W\",1,0)+IF(BJ33=\"W\",1,0)+IF(BJ34=\"W\",1,0)+IF(BJ35=\"W\",1,0)+IF(BJ36=\"W\",1,0)+IF(BJ37=\"W\",1,0)+IF(BJ38=\"W\",1,0)+IF(BJ39=\"W\",1,0)","v":1},{"$f":"IF(BM4=\"L\",1,0)+IF(BM5=\"L\",1,0)+IF(BM6=\"L\",1,0)+IF(BM7=\"L\",1,0)+IF(BM8=\"L\",1,0)+IF(BM9=\"L\",1,0)+IF(BM10=\"L\",1,0)+IF(BM11=\"L\",1,0)+IF(BM12=\"L\",1,0)+IF(BM13=\"L\",1,0)+IF(BM14=\"L\",1,0)+IF(BM15=\"L\",1,0)+IF(BM16=\"L\",1,0)+IF(BM17=\"L\",1,0)+IF(BM18=\"L\",1,0)+IF(BM19=\"L\",1,0)+IF(BM20=\"L\",1,0)+IF(BM21=\"L\",1,0)+IF(BM22=\"L\",1,0)+IF(BM23=\"L\",1,0)+IF(BM24=\"L\",1,0)+IF(BM25=\"L\",1,0)+IF(BM26=\"L\",1,0)+IF(BM27=\"L\",1,0)+IF(BM28=\"L\",1,0)+IF(BM29=\"L\",1,0)+IF(BM30=\"L\",1,0)+IF(BM31=\"L\",1,0)+IF(BM32=\"L\",1,0)+IF(BM33=\"L\",1,0)+IF(BM34=\"L\",1,0)+IF(BM35=\"L\",1,0)+IF(BM36=\"L\",1,0)+IF(BM37=\"L\",1,0)+IF(BM38=\"L\",1,0)+IF(BM39=\"L\",1,0)","v":1},{"$f":"IF(BM4=\"D\",1,0)+IF(BM5=\"D\",1,0)+IF(BM6=\"D\",1,0)+IF(BM7=\"D\",1,0)+IF(BM8=\"D\",1,0)+IF(BM9=\"D\",1,0)+IF(BM10=\"D\",1,0)+IF(BM11=\"D\",1,0)+IF(BM12=\"D\",1,0)+IF(BM13=\"D\",1,0)+IF(BM14=\"D\",1,0)+IF(BM15=\"D\",1,0)+IF(BM16=\"D\",1,0)+IF(BM17=\"D\",1,0)+IF(BM18=\"D\",1,0)+IF(BM19=\"D\",1,0)+IF(BM20=\"D\",1,0)+IF(BM21=\"D\",1,0)+IF(BM22=\"D\",1,0)+IF(BM23=\"D\",1,0)+IF(BM24=\"D\",1,0)+IF(BM25=\"D\",1,0)+IF(BM26=\"D\",1,0)+IF(BM27=\"D\",1,0)+IF(BM28=\"D\",1,0)+IF(BM29=\"D\",1,0)+IF(BM30=\"D\",1,0)+IF(BM31=\"D\",1,0)+IF(BM32=\"D\",1,0)+IF(BM33=\"D\",1,0)+IF(BM34=\"D\",1,0)+IF(BM35=\"D\",1,0)+IF(BM36=\"D\",1,0)+IF(BM37=\"D\",1,0)+IF(BM38=\"D\",1,0)+IF(BM39=\"D\",1,0)","v":0},{"$f":"IF(BM4=\"W\",1,0)+IF(BM5=\"W\",1,0)+IF(BM6=\"W\",1,0)+IF(BM7=\"W\",1,0)+IF(BM8=\"W\",1,0)+IF(BM9=\"W\",1,0)+IF(BM10=\"W\",1,0)+IF(BM11=\"W\",1,0)+IF(BM12=\"W\",1,0)+IF(BM13=\"W\",1,0)+IF(BM14=\"W\",1,0)+IF(BM15=\"W\",1,0)+IF(BM16=\"W\",1,0)+IF(BM17=\"W\",1,0)+IF(BM18=\"W\",1,0)+IF(BM19=\"W\",1,0)+IF(BM20=\"W\",1,0)+IF(BM21=\"W\",1,0)+IF(BM22=\"W\",1,0)+IF(BM23=\"W\",1,0)+IF(BM24=\"W\",1,0)+IF(BM25=\"W\",1,0)+IF(BM26=\"W\",1,0)+IF(BM27=\"W\",1,0)+IF(BM28=\"W\",1,0)+IF(BM29=\"W\",1,0)+IF(BM30=\"W\",1,0)+IF(BM31=\"W\",1,0)+IF(BM32=\"W\",1,0)+IF(BM33=\"W\",1,0)+IF(BM34=\"W\",1,0)+IF(BM35=\"W\",1,0)+IF(BM36=\"W\",1,0)+IF(BM37=\"W\",1,0)+IF(BM38=\"W\",1,0)+IF(BM39=\"W\",1,0)","v":0},{"$f":"IF(BP4=\"L\",1,0)+IF(BP5=\"L\",1,0)+IF(BP6=\"L\",1,0)+IF(BP7=\"L\",1,0)+IF(BP8=\"L\",1,0)+IF(BP9=\"L\",1,0)+IF(BP10=\"L\",1,0)+IF(BP11=\"L\",1,0)+IF(BP12=\"L\",1,0)+IF(BP13=\"L\",1,0)+IF(BP14=\"L\",1,0)+IF(BP15=\"L\",1,0)+IF(BP16=\"L\",1,0)+IF(BP17=\"L\",1,0)+IF(BP18=\"L\",1,0)+IF(BP19=\"L\",1,0)+IF(BP20=\"L\",1,0)+IF(BP21=\"L\",1,0)+IF(BP22=\"L\",1,0)+IF(BP23=\"L\",1,0)+IF(BP24=\"L\",1,0)+IF(BP25=\"L\",1,0)+IF(BP26=\"L\",1,0)+IF(BP27=\"L\",1,0)+IF(BP28=\"L\",1,0)+IF(BP29=\"L\",1,0)+IF(BP30=\"L\",1,0)+IF(BP31=\"L\",1,0)+IF(BP32=\"L\",1,0)+IF(BP33=\"L\",1,0)+IF(BP34=\"L\",1,0)+IF(BP35=\"L\",1,0)+IF(BP36=\"L\",1,0)+IF(BP37=\"L\",1,0)+IF(BP38=\"L\",1,0)+IF(BP39=\"L\",1,0)","v":1},{"$f":"IF(BP4=\"D\",1,0)+IF(BP5=\"D\",1,0)+IF(BP6=\"D\",1,0)+IF(BP7=\"D\",1,0)+IF(BP8=\"D\",1,0)+IF(BP9=\"D\",1,0)+IF(BP10=\"D\",1,0)+IF(BP11=\"D\",1,0)+IF(BP12=\"D\",1,0)+IF(BP13=\"D\",1,0)+IF(BP14=\"D\",1,0)+IF(BP15=\"D\",1,0)+IF(BP16=\"D\",1,0)+IF(BP17=\"D\",1,0)+IF(BP18=\"D\",1,0)+IF(BP19=\"D\",1,0)+IF(BP20=\"D\",1,0)+IF(BP21=\"D\",1,0)+IF(BP22=\"D\",1,0)+IF(BP23=\"D\",1,0)+IF(BP24=\"D\",1,0)+IF(BP25=\"D\",1,0)+IF(BP26=\"D\",1,0)+IF(BP27=\"D\",1,0)+IF(BP28=\"D\",1,0)+IF(BP29=\"D\",1,0)+IF(BP30=\"D\",1,0)+IF(BP31=\"D\",1,0)+IF(BP32=\"D\",1,0)+IF(BP33=\"D\",1,0)+IF(BP34=\"D\",1,0)+IF(BP35=\"D\",1,0)+IF(BP36=\"D\",1,0)+IF(BP37=\"D\",1,0)+IF(BP38=\"D\",1,0)+IF(BP39=\"D\",1,0)","v":0},{"$f":"IF(BP4=\"W\",1,0)+IF(BP5=\"W\",1,0)+IF(BP6=\"W\",1,0)+IF(BP7=\"W\",1,0)+IF(BP8=\"W\",1,0)+IF(BP9=\"W\",1,0)+IF(BP10=\"W\",1,0)+IF(BP11=\"W\",1,0)+IF(BP12=\"W\",1,0)+IF(BP13=\"W\",1,0)+IF(BP14=\"W\",1,0)+IF(BP15=\"W\",1,0)+IF(BP16=\"W\",1,0)+IF(BP17=\"W\",1,0)+IF(BP18=\"W\",1,0)+IF(BP19=\"W\",1,0)+IF(BP20=\"W\",1,0)+IF(BP21=\"W\",1,0)+IF(BP22=\"W\",1,0)+IF(BP23=\"W\",1,0)+IF(BP24=\"W\",1,0)+IF(BP25=\"W\",1,0)+IF(BP26=\"W\",1,0)+IF(BP27=\"W\",1,0)+IF(BP28=\"W\",1,0)+IF(BP29=\"W\",1,0)+IF(BP30=\"W\",1,0)+IF(BP31=\"W\",1,0)+IF(BP32=\"W\",1,0)+IF(BP33=\"W\",1,0)+IF(BP34=\"W\",1,0)+IF(BP35=\"W\",1,0)+IF(BP36=\"W\",1,0)+IF(BP37=\"W\",1,0)+IF(BP38=\"W\",1,0)+IF(BP39=\"W\",1,0)","v":0},{"$f":"IF(BS4=\"L\",1,0)+IF(BS5=\"L\",1,0)+IF(BS6=\"L\",1,0)+IF(BS7=\"L\",1,0)+IF(BS8=\"L\",1,0)+IF(BS9=\"L\",1,0)+IF(BS10=\"L\",1,0)+IF(BS11=\"L\",1,0)+IF(BS12=\"L\",1,0)+IF(BS13=\"L\",1,0)+IF(BS14=\"L\",1,0)+IF(BS15=\"L\",1,0)+IF(BS16=\"L\",1,0)+IF(BS17=\"L\",1,0)+IF(BS18=\"L\",1,0)+IF(BS19=\"L\",1,0)+IF(BS20=\"L\",1,0)+IF(BS21=\"L\",1,0)+IF(BS22=\"L\",1,0)+IF(BS23=\"L\",1,0)+IF(BS24=\"L\",1,0)+IF(BS25=\"L\",1,0)+IF(BS26=\"L\",1,0)+IF(BS27=\"L\",1,0)+IF(BS28=\"L\",1,0)+IF(BS29=\"L\",1,0)+IF(BS30=\"L\",1,0)+IF(BS31=\"L\",1,0)+IF(BS32=\"L\",1,0)+IF(BS33=\"L\",1,0)+IF(BS34=\"L\",1,0)+IF(BS35=\"L\",1,0)+IF(BS36=\"L\",1,0)+IF(BS37=\"L\",1,0)+IF(BS38=\"L\",1,0)+IF(BS39=\"L\",1,0)","v":0},{"$f":"IF(BS4=\"D\",1,0)+IF(BS5=\"D\",1,0)+IF(BS6=\"D\",1,0)+IF(BS7=\"D\",1,0)+IF(BS8=\"D\",1,0)+IF(BS9=\"D\",1,0)+IF(BS10=\"D\",1,0)+IF(BS11=\"D\",1,0)+IF(BS12=\"D\",1,0)+IF(BS13=\"D\",1,0)+IF(BS14=\"D\",1,0)+IF(BS15=\"D\",1,0)+IF(BS16=\"D\",1,0)+IF(BS17=\"D\",1,0)+IF(BS18=\"D\",1,0)+IF(BS19=\"D\",1,0)+IF(BS20=\"D\",1,0)+IF(BS21=\"D\",1,0)+IF(BS22=\"D\",1,0)+IF(BS23=\"D\",1,0)+IF(BS24=\"D\",1,0)+IF(BS25=\"D\",1,0)+IF(BS26=\"D\",1,0)+IF(BS27=\"D\",1,0)+IF(BS28=\"D\",1,0)+IF(BS29=\"D\",1,0)+IF(BS30=\"D\",1,0)+IF(BS31=\"D\",1,0)+IF(BS32=\"D\",1,0)+IF(BS33=\"D\",1,0)+IF(BS34=\"D\",1,0)+IF(BS35=\"D\",1,0)+IF(BS36=\"D\",1,0)+IF(BS37=\"D\",1,0)+IF(BS38=\"D\",1,0)+IF(BS39=\"D\",1,0)","v":1},{"$f":"IF(BS4=\"W\",1,0)+IF(BS5=\"W\",1,0)+IF(BS6=\"W\",1,0)+IF(BS7=\"W\",1,0)+IF(BS8=\"W\",1,0)+IF(BS9=\"W\",1,0)+IF(BS10=\"W\",1,0)+IF(BS11=\"W\",1,0)+IF(BS12=\"W\",1,0)+IF(BS13=\"W\",1,0)+IF(BS14=\"W\",1,0)+IF(BS15=\"W\",1,0)+IF(BS16=\"W\",1,0)+IF(BS17=\"W\",1,0)+IF(BS18=\"W\",1,0)+IF(BS19=\"W\",1,0)+IF(BS20=\"W\",1,0)+IF(BS21=\"W\",1,0)+IF(BS22=\"W\",1,0)+IF(BS23=\"W\",1,0)+IF(BS24=\"W\",1,0)+IF(BS25=\"W\",1,0)+IF(BS26=\"W\",1,0)+IF(BS27=\"W\",1,0)+IF(BS28=\"W\",1,0)+IF(BS29=\"W\",1,0)+IF(BS30=\"W\",1,0)+IF(BS31=\"W\",1,0)+IF(BS32=\"W\",1,0)+IF(BS33=\"W\",1,0)+IF(BS34=\"W\",1,0)+IF(BS35=\"W\",1,0)+IF(BS36=\"W\",1,0)+IF(BS37=\"W\",1,0)+IF(BS38=\"W\",1,0)+IF(BS39=\"W\",1,0)","v":0},{"$f":"IF(BV4=\"L\",1,0)+IF(BV5=\"L\",1,0)+IF(BV6=\"L\",1,0)+IF(BV7=\"L\",1,0)+IF(BV8=\"L\",1,0)+IF(BV9=\"L\",1,0)+IF(BV10=\"L\",1,0)+IF(BV11=\"L\",1,0)+IF(BV12=\"L\",1,0)+IF(BV13=\"L\",1,0)+IF(BV14=\"L\",1,0)+IF(BV15=\"L\",1,0)+IF(BV16=\"L\",1,0)+IF(BV17=\"L\",1,0)+IF(BV18=\"L\",1,0)+IF(BV19=\"L\",1,0)+IF(BV20=\"L\",1,0)+IF(BV21=\"L\",1,0)+IF(BV22=\"L\",1,0)+IF(BV23=\"L\",1,0)+IF(BV24=\"L\",1,0)+IF(BV25=\"L\",1,0)+IF(BV26=\"L\",1,0)+IF(BV27=\"L\",1,0)+IF(BV28=\"L\",1,0)+IF(BV29=\"L\",1,0)+IF(BV30=\"L\",1,0)+IF(BV31=\"L\",1,0)+IF(BV32=\"L\",1,0)+IF(BV33=\"L\",1,0)+IF(BV34=\"L\",1,0)+IF(BV35=\"L\",1,0)+IF(BV36=\"L\",1,0)+IF(BV37=\"L\",1,0)+IF(BV38=\"L\",1,0)+IF(BV39=\"L\",1,0)","v":0},{"$f":"IF(BV4=\"D\",1,0)+IF(BV5=\"D\",1,0)+IF(BV6=\"D\",1,0)+IF(BV7=\"D\",1,0)+IF(BV8=\"D\",1,0)+IF(BV9=\"D\",1,0)+IF(BV10=\"D\",1,0)+IF(BV11=\"D\",1,0)+IF(BV12=\"D\",1,0)+IF(BV13=\"D\",1,0)+IF(BV14=\"D\",1,0)+IF(BV15=\"D\",1,0)+IF(BV16=\"D\",1,0)+IF(BV17=\"D\",1,0)+IF(BV18=\"D\",1,0)+IF(BV19=\"D\",1,0)+IF(BV20=\"D\",1,0)+IF(BV21=\"D\",1,0)+IF(BV22=\"D\",1,0)+IF(BV23=\"D\",1,0)+IF(BV24=\"D\",1,0)+IF(BV25=\"D\",1,0)+IF(BV26=\"D\",1,0)+IF(BV27=\"D\",1,0)+IF(BV28=\"D\",1,0)+IF(BV29=\"D\",1,0)+IF(BV30=\"D\",1,0)+IF(BV31=\"D\",1,0)+IF(BV32=\"D\",1,0)+IF(BV33=\"D\",1,0)+IF(BV34=\"D\",1,0)+IF(BV35=\"D\",1,0)+IF(BV36=\"D\",1,0)+IF(BV37=\"D\",1,0)+IF(BV38=\"D\",1,0)+IF(BV39=\"D\",1,0)","v":0},{"$f":"IF(BV4=\"W\",1,0)+IF(BV5=\"W\",1,0)+IF(BV6=\"W\",1,0)+IF(BV7=\"W\",1,0)+IF(BV8=\"W\",1,0)+IF(BV9=\"W\",1,0)+IF(BV10=\"W\",1,0)+IF(BV11=\"W\",1,0)+IF(BV12=\"W\",1,0)+IF(BV13=\"W\",1,0)+IF(BV14=\"W\",1,0)+IF(BV15=\"W\",1,0)+IF(BV16=\"W\",1,0)+IF(BV17=\"W\",1,0)+IF(BV18=\"W\",1,0)+IF(BV19=\"W\",1,0)+IF(BV20=\"W\",1,0)+IF(BV21=\"W\",1,0)+IF(BV22=\"W\",1,0)+IF(BV23=\"W\",1,0)+IF(BV24=\"W\",1,0)+IF(BV25=\"W\",1,0)+IF(BV26=\"W\",1,0)+IF(BV27=\"W\",1,0)+IF(BV28=\"W\",1,0)+IF(BV29=\"W\",1,0)+IF(BV30=\"W\",1,0)+IF(BV31=\"W\",1,0)+IF(BV32=\"W\",1,0)+IF(BV33=\"W\",1,0)+IF(BV34=\"W\",1,0)+IF(BV35=\"W\",1,0)+IF(BV36=\"W\",1,0)+IF(BV37=\"W\",1,0)+IF(BV38=\"W\",1,0)+IF(BV39=\"W\",1,0)","v":1},{"$f":"IF(BY4=\"L\",1,0)+IF(BY5=\"L\",1,0)+IF(BY6=\"L\",1,0)+IF(BY7=\"L\",1,0)+IF(BY8=\"L\",1,0)+IF(BY9=\"L\",1,0)+IF(BY10=\"L\",1,0)+IF(BY11=\"L\",1,0)+IF(BY12=\"L\",1,0)+IF(BY13=\"L\",1,0)+IF(BY14=\"L\",1,0)+IF(BY15=\"L\",1,0)+IF(BY16=\"L\",1,0)+IF(BY17=\"L\",1,0)+IF(BY18=\"L\",1,0)+IF(BY19=\"L\",1,0)+IF(BY20=\"L\",1,0)+IF(BY21=\"L\",1,0)+IF(BY22=\"L\",1,0)+IF(BY23=\"L\",1,0)+IF(BY24=\"L\",1,0)+IF(BY25=\"L\",1,0)+IF(BY26=\"L\",1,0)+IF(BY27=\"L\",1,0)+IF(BY28=\"L\",1,0)+IF(BY29=\"L\",1,0)+IF(BY30=\"L\",1,0)+IF(BY31=\"L\",1,0)+IF(BY32=\"L\",1,0)+IF(BY33=\"L\",1,0)+IF(BY34=\"L\",1,0)+IF(BY35=\"L\",1,0)+IF(BY36=\"L\",1,0)+IF(BY37=\"L\",1,0)+IF(BY38=\"L\",1,0)+IF(BY39=\"L\",1,0)","v":0},{"$f":"IF(BY4=\"D\",1,0)+IF(BY5=\"D\",1,0)+IF(BY6=\"D\",1,0)+IF(BY7=\"D\",1,0)+IF(BY8=\"D\",1,0)+IF(BY9=\"D\",1,0)+IF(BY10=\"D\",1,0)+IF(BY11=\"D\",1,0)+IF(BY12=\"D\",1,0)+IF(BY13=\"D\",1,0)+IF(BY14=\"D\",1,0)+IF(BY15=\"D\",1,0)+IF(BY16=\"D\",1,0)+IF(BY17=\"D\",1,0)+IF(BY18=\"D\",1,0)+IF(BY19=\"D\",1,0)+IF(BY20=\"D\",1,0)+IF(BY21=\"D\",1,0)+IF(BY22=\"D\",1,0)+IF(BY23=\"D\",1,0)+IF(BY24=\"D\",1,0)+IF(BY25=\"D\",1,0)+IF(BY26=\"D\",1,0)+IF(BY27=\"D\",1,0)+IF(BY28=\"D\",1,0)+IF(BY29=\"D\",1,0)+IF(BY30=\"D\",1,0)+IF(BY31=\"D\",1,0)+IF(BY32=\"D\",1,0)+IF(BY33=\"D\",1,0)+IF(BY34=\"D\",1,0)+IF(BY35=\"D\",1,0)+IF(BY36=\"D\",1,0)+IF(BY37=\"D\",1,0)+IF(BY38=\"D\",1,0)+IF(BY39=\"D\",1,0)","v":0},{"$f":"IF(BY4=\"W\",1,0)+IF(BY5=\"W\",1,0)+IF(BY6=\"W\",1,0)+IF(BY7=\"W\",1,0)+IF(BY8=\"W\",1,0)+IF(BY9=\"W\",1,0)+IF(BY10=\"W\",1,0)+IF(BY11=\"W\",1,0)+IF(BY12=\"W\",1,0)+IF(BY13=\"W\",1,0)+IF(BY14=\"W\",1,0)+IF(BY15=\"W\",1,0)+IF(BY16=\"W\",1,0)+IF(BY17=\"W\",1,0)+IF(BY18=\"W\",1,0)+IF(BY19=\"W\",1,0)+IF(BY20=\"W\",1,0)+IF(BY21=\"W\",1,0)+IF(BY22=\"W\",1,0)+IF(BY23=\"W\",1,0)+IF(BY24=\"W\",1,0)+IF(BY25=\"W\",1,0)+IF(BY26=\"W\",1,0)+IF(BY27=\"W\",1,0)+IF(BY28=\"W\",1,0)+IF(BY29=\"W\",1,0)+IF(BY30=\"W\",1,0)+IF(BY31=\"W\",1,0)+IF(BY32=\"W\",1,0)+IF(BY33=\"W\",1,0)+IF(BY34=\"W\",1,0)+IF(BY35=\"W\",1,0)+IF(BY36=\"W\",1,0)+IF(BY37=\"W\",1,0)+IF(BY38=\"W\",1,0)+IF(BY39=\"W\",1,0)","v":1},{"$f":"IF(CB4=\"L\",1,0)+IF(CB5=\"L\",1,0)+IF(CB6=\"L\",1,0)+IF(CB7=\"L\",1,0)+IF(CB8=\"L\",1,0)+IF(CB9=\"L\",1,0)+IF(CB10=\"L\",1,0)+IF(CB11=\"L\",1,0)+IF(CB12=\"L\",1,0)+IF(CB13=\"L\",1,0)+IF(CB14=\"L\",1,0)+IF(CB15=\"L\",1,0)+IF(CB16=\"L\",1,0)+IF(CB17=\"L\",1,0)+IF(CB18=\"L\",1,0)+IF(CB19=\"L\",1,0)+IF(CB20=\"L\",1,0)+IF(CB21=\"L\",1,0)+IF(CB22=\"L\",1,0)+IF(CB23=\"L\",1,0)+IF(CB24=\"L\",1,0)+IF(CB25=\"L\",1,0)+IF(CB26=\"L\",1,0)+IF(CB27=\"L\",1,0)+IF(CB28=\"L\",1,0)+IF(CB29=\"L\",1,0)+IF(CB30=\"L\",1,0)+IF(CB31=\"L\",1,0)+IF(CB32=\"L\",1,0)+IF(CB33=\"L\",1,0)+IF(CB34=\"L\",1,0)+IF(CB35=\"L\",1,0)+IF(CB36=\"L\",1,0)+IF(CB37=\"L\",1,0)+IF(CB38=\"L\",1,0)+IF(CB39=\"L\",1,0)","v":0},{"$f":"IF(CB4=\"D\",1,0)+IF(CB5=\"D\",1,0)+IF(CB6=\"D\",1,0)+IF(CB7=\"D\",1,0)+IF(CB8=\"D\",1,0)+IF(CB9=\"D\",1,0)+IF(CB10=\"D\",1,0)+IF(CB11=\"D\",1,0)+IF(CB12=\"D\",1,0)+IF(CB13=\"D\",1,0)+IF(CB14=\"D\",1,0)+IF(CB15=\"D\",1,0)+IF(CB16=\"D\",1,0)+IF(CB17=\"D\",1,0)+IF(CB18=\"D\",1,0)+IF(CB19=\"D\",1,0)+IF(CB20=\"D\",1,0)+IF(CB21=\"D\",1,0)+IF(CB22=\"D\",1,0)+IF(CB23=\"D\",1,0)+IF(CB24=\"D\",1,0)+IF(CB25=\"D\",1,0)+IF(CB26=\"D\",1,0)+IF(CB27=\"D\",1,0)+IF(CB28=\"D\",1,0)+IF(CB29=\"D\",1,0)+IF(CB30=\"D\",1,0)+IF(CB31=\"D\",1,0)+IF(CB32=\"D\",1,0)+IF(CB33=\"D\",1,0)+IF(CB34=\"D\",1,0)+IF(CB35=\"D\",1,0)+IF(CB36=\"D\",1,0)+IF(CB37=\"D\",1,0)+IF(CB38=\"D\",1,0)+IF(CB39=\"D\",1,0)","v":0},{"$f":"IF(CB4=\"W\",1,0)+IF(CB5=\"W\",1,0)+IF(CB6=\"W\",1,0)+IF(CB7=\"W\",1,0)+IF(CB8=\"W\",1,0)+IF(CB9=\"W\",1,0)+IF(CB10=\"W\",1,0)+IF(CB11=\"W\",1,0)+IF(CB12=\"W\",1,0)+IF(CB13=\"W\",1,0)+IF(CB14=\"W\",1,0)+IF(CB15=\"W\",1,0)+IF(CB16=\"W\",1,0)+IF(CB17=\"W\",1,0)+IF(CB18=\"W\",1,0)+IF(CB19=\"W\",1,0)+IF(CB20=\"W\",1,0)+IF(CB21=\"W\",1,0)+IF(CB22=\"W\",1,0)+IF(CB23=\"W\",1,0)+IF(CB24=\"W\",1,0)+IF(CB25=\"W\",1,0)+IF(CB26=\"W\",1,0)+IF(CB27=\"W\",1,0)+IF(CB28=\"W\",1,0)+IF(CB29=\"W\",1,0)+IF(CB30=\"W\",1,0)+IF(CB31=\"W\",1,0)+IF(CB32=\"W\",1,0)+IF(CB33=\"W\",1,0)+IF(CB34=\"W\",1,0)+IF(CB35=\"W\",1,0)+IF(CB36=\"W\",1,0)+IF(CB37=\"W\",1,0)+IF(CB38=\"W\",1,0)+IF(CB39=\"W\",1,0)","v":1},{"$f":"IF(CE4=\"L\",1,0)+IF(CE5=\"L\",1,0)+IF(CE6=\"L\",1,0)+IF(CE7=\"L\",1,0)+IF(CE8=\"L\",1,0)+IF(CE9=\"L\",1,0)+IF(CE10=\"L\",1,0)+IF(CE11=\"L\",1,0)+IF(CE12=\"L\",1,0)+IF(CE13=\"L\",1,0)+IF(CE14=\"L\",1,0)+IF(CE15=\"L\",1,0)+IF(CE16=\"L\",1,0)+IF(CE17=\"L\",1,0)+IF(CE18=\"L\",1,0)+IF(CE19=\"L\",1,0)+IF(CE20=\"L\",1,0)+IF(CE21=\"L\",1,0)+IF(CE22=\"L\",1,0)+IF(CE23=\"L\",1,0)+IF(CE24=\"L\",1,0)+IF(CE25=\"L\",1,0)+IF(CE26=\"L\",1,0)+IF(CE27=\"L\",1,0)+IF(CE28=\"L\",1,0)+IF(CE29=\"L\",1,0)+IF(CE30=\"L\",1,0)+IF(CE31=\"L\",1,0)+IF(CE32=\"L\",1,0)+IF(CE33=\"L\",1,0)+IF(CE34=\"L\",1,0)+IF(CE35=\"L\",1,0)+IF(CE36=\"L\",1,0)+IF(CE37=\"L\",1,0)+IF(CE38=\"L\",1,0)+IF(CE39=\"L\",1,0)","v":0},{"$f":"IF(CE4=\"D\",1,0)+IF(CE5=\"D\",1,0)+IF(CE6=\"D\",1,0)+IF(CE7=\"D\",1,0)+IF(CE8=\"D\",1,0)+IF(CE9=\"D\",1,0)+IF(CE10=\"D\",1,0)+IF(CE11=\"D\",1,0)+IF(CE12=\"D\",1,0)+IF(CE13=\"D\",1,0)+IF(CE14=\"D\",1,0)+IF(CE15=\"D\",1,0)+IF(CE16=\"D\",1,0)+IF(CE17=\"D\",1,0)+IF(CE18=\"D\",1,0)+IF(CE19=\"D\",1,0)+IF(CE20=\"D\",1,0)+IF(CE21=\"D\",1,0)+IF(CE22=\"D\",1,0)+IF(CE23=\"D\",1,0)+IF(CE24=\"D\",1,0)+IF(CE25=\"D\",1,0)+IF(CE26=\"D\",1,0)+IF(CE27=\"D\",1,0)+IF(CE28=\"D\",1,0)+IF(CE29=\"D\",1,0)+IF(CE30=\"D\",1,0)+IF(CE31=\"D\",1,0)+IF(CE32=\"D\",1,0)+IF(CE33=\"D\",1,0)+IF(CE34=\"D\",1,0)+IF(CE35=\"D\",1,0)+IF(CE36=\"D\",1,0)+IF(CE37=\"D\",1,0)+IF(CE38=\"D\",1,0)+IF(CE39=\"D\",1,0)","v":0},{"$f":"IF(CE4=\"W\",1,0)+IF(CE5=\"W\",1,0)+IF(CE6=\"W\",1,0)+IF(CE7=\"W\",1,0)+IF(CE8=\"W\",1,0)+IF(CE9=\"W\",1,0)+IF(CE10=\"W\",1,0)+IF(CE11=\"W\",1,0)+IF(CE12=\"W\",1,0)+IF(CE13=\"W\",1,0)+IF(CE14=\"W\",1,0)+IF(CE15=\"W\",1,0)+IF(CE16=\"W\",1,0)+IF(CE17=\"W\",1,0)+IF(CE18=\"W\",1,0)+IF(CE19=\"W\",1,0)+IF(CE20=\"W\",1,0)+IF(CE21=\"W\",1,0)+IF(CE22=\"W\",1,0)+IF(CE23=\"W\",1,0)+IF(CE24=\"W\",1,0)+IF(CE25=\"W\",1,0)+IF(CE26=\"W\",1,0)+IF(CE27=\"W\",1,0)+IF(CE28=\"W\",1,0)+IF(CE29=\"W\",1,0)+IF(CE30=\"W\",1,0)+IF(CE31=\"W\",1,0)+IF(CE32=\"W\",1,0)+IF(CE33=\"W\",1,0)+IF(CE34=\"W\",1,0)+IF(CE35=\"W\",1,0)+IF(CE36=\"W\",1,0)+IF(CE37=\"W\",1,0)+IF(CE38=\"W\",1,0)+IF(CE39=\"W\",1,0)","v":1},{"$f":"IF(CH4=\"L\",1,0)+IF(CH5=\"L\",1,0)+IF(CH6=\"L\",1,0)+IF(CH7=\"L\",1,0)+IF(CH8=\"L\",1,0)+IF(CH9=\"L\",1,0)+IF(CH10=\"L\",1,0)+IF(CH11=\"L\",1,0)+IF(CH12=\"L\",1,0)+IF(CH13=\"L\",1,0)+IF(CH14=\"L\",1,0)+IF(CH15=\"L\",1,0)+IF(CH16=\"L\",1,0)+IF(CH17=\"L\",1,0)+IF(CH18=\"L\",1,0)+IF(CH19=\"L\",1,0)+IF(CH20=\"L\",1,0)+IF(CH21=\"L\",1,0)+IF(CH22=\"L\",1,0)+IF(CH23=\"L\",1,0)+IF(CH24=\"L\",1,0)+IF(CH25=\"L\",1,0)+IF(CH26=\"L\",1,0)+IF(CH27=\"L\",1,0)+IF(CH28=\"L\",1,0)+IF(CH29=\"L\",1,0)+IF(CH30=\"L\",1,0)+IF(CH31=\"L\",1,0)+IF(CH32=\"L\",1,0)+IF(CH33=\"L\",1,0)+IF(CH34=\"L\",1,0)+IF(CH35=\"L\",1,0)+IF(CH36=\"L\",1,0)+IF(CH37=\"L\",1,0)+IF(CH38=\"L\",1,0)+IF(CH39=\"L\",1,0)","v":0},{"$f":"IF(CH4=\"D\",1,0)+IF(CH5=\"D\",1,0)+IF(CH6=\"D\",1,0)+IF(CH7=\"D\",1,0)+IF(CH8=\"D\",1,0)+IF(CH9=\"D\",1,0)+IF(CH10=\"D\",1,0)+IF(CH11=\"D\",1,0)+IF(CH12=\"D\",1,0)+IF(CH13=\"D\",1,0)+IF(CH14=\"D\",1,0)+IF(CH15=\"D\",1,0)+IF(CH16=\"D\",1,0)+IF(CH17=\"D\",1,0)+IF(CH18=\"D\",1,0)+IF(CH19=\"D\",1,0)+IF(CH20=\"D\",1,0)+IF(CH21=\"D\",1,0)+IF(CH22=\"D\",1,0)+IF(CH23=\"D\",1,0)+IF(CH24=\"D\",1,0)+IF(CH25=\"D\",1,0)+IF(CH26=\"D\",1,0)+IF(CH27=\"D\",1,0)+IF(CH28=\"D\",1,0)+IF(CH29=\"D\",1,0)+IF(CH30=\"D\",1,0)+IF(CH31=\"D\",1,0)+IF(CH32=\"D\",1,0)+IF(CH33=\"D\",1,0)+IF(CH34=\"D\",1,0)+IF(CH35=\"D\",1,0)+IF(CH36=\"D\",1,0)+IF(CH37=\"D\",1,0)+IF(CH38=\"D\",1,0)+IF(CH39=\"D\",1,0)","v":0},{"$f":"IF(CH4=\"W\",1,0)+IF(CH5=\"W\",1,0)+IF(CH6=\"W\",1,0)+IF(CH7=\"W\",1,0)+IF(CH8=\"W\",1,0)+IF(CH9=\"W\",1,0)+IF(CH10=\"W\",1,0)+IF(CH11=\"W\",1,0)+IF(CH12=\"W\",1,0)+IF(CH13=\"W\",1,0)+IF(CH14=\"W\",1,0)+IF(CH15=\"W\",1,0)+IF(CH16=\"W\",1,0)+IF(CH17=\"W\",1,0)+IF(CH18=\"W\",1,0)+IF(CH19=\"W\",1,0)+IF(CH20=\"W\",1,0)+IF(CH21=\"W\",1,0)+IF(CH22=\"W\",1,0)+IF(CH23=\"W\",1,0)+IF(CH24=\"W\",1,0)+IF(CH25=\"W\",1,0)+IF(CH26=\"W\",1,0)+IF(CH27=\"W\",1,0)+IF(CH28=\"W\",1,0)+IF(CH29=\"W\",1,0)+IF(CH30=\"W\",1,0)+IF(CH31=\"W\",1,0)+IF(CH32=\"W\",1,0)+IF(CH33=\"W\",1,0)+IF(CH34=\"W\",1,0)+IF(CH35=\"W\",1,0)+IF(CH36=\"W\",1,0)+IF(CH37=\"W\",1,0)+IF(CH38=\"W\",1,0)+IF(CH39=\"W\",1,0)","v":1},{"$f":"IF(CK4=\"L\",1,0)+IF(CK5=\"L\",1,0)+IF(CK6=\"L\",1,0)+IF(CK7=\"L\",1,0)+IF(CK8=\"L\",1,0)+IF(CK9=\"L\",1,0)+IF(CK10=\"L\",1,0)+IF(CK11=\"L\",1,0)+IF(CK12=\"L\",1,0)+IF(CK13=\"L\",1,0)+IF(CK14=\"L\",1,0)+IF(CK15=\"L\",1,0)+IF(CK16=\"L\",1,0)+IF(CK17=\"L\",1,0)+IF(CK18=\"L\",1,0)+IF(CK19=\"L\",1,0)+IF(CK20=\"L\",1,0)+IF(CK21=\"L\",1,0)+IF(CK22=\"L\",1,0)+IF(CK23=\"L\",1,0)+IF(CK24=\"L\",1,0)+IF(CK25=\"L\",1,0)+IF(CK26=\"L\",1,0)+IF(CK27=\"L\",1,0)+IF(CK28=\"L\",1,0)+IF(CK29=\"L\",1,0)+IF(CK30=\"L\",1,0)+IF(CK31=\"L\",1,0)+IF(CK32=\"L\",1,0)+IF(CK33=\"L\",1,0)+IF(CK34=\"L\",1,0)+IF(CK35=\"L\",1,0)+IF(CK36=\"L\",1,0)+IF(CK37=\"L\",1,0)+IF(CK38=\"L\",1,0)+IF(CK39=\"L\",1,0)","v":0},{"$f":"IF(CK4=\"D\",1,0)+IF(CK5=\"D\",1,0)+IF(CK6=\"D\",1,0)+IF(CK7=\"D\",1,0)+IF(CK8=\"D\",1,0)+IF(CK9=\"D\",1,0)+IF(CK10=\"D\",1,0)+IF(CK11=\"D\",1,0)+IF(CK12=\"D\",1,0)+IF(CK13=\"D\",1,0)+IF(CK14=\"D\",1,0)+IF(CK15=\"D\",1,0)+IF(CK16=\"D\",1,0)+IF(CK17=\"D\",1,0)+IF(CK18=\"D\",1,0)+IF(CK19=\"D\",1,0)+IF(CK20=\"D\",1,0)+IF(CK21=\"D\",1,0)+IF(CK22=\"D\",1,0)+IF(CK23=\"D\",1,0)+IF(CK24=\"D\",1,0)+IF(CK25=\"D\",1,0)+IF(CK26=\"D\",1,0)+IF(CK27=\"D\",1,0)+IF(CK28=\"D\",1,0)+IF(CK29=\"D\",1,0)+IF(CK30=\"D\",1,0)+IF(CK31=\"D\",1,0)+IF(CK32=\"D\",1,0)+IF(CK33=\"D\",1,0)+IF(CK34=\"D\",1,0)+IF(CK35=\"D\",1,0)+IF(CK36=\"D\",1,0)+IF(CK37=\"D\",1,0)+IF(CK38=\"D\",1,0)+IF(CK39=\"D\",1,0)","v":0},{"$f":"IF(CK4=\"W\",1,0)+IF(CK5=\"W\",1,0)+IF(CK6=\"W\",1,0)+IF(CK7=\"W\",1,0)+IF(CK8=\"W\",1,0)+IF(CK9=\"W\",1,0)+IF(CK10=\"W\",1,0)+IF(CK11=\"W\",1,0)+IF(CK12=\"W\",1,0)+IF(CK13=\"W\",1,0)+IF(CK14=\"W\",1,0)+IF(CK15=\"W\",1,0)+IF(CK16=\"W\",1,0)+IF(CK17=\"W\",1,0)+IF(CK18=\"W\",1,0)+IF(CK19=\"W\",1,0)+IF(CK20=\"W\",1,0)+IF(CK21=\"W\",1,0)+IF(CK22=\"W\",1,0)+IF(CK23=\"W\",1,0)+IF(CK24=\"W\",1,0)+IF(CK25=\"W\",1,0)+IF(CK26=\"W\",1,0)+IF(CK27=\"W\",1,0)+IF(CK28=\"W\",1,0)+IF(CK29=\"W\",1,0)+IF(CK30=\"W\",1,0)+IF(CK31=\"W\",1,0)+IF(CK32=\"W\",1,0)+IF(CK33=\"W\",1,0)+IF(CK34=\"W\",1,0)+IF(CK35=\"W\",1,0)+IF(CK36=\"W\",1,0)+IF(CK37=\"W\",1,0)+IF(CK38=\"W\",1,0)+IF(CK39=\"W\",1,0)","v":1},{"$f":"IF(CN4=\"L\",1,0)+IF(CN5=\"L\",1,0)+IF(CN6=\"L\",1,0)+IF(CN7=\"L\",1,0)+IF(CN8=\"L\",1,0)+IF(CN9=\"L\",1,0)+IF(CN10=\"L\",1,0)+IF(CN11=\"L\",1,0)+IF(CN12=\"L\",1,0)+IF(CN13=\"L\",1,0)+IF(CN14=\"L\",1,0)+IF(CN15=\"L\",1,0)+IF(CN16=\"L\",1,0)+IF(CN17=\"L\",1,0)+IF(CN18=\"L\",1,0)+IF(CN19=\"L\",1,0)+IF(CN20=\"L\",1,0)+IF(CN21=\"L\",1,0)+IF(CN22=\"L\",1,0)+IF(CN23=\"L\",1,0)+IF(CN24=\"L\",1,0)+IF(CN25=\"L\",1,0)+IF(CN26=\"L\",1,0)+IF(CN27=\"L\",1,0)+IF(CN28=\"L\",1,0)+IF(CN29=\"L\",1,0)+IF(CN30=\"L\",1,0)+IF(CN31=\"L\",1,0)+IF(CN32=\"L\",1,0)+IF(CN33=\"L\",1,0)+IF(CN34=\"L\",1,0)+IF(CN35=\"L\",1,0)+IF(CN36=\"L\",1,0)+IF(CN37=\"L\",1,0)+IF(CN38=\"L\",1,0)+IF(CN39=\"L\",1,0)","v":0},{"$f":"IF(CN4=\"D\",1,0)+IF(CN5=\"D\",1,0)+IF(CN6=\"D\",1,0)+IF(CN7=\"D\",1,0)+IF(CN8=\"D\",1,0)+IF(CN9=\"D\",1,0)+IF(CN10=\"D\",1,0)+IF(CN11=\"D\",1,0)+IF(CN12=\"D\",1,0)+IF(CN13=\"D\",1,0)+IF(CN14=\"D\",1,0)+IF(CN15=\"D\",1,0)+IF(CN16=\"D\",1,0)+IF(CN17=\"D\",1,0)+IF(CN18=\"D\",1,0)+IF(CN19=\"D\",1,0)+IF(CN20=\"D\",1,0)+IF(CN21=\"D\",1,0)+IF(CN22=\"D\",1,0)+IF(CN23=\"D\",1,0)+IF(CN24=\"D\",1,0)+IF(CN25=\"D\",1,0)+IF(CN26=\"D\",1,0)+IF(CN27=\"D\",1,0)+IF(CN28=\"D\",1,0)+IF(CN29=\"D\",1,0)+IF(CN30=\"D\",1,0)+IF(CN31=\"D\",1,0)+IF(CN32=\"D\",1,0)+IF(CN33=\"D\",1,0)+IF(CN34=\"D\",1,0)+IF(CN35=\"D\",1,0)+IF(CN36=\"D\",1,0)+IF(CN37=\"D\",1,0)+IF(CN38=\"D\",1,0)+IF(CN39=\"D\",1,0)","v":1},{"$f":"IF(CN4=\"W\",1,0)+IF(CN5=\"W\",1,0)+IF(CN6=\"W\",1,0)+IF(CN7=\"W\",1,0)+IF(CN8=\"W\",1,0)+IF(CN9=\"W\",1,0)+IF(CN10=\"W\",1,0)+IF(CN11=\"W\",1,0)+IF(CN12=\"W\",1,0)+IF(CN13=\"W\",1,0)+IF(CN14=\"W\",1,0)+IF(CN15=\"W\",1,0)+IF(CN16=\"W\",1,0)+IF(CN17=\"W\",1,0)+IF(CN18=\"W\",1,0)+IF(CN19=\"W\",1,0)+IF(CN20=\"W\",1,0)+IF(CN21=\"W\",1,0)+IF(CN22=\"W\",1,0)+IF(CN23=\"W\",1,0)+IF(CN24=\"W\",1,0)+IF(CN25=\"W\",1,0)+IF(CN26=\"W\",1,0)+IF(CN27=\"W\",1,0)+IF(CN28=\"W\",1,0)+IF(CN29=\"W\",1,0)+IF(CN30=\"W\",1,0)+IF(CN31=\"W\",1,0)+IF(CN32=\"W\",1,0)+IF(CN33=\"W\",1,0)+IF(CN34=\"W\",1,0)+IF(CN35=\"W\",1,0)+IF(CN36=\"W\",1,0)+IF(CN37=\"W\",1,0)+IF(CN38=\"W\",1,0)+IF(CN39=\"W\",1,0)","v":0},{"$f":"IF(CQ4=\"L\",1,0)+IF(CQ5=\"L\",1,0)+IF(CQ6=\"L\",1,0)+IF(CQ7=\"L\",1,0)+IF(CQ8=\"L\",1,0)+IF(CQ9=\"L\",1,0)+IF(CQ10=\"L\",1,0)+IF(CQ11=\"L\",1,0)+IF(CQ12=\"L\",1,0)+IF(CQ13=\"L\",1,0)+IF(CQ14=\"L\",1,0)+IF(CQ15=\"L\",1,0)+IF(CQ16=\"L\",1,0)+IF(CQ17=\"L\",1,0)+IF(CQ18=\"L\",1,0)+IF(CQ19=\"L\",1,0)+IF(CQ20=\"L\",1,0)+IF(CQ21=\"L\",1,0)+IF(CQ22=\"L\",1,0)+IF(CQ23=\"L\",1,0)+IF(CQ24=\"L\",1,0)+IF(CQ25=\"L\",1,0)+IF(CQ26=\"L\",1,0)+IF(CQ27=\"L\",1,0)+IF(CQ28=\"L\",1,0)+IF(CQ29=\"L\",1,0)+IF(CQ30=\"L\",1,0)+IF(CQ31=\"L\",1,0)+IF(CQ32=\"L\",1,0)+IF(CQ33=\"L\",1,0)+IF(CQ34=\"L\",1,0)+IF(CQ35=\"L\",1,0)+IF(CQ36=\"L\",1,0)+IF(CQ37=\"L\",1,0)+IF(CQ38=\"L\",1,0)+IF(CQ39=\"L\",1,0)","v":0},{"$f":"IF(CQ4=\"D\",1,0)+IF(CQ5=\"D\",1,0)+IF(CQ6=\"D\",1,0)+IF(CQ7=\"D\",1,0)+IF(CQ8=\"D\",1,0)+IF(CQ9=\"D\",1,0)+IF(CQ10=\"D\",1,0)+IF(CQ11=\"D\",1,0)+IF(CQ12=\"D\",1,0)+IF(CQ13=\"D\",1,0)+IF(CQ14=\"D\",1,0)+IF(CQ15=\"D\",1,0)+IF(CQ16=\"D\",1,0)+IF(CQ17=\"D\",1,0)+IF(CQ18=\"D\",1,0)+IF(CQ19=\"D\",1,0)+IF(CQ20=\"D\",1,0)+IF(CQ21=\"D\",1,0)+IF(CQ22=\"D\",1,0)+IF(CQ23=\"D\",1,0)+IF(CQ24=\"D\",1,0)+IF(CQ25=\"D\",1,0)+IF(CQ26=\"D\",1,0)+IF(CQ27=\"D\",1,0)+IF(CQ28=\"D\",1,0)+IF(CQ29=\"D\",1,0)+IF(CQ30=\"D\",1,0)+IF(CQ31=\"D\",1,0)+IF(CQ32=\"D\",1,0)+IF(CQ33=\"D\",1,0)+IF(CQ34=\"D\",1,0)+IF(CQ35=\"D\",1,0)+IF(CQ36=\"D\",1,0)+IF(CQ37=\"D\",1,0)+IF(CQ38=\"D\",1,0)+IF(CQ39=\"D\",1,0)","v":0},{"$f":"IF(CQ4=\"W\",1,0)+IF(CQ5=\"W\",1,0)+IF(CQ6=\"W\",1,0)+IF(CQ7=\"W\",1,0)+IF(CQ8=\"W\",1,0)+IF(CQ9=\"W\",1,0)+IF(CQ10=\"W\",1,0)+IF(CQ11=\"W\",1,0)+IF(CQ12=\"W\",1,0)+IF(CQ13=\"W\",1,0)+IF(CQ14=\"W\",1,0)+IF(CQ15=\"W\",1,0)+IF(CQ16=\"W\",1,0)+IF(CQ17=\"W\",1,0)+IF(CQ18=\"W\",1,0)+IF(CQ19=\"W\",1,0)+IF(CQ20=\"W\",1,0)+IF(CQ21=\"W\",1,0)+IF(CQ22=\"W\",1,0)+IF(CQ23=\"W\",1,0)+IF(CQ24=\"W\",1,0)+IF(CQ25=\"W\",1,0)+IF(CQ26=\"W\",1,0)+IF(CQ27=\"W\",1,0)+IF(CQ28=\"W\",1,0)+IF(CQ29=\"W\",1,0)+IF(CQ30=\"W\",1,0)+IF(CQ31=\"W\",1,0)+IF(CQ32=\"W\",1,0)+IF(CQ33=\"W\",1,0)+IF(CQ34=\"W\",1,0)+IF(CQ35=\"W\",1,0)+IF(CQ36=\"W\",1,0)+IF(CQ37=\"W\",1,0)+IF(CQ38=\"W\",1,0)+IF(CQ39=\"W\",1,0)","v":1},{"$f":"IF(CT4=\"L\",1,0)+IF(CT5=\"L\",1,0)+IF(CT6=\"L\",1,0)+IF(CT7=\"L\",1,0)+IF(CT8=\"L\",1,0)+IF(CT9=\"L\",1,0)+IF(CT10=\"L\",1,0)+IF(CT11=\"L\",1,0)+IF(CT12=\"L\",1,0)+IF(CT13=\"L\",1,0)+IF(CT14=\"L\",1,0)+IF(CT15=\"L\",1,0)+IF(CT16=\"L\",1,0)+IF(CT17=\"L\",1,0)+IF(CT18=\"L\",1,0)+IF(CT19=\"L\",1,0)+IF(CT20=\"L\",1,0)+IF(CT21=\"L\",1,0)+IF(CT22=\"L\",1,0)+IF(CT23=\"L\",1,0)+IF(CT24=\"L\",1,0)+IF(CT25=\"L\",1,0)+IF(CT26=\"L\",1,0)+IF(CT27=\"L\",1,0)+IF(CT28=\"L\",1,0)+IF(CT29=\"L\",1,0)+IF(CT30=\"L\",1,0)+IF(CT31=\"L\",1,0)+IF(CT32=\"L\",1,0)+IF(CT33=\"L\",1,0)+IF(CT34=\"L\",1,0)+IF(CT35=\"L\",1,0)+IF(CT36=\"L\",1,0)+IF(CT37=\"L\",1,0)+IF(CT38=\"L\",1,0)+IF(CT39=\"L\",1,0)","v":0},{"$f":"IF(CT4=\"D\",1,0)+IF(CT5=\"D\",1,0)+IF(CT6=\"D\",1,0)+IF(CT7=\"D\",1,0)+IF(CT8=\"D\",1,0)+IF(CT9=\"D\",1,0)+IF(CT10=\"D\",1,0)+IF(CT11=\"D\",1,0)+IF(CT12=\"D\",1,0)+IF(CT13=\"D\",1,0)+IF(CT14=\"D\",1,0)+IF(CT15=\"D\",1,0)+IF(CT16=\"D\",1,0)+IF(CT17=\"D\",1,0)+IF(CT18=\"D\",1,0)+IF(CT19=\"D\",1,0)+IF(CT20=\"D\",1,0)+IF(CT21=\"D\",1,0)+IF(CT22=\"D\",1,0)+IF(CT23=\"D\",1,0)+IF(CT24=\"D\",1,0)+IF(CT25=\"D\",1,0)+IF(CT26=\"D\",1,0)+IF(CT27=\"D\",1,0)+IF(CT28=\"D\",1,0)+IF(CT29=\"D\",1,0)+IF(CT30=\"D\",1,0)+IF(CT31=\"D\",1,0)+IF(CT32=\"D\",1,0)+IF(CT33=\"D\",1,0)+IF(CT34=\"D\",1,0)+IF(CT35=\"D\",1,0)+IF(CT36=\"D\",1,0)+IF(CT37=\"D\",1,0)+IF(CT38=\"D\",1,0)+IF(CT39=\"D\",1,0)","v":1},{"$f":"IF(CT4=\"W\",1,0)+IF(CT5=\"W\",1,0)+IF(CT6=\"W\",1,0)+IF(CT7=\"W\",1,0)+IF(CT8=\"W\",1,0)+IF(CT9=\"W\",1,0)+IF(CT10=\"W\",1,0)+IF(CT11=\"W\",1,0)+IF(CT12=\"W\",1,0)+IF(CT13=\"W\",1,0)+IF(CT14=\"W\",1,0)+IF(CT15=\"W\",1,0)+IF(CT16=\"W\",1,0)+IF(CT17=\"W\",1,0)+IF(CT18=\"W\",1,0)+IF(CT19=\"W\",1,0)+IF(CT20=\"W\",1,0)+IF(CT21=\"W\",1,0)+IF(CT22=\"W\",1,0)+IF(CT23=\"W\",1,0)+IF(CT24=\"W\",1,0)+IF(CT25=\"W\",1,0)+IF(CT26=\"W\",1,0)+IF(CT27=\"W\",1,0)+IF(CT28=\"W\",1,0)+IF(CT29=\"W\",1,0)+IF(CT30=\"W\",1,0)+IF(CT31=\"W\",1,0)+IF(CT32=\"W\",1,0)+IF(CT33=\"W\",1,0)+IF(CT34=\"W\",1,0)+IF(CT35=\"W\",1,0)+IF(CT36=\"W\",1,0)+IF(CT37=\"W\",1,0)+IF(CT38=\"W\",1,0)+IF(CT39=\"W\",1,0)","v":0},{"$f":"IF(CW4=\"L\",1,0)+IF(CW5=\"L\",1,0)+IF(CW6=\"L\",1,0)+IF(CW7=\"L\",1,0)+IF(CW8=\"L\",1,0)+IF(CW9=\"L\",1,0)+IF(CW10=\"L\",1,0)+IF(CW11=\"L\",1,0)+IF(CW12=\"L\",1,0)+IF(CW13=\"L\",1,0)+IF(CW14=\"L\",1,0)+IF(CW15=\"L\",1,0)+IF(CW16=\"L\",1,0)+IF(CW17=\"L\",1,0)+IF(CW18=\"L\",1,0)+IF(CW19=\"L\",1,0)+IF(CW20=\"L\",1,0)+IF(CW21=\"L\",1,0)+IF(CW22=\"L\",1,0)+IF(CW23=\"L\",1,0)+IF(CW24=\"L\",1,0)+IF(CW25=\"L\",1,0)+IF(CW26=\"L\",1,0)+IF(CW27=\"L\",1,0)+IF(CW28=\"L\",1,0)+IF(CW29=\"L\",1,0)+IF(CW30=\"L\",1,0)+IF(CW31=\"L\",1,0)+IF(CW32=\"L\",1,0)+IF(CW33=\"L\",1,0)+IF(CW34=\"L\",1,0)+IF(CW35=\"L\",1,0)+IF(CW36=\"L\",1,0)+IF(CW37=\"L\",1,0)+IF(CW38=\"L\",1,0)+IF(CW39=\"L\",1,0)","v":0},{"$f":"IF(CW4=\"D\",1,0)+IF(CW5=\"D\",1,0)+IF(CW6=\"D\",1,0)+IF(CW7=\"D\",1,0)+IF(CW8=\"D\",1,0)+IF(CW9=\"D\",1,0)+IF(CW10=\"D\",1,0)+IF(CW11=\"D\",1,0)+IF(CW12=\"D\",1,0)+IF(CW13=\"D\",1,0)+IF(CW14=\"D\",1,0)+IF(CW15=\"D\",1,0)+IF(CW16=\"D\",1,0)+IF(CW17=\"D\",1,0)+IF(CW18=\"D\",1,0)+IF(CW19=\"D\",1,0)+IF(CW20=\"D\",1,0)+IF(CW21=\"D\",1,0)+IF(CW22=\"D\",1,0)+IF(CW23=\"D\",1,0)+IF(CW24=\"D\",1,0)+IF(CW25=\"D\",1,0)+IF(CW26=\"D\",1,0)+IF(CW27=\"D\",1,0)+IF(CW28=\"D\",1,0)+IF(CW29=\"D\",1,0)+IF(CW30=\"D\",1,0)+IF(CW31=\"D\",1,0)+IF(CW32=\"D\",1,0)+IF(CW33=\"D\",1,0)+IF(CW34=\"D\",1,0)+IF(CW35=\"D\",1,0)+IF(CW36=\"D\",1,0)+IF(CW37=\"D\",1,0)+IF(CW38=\"D\",1,0)+IF(CW39=\"D\",1,0)","v":1},{"$f":"IF(CW4=\"W\",1,0)+IF(CW5=\"W\",1,0)+IF(CW6=\"W\",1,0)+IF(CW7=\"W\",1,0)+IF(CW8=\"W\",1,0)+IF(CW9=\"W\",1,0)+IF(CW10=\"W\",1,0)+IF(CW11=\"W\",1,0)+IF(CW12=\"W\",1,0)+IF(CW13=\"W\",1,0)+IF(CW14=\"W\",1,0)+IF(CW15=\"W\",1,0)+IF(CW16=\"W\",1,0)+IF(CW17=\"W\",1,0)+IF(CW18=\"W\",1,0)+IF(CW19=\"W\",1,0)+IF(CW20=\"W\",1,0)+IF(CW21=\"W\",1,0)+IF(CW22=\"W\",1,0)+IF(CW23=\"W\",1,0)+IF(CW24=\"W\",1,0)+IF(CW25=\"W\",1,0)+IF(CW26=\"W\",1,0)+IF(CW27=\"W\",1,0)+IF(CW28=\"W\",1,0)+IF(CW29=\"W\",1,0)+IF(CW30=\"W\",1,0)+IF(CW31=\"W\",1,0)+IF(CW32=\"W\",1,0)+IF(CW33=\"W\",1,0)+IF(CW34=\"W\",1,0)+IF(CW35=\"W\",1,0)+IF(CW36=\"W\",1,0)+IF(CW37=\"W\",1,0)+IF(CW38=\"W\",1,0)+IF(CW39=\"W\",1,0)","v":0},{"$f":"IF(CZ4=\"L\",1,0)+IF(CZ5=\"L\",1,0)+IF(CZ6=\"L\",1,0)+IF(CZ7=\"L\",1,0)+IF(CZ8=\"L\",1,0)+IF(CZ9=\"L\",1,0)+IF(CZ10=\"L\",1,0)+IF(CZ11=\"L\",1,0)+IF(CZ12=\"L\",1,0)+IF(CZ13=\"L\",1,0)+IF(CZ14=\"L\",1,0)+IF(CZ15=\"L\",1,0)+IF(CZ16=\"L\",1,0)+IF(CZ17=\"L\",1,0)+IF(CZ18=\"L\",1,0)+IF(CZ19=\"L\",1,0)+IF(CZ20=\"L\",1,0)+IF(CZ21=\"L\",1,0)+IF(CZ22=\"L\",1,0)+IF(CZ23=\"L\",1,0)+IF(CZ24=\"L\",1,0)+IF(CZ25=\"L\",1,0)+IF(CZ26=\"L\",1,0)+IF(CZ27=\"L\",1,0)+IF(CZ28=\"L\",1,0)+IF(CZ29=\"L\",1,0)+IF(CZ30=\"L\",1,0)+IF(CZ31=\"L\",1,0)+IF(CZ32=\"L\",1,0)+IF(CZ33=\"L\",1,0)+IF(CZ34=\"L\",1,0)+IF(CZ35=\"L\",1,0)+IF(CZ36=\"L\",1,0)+IF(CZ37=\"L\",1,0)+IF(CZ38=\"L\",1,0)+IF(CZ39=\"L\",1,0)","v":0},{"$f":"IF(CZ4=\"D\",1,0)+IF(CZ5=\"D\",1,0)+IF(CZ6=\"D\",1,0)+IF(CZ7=\"D\",1,0)+IF(CZ8=\"D\",1,0)+IF(CZ9=\"D\",1,0)+IF(CZ10=\"D\",1,0)+IF(CZ11=\"D\",1,0)+IF(CZ12=\"D\",1,0)+IF(CZ13=\"D\",1,0)+IF(CZ14=\"D\",1,0)+IF(CZ15=\"D\",1,0)+IF(CZ16=\"D\",1,0)+IF(CZ17=\"D\",1,0)+IF(CZ18=\"D\",1,0)+IF(CZ19=\"D\",1,0)+IF(CZ20=\"D\",1,0)+IF(CZ21=\"D\",1,0)+IF(CZ22=\"D\",1,0)+IF(CZ23=\"D\",1,0)+IF(CZ24=\"D\",1,0)+IF(CZ25=\"D\",1,0)+IF(CZ26=\"D\",1,0)+IF(CZ27=\"D\",1,0)+IF(CZ28=\"D\",1,0)+IF(CZ29=\"D\",1,0)+IF(CZ30=\"D\",1,0)+IF(CZ31=\"D\",1,0)+IF(CZ32=\"D\",1,0)+IF(CZ33=\"D\",1,0)+IF(CZ34=\"D\",1,0)+IF(CZ35=\"D\",1,0)+IF(CZ36=\"D\",1,0)+IF(CZ37=\"D\",1,0)+IF(CZ38=\"D\",1,0)+IF(CZ39=\"D\",1,0)","v":0},{"$f":"IF(CZ4=\"W\",1,0)+IF(CZ5=\"W\",1,0)+IF(CZ6=\"W\",1,0)+IF(CZ7=\"W\",1,0)+IF(CZ8=\"W\",1,0)+IF(CZ9=\"W\",1,0)+IF(CZ10=\"W\",1,0)+IF(CZ11=\"W\",1,0)+IF(CZ12=\"W\",1,0)+IF(CZ13=\"W\",1,0)+IF(CZ14=\"W\",1,0)+IF(CZ15=\"W\",1,0)+IF(CZ16=\"W\",1,0)+IF(CZ17=\"W\",1,0)+IF(CZ18=\"W\",1,0)+IF(CZ19=\"W\",1,0)+IF(CZ20=\"W\",1,0)+IF(CZ21=\"W\",1,0)+IF(CZ22=\"W\",1,0)+IF(CZ23=\"W\",1,0)+IF(CZ24=\"W\",1,0)+IF(CZ25=\"W\",1,0)+IF(CZ26=\"W\",1,0)+IF(CZ27=\"W\",1,0)+IF(CZ28=\"W\",1,0)+IF(CZ29=\"W\",1,0)+IF(CZ30=\"W\",1,0)+IF(CZ31=\"W\",1,0)+IF(CZ32=\"W\",1,0)+IF(CZ33=\"W\",1,0)+IF(CZ34=\"W\",1,0)+IF(CZ35=\"W\",1,0)+IF(CZ36=\"W\",1,0)+IF(CZ37=\"W\",1,0)+IF(CZ38=\"W\",1,0)+IF(CZ39=\"W\",1,0)","v":1},{"$f":"IF(DC4=\"L\",1,0)+IF(DC5=\"L\",1,0)+IF(DC6=\"L\",1,0)+IF(DC7=\"L\",1,0)+IF(DC8=\"L\",1,0)+IF(DC9=\"L\",1,0)+IF(DC10=\"L\",1,0)+IF(DC11=\"L\",1,0)+IF(DC12=\"L\",1,0)+IF(DC13=\"L\",1,0)+IF(DC14=\"L\",1,0)+IF(DC15=\"L\",1,0)+IF(DC16=\"L\",1,0)+IF(DC17=\"L\",1,0)+IF(DC18=\"L\",1,0)+IF(DC19=\"L\",1,0)+IF(DC20=\"L\",1,0)+IF(DC21=\"L\",1,0)+IF(DC22=\"L\",1,0)+IF(DC23=\"L\",1,0)+IF(DC24=\"L\",1,0)+IF(DC25=\"L\",1,0)+IF(DC26=\"L\",1,0)+IF(DC27=\"L\",1,0)+IF(DC28=\"L\",1,0)+IF(DC29=\"L\",1,0)+IF(DC30=\"L\",1,0)+IF(DC31=\"L\",1,0)+IF(DC32=\"L\",1,0)+IF(DC33=\"L\",1,0)+IF(DC34=\"L\",1,0)+IF(DC35=\"L\",1,0)+IF(DC36=\"L\",1,0)+IF(DC37=\"L\",1,0)+IF(DC38=\"L\",1,0)+IF(DC39=\"L\",1,0)","v":0},{"$f":"IF(DC4=\"D\",1,0)+IF(DC5=\"D\",1,0)+IF(DC6=\"D\",1,0)+IF(DC7=\"D\",1,0)+IF(DC8=\"D\",1,0)+IF(DC9=\"D\",1,0)+IF(DC10=\"D\",1,0)+IF(DC11=\"D\",1,0)+IF(DC12=\"D\",1,0)+IF(DC13=\"D\",1,0)+IF(DC14=\"D\",1,0)+IF(DC15=\"D\",1,0)+IF(DC16=\"D\",1,0)+IF(DC17=\"D\",1,0)+IF(DC18=\"D\",1,0)+IF(DC19=\"D\",1,0)+IF(DC20=\"D\",1,0)+IF(DC21=\"D\",1,0)+IF(DC22=\"D\",1,0)+IF(DC23=\"D\",1,0)+IF(DC24=\"D\",1,0)+IF(DC25=\"D\",1,0)+IF(DC26=\"D\",1,0)+IF(DC27=\"D\",1,0)+IF(DC28=\"D\",1,0)+IF(DC29=\"D\",1,0)+IF(DC30=\"D\",1,0)+IF(DC31=\"D\",1,0)+IF(DC32=\"D\",1,0)+IF(DC33=\"D\",1,0)+IF(DC34=\"D\",1,0)+IF(DC35=\"D\",1,0)+IF(DC36=\"D\",1,0)+IF(DC37=\"D\",1,0)+IF(DC38=\"D\",1,0)+IF(DC39=\"D\",1,0)","v":0},{"$f":"IF(DC4=\"W\",1,0)+IF(DC5=\"W\",1,0)+IF(DC6=\"W\",1,0)+IF(DC7=\"W\",1,0)+IF(DC8=\"W\",1,0)+IF(DC9=\"W\",1,0)+IF(DC10=\"W\",1,0)+IF(DC11=\"W\",1,0)+IF(DC12=\"W\",1,0)+IF(DC13=\"W\",1,0)+IF(DC14=\"W\",1,0)+IF(DC15=\"W\",1,0)+IF(DC16=\"W\",1,0)+IF(DC17=\"W\",1,0)+IF(DC18=\"W\",1,0)+IF(DC19=\"W\",1,0)+IF(DC20=\"W\",1,0)+IF(DC21=\"W\",1,0)+IF(DC22=\"W\",1,0)+IF(DC23=\"W\",1,0)+IF(DC24=\"W\",1,0)+IF(DC25=\"W\",1,0)+IF(DC26=\"W\",1,0)+IF(DC27=\"W\",1,0)+IF(DC28=\"W\",1,0)+IF(DC29=\"W\",1,0)+IF(DC30=\"W\",1,0)+IF(DC31=\"W\",1,0)+IF(DC32=\"W\",1,0)+IF(DC33=\"W\",1,0)+IF(DC34=\"W\",1,0)+IF(DC35=\"W\",1,0)+IF(DC36=\"W\",1,0)+IF(DC37=\"W\",1,0)+IF(DC38=\"W\",1,0)+IF(DC39=\"W\",1,0)","v":1},{"$f":"IF(DF4=\"L\",1,0)+IF(DF5=\"L\",1,0)+IF(DF6=\"L\",1,0)+IF(DF7=\"L\",1,0)+IF(DF8=\"L\",1,0)+IF(DF9=\"L\",1,0)+IF(DF10=\"L\",1,0)+IF(DF11=\"L\",1,0)+IF(DF12=\"L\",1,0)+IF(DF13=\"L\",1,0)+IF(DF14=\"L\",1,0)+IF(DF15=\"L\",1,0)+IF(DF16=\"L\",1,0)+IF(DF17=\"L\",1,0)+IF(DF18=\"L\",1,0)+IF(DF19=\"L\",1,0)+IF(DF20=\"L\",1,0)+IF(DF21=\"L\",1,0)+IF(DF22=\"L\",1,0)+IF(DF23=\"L\",1,0)+IF(DF24=\"L\",1,0)+IF(DF25=\"L\",1,0)+IF(DF26=\"L\",1,0)+IF(DF27=\"L\",1,0)+IF(DF28=\"L\",1,0)+IF(DF29=\"L\",1,0)+IF(DF30=\"L\",1,0)+IF(DF31=\"L\",1,0)+IF(DF32=\"L\",1,0)+IF(DF33=\"L\",1,0)+IF(DF34=\"L\",1,0)+IF(DF35=\"L\",1,0)+IF(DF36=\"L\",1,0)+IF(DF37=\"L\",1,0)+IF(DF38=\"L\",1,0)+IF(DF39=\"L\",1,0)","v":0},{"$f":"IF(DF4=\"D\",1,0)+IF(DF5=\"D\",1,0)+IF(DF6=\"D\",1,0)+IF(DF7=\"D\",1,0)+IF(DF8=\"D\",1,0)+IF(DF9=\"D\",1,0)+IF(DF10=\"D\",1,0)+IF(DF11=\"D\",1,0)+IF(DF12=\"D\",1,0)+IF(DF13=\"D\",1,0)+IF(DF14=\"D\",1,0)+IF(DF15=\"D\",1,0)+IF(DF16=\"D\",1,0)+IF(DF17=\"D\",1,0)+IF(DF18=\"D\",1,0)+IF(DF19=\"D\",1,0)+IF(DF20=\"D\",1,0)+IF(DF21=\"D\",1,0)+IF(DF22=\"D\",1,0)+IF(DF23=\"D\",1,0)+IF(DF24=\"D\",1,0)+IF(DF25=\"D\",1,0)+IF(DF26=\"D\",1,0)+IF(DF27=\"D\",1,0)+IF(DF28=\"D\",1,0)+IF(DF29=\"D\",1,0)+IF(DF30=\"D\",1,0)+IF(DF31=\"D\",1,0)+IF(DF32=\"D\",1,0)+IF(DF33=\"D\",1,0)+IF(DF34=\"D\",1,0)+IF(DF35=\"D\",1,0)+IF(DF36=\"D\",1,0)+IF(DF37=\"D\",1,0)+IF(DF38=\"D\",1,0)+IF(DF39=\"D\",1,0)","v":0},{"$f":"IF(DF4=\"W\",1,0)+IF(DF5=\"W\",1,0)+IF(DF6=\"W\",1,0)+IF(DF7=\"W\",1,0)+IF(DF8=\"W\",1,0)+IF(DF9=\"W\",1,0)+IF(DF10=\"W\",1,0)+IF(DF11=\"W\",1,0)+IF(DF12=\"W\",1,0)+IF(DF13=\"W\",1,0)+IF(DF14=\"W\",1,0)+IF(DF15=\"W\",1,0)+IF(DF16=\"W\",1,0)+IF(DF17=\"W\",1,0)+IF(DF18=\"W\",1,0)+IF(DF19=\"W\",1,0)+IF(DF20=\"W\",1,0)+IF(DF21=\"W\",1,0)+IF(DF22=\"W\",1,0)+IF(DF23=\"W\",1,0)+IF(DF24=\"W\",1,0)+IF(DF25=\"W\",1,0)+IF(DF26=\"W\",1,0)+IF(DF27=\"W\",1,0)+IF(DF28=\"W\",1,0)+IF(DF29=\"W\",1,0)+IF(DF30=\"W\",1,0)+IF(DF31=\"W\",1,0)+IF(DF32=\"W\",1,0)+IF(DF33=\"W\",1,0)+IF(DF34=\"W\",1,0)+IF(DF35=\"W\",1,0)+IF(DF36=\"W\",1,0)+IF(DF37=\"W\",1,0)+IF(DF38=\"W\",1,0)+IF(DF39=\"W\",1,0)","v":1}]
[null,"F/A",null,{"$f":"SUM(D4:D39)","v":0},{"$f":"SUM(C4:C39)","v":1},null,{"$f":"SUM(G4:G39)","v":0},{"$f":"SUM(F4:F39)","v":0},null,{"$f":"SUM(J4:J39)","v":3},{"$f":"SUM(I4:I39)","v":0},null,{"$f":"SUM(M4:M39)","v":3},{"$f":"SUM(L4:L39)","v":0},null,{"$f":"SUM(P4:P39)","v":0},{"$f":"SUM(O4:O39)","v":4},null,{"$f":"SUM(S4:S39)","v":1},{"$f":"SUM(R4:R39)","v":2},null,{"$f":"SUM(V4:V39)","v":4},{"$f":"SUM(U4:U39)","v":0},null,{"$f":"SUM(Y4:Y39)","v":0},{"$f":"SUM(X4:X39)","v":1},null,{"$f":"SUM(AB4:AB39)","v":2},{"$f":"SUM(AA4:AA39)","v":1},null,{"$f":"SUM(AE4:AE39)","v":0},{"$f":"SUM(AD4:AD39)","v":2},null,{"$f":"SUM(AH4:AH39)","v":3},{"$f":"SUM(AG4:AG39)","v":0},null,{"$f":"SUM(AK4:AK39)","v":4},{"$f":"SUM(AJ4:AJ39)","v":0},null,{"$f":"SUM(AN4:AN39)","v":1},{"$f":"SUM(AM4:AM39)","v":7},null,{"$f":"SUM(AQ4:AQ39)","v":1},{"$f":"SUM(AP4:AP39)","v":0},null,{"$f":"SUM(AT4:AT39)","v":2},{"$f":"SUM(AS4:AS39)","v":9},null,{"$f":"SUM(AW4:AW39)","v":3},{"$f":"SUM(AV4:AV39)","v":2},null,{"$f":"SUM(AZ4:AZ39)","v":0},{"$f":"SUM(AY4:AY39)","v":1},null,{"$f":"SUM(BC4:BC39)","v":0},{"$f":"SUM(BB4:BB39)","v":0},null,{"$f":"SUM(BF4:BF39)","v":3},{"$f":"SUM(BE4:BE39)","v":2},null,{"$f":"SUM(BI4:BI39)","v":0},{"$f":"SUM(BH4:BH39)","v":2},null,{"$f":"SUM(BL4:BL39)","v":3},{"$f":"SUM(BK4:BK39)","v":1},null,{"$f":"SUM(BO4:BO39)","v":4},{"$f":"SUM(BN4:BN39)","v":0},null,{"$f":"SUM(BR4:BR39)","v":2},{"$f":"SUM(BQ4:BQ39)","v":2},null,{"$f":"SUM(BU4:BU39)","v":0},{"$f":"SUM(BT4:BT39)","v":2},null,{"$f":"SUM(BX4:BX39)","v":1},{"$f":"SUM(BW4:BW39)","v":3},null,{"$f":"SUM(CA4:CA39)","v":1},{"$f":"SUM(BZ4:BZ39)","v":2},null,{"$f":"SUM(CD4:CD39)","v":0},{"$f":"SUM(CC4:CC39)","v":1},null,{"$f":"SUM(CG4:CG39)","v":0},{"$f":"SUM(CF4:CF39)","v":4},null,{"$f":"SUM(CJ4:CJ39)","v":0},{"$f":"SUM(CI4:CI39)","v":3},null,{"$f":"SUM(CM4:CM39)","v":0},{"$f":"SUM(CL4:CL39)","v":0},null,{"$f":"SUM(CP4:CP39)","v":1},{"$f":"SUM(CO4:CO39)","v":5},null,{"$f":"SUM(CS4:CS39)","v":1},{"$f":"SUM(CR4:CR39)","v":1},null,{"$f":"SUM(CV4:CV39)","v":1},{"$f":"SUM(CU4:CU39)","v":1},null,{"$f":"SUM(CY4:CY39)","v":1},{"$f":"SUM(CX4:CX39)","v":2},null,{"$f":"SUM(DB4:DB39)","v":1},{"$f":"SUM(DA4:DA39)","v":3},null,{"$f":"SUM(DE4:DE39)","v":0},{"$f":"SUM(DD4:DD39)","v":5}]
[]
[]
[null,null,null,null,null,null,null,null,null,null,null,null,null,null,null,null,null,null,null,null,null,null,null,null,null,null,null,null,null,{"$f":"IF(Fixtures!$D$38=\"\",\"\",Fixtures!$D$38)","v":4},{"$f":"IF(Fixtures!$E$38=\"\",\"\",Fixtures!$E$38)","v":0},null,{"$f":"IF(Fixtures!$D$79=\"\",\"\",Fixtures!$D$79)","v":""},{"$f":"IF(Fixtures!$E$79=\"\",\"\",Fixtures!$E$79)","v":""},null,{"$f":"IF(Fixtures!$D$87=\"\",\"\",Fixtures!$D$87)","v":""},{"$f":"IF(Fixtures!$E$87=\"\",\"\",Fixtures!$E$87)","v":""},null,{"$f":"IF(Fixtures!$D$101=\"\",\"\",Fixtures!$D$101)","v":""},{"$f":"IF(Fixtures!$E$101=\"\",\"\",Fixtures!$E$101)","v":""}]
[null,null,null,null,null,null,null,null,null,null,null,null,null,null,null,null,null,null,null,null,null,null,null,null,null,null,null,null,null,{"$f":"IF(Fixtures!$D$73=\"\",\"\",Fixtures!$D$73)","v":""},{"$f":"IF(Fixtures!$E$73=\"\",\"\",Fixtures!$E$73)","v":""},null,{"$f":"IF(Fixtures!$D$120=\"\",\"\",Fixtures!$D$120)","v":""},{"$f":"IF(Fixtures!$E$120=\"\",\"\",Fixtures!$E$120)","v":""},null,{"$f":"IF(Fixtures!$D$115=\"\",\"\",Fixtures!$D$115)","v":""},{"$f":"IF(Fixtures!$E$115=\"\",\"\",Fixtures!$E$115)","v":""},null,{"$f":"IF(Fixtures!$D$116=\"\",\"\",Fixtures!$D$116)","v":""},{"$f":"IF(Fixtures!$E$116=\"\",\"\",Fixtures!$E$116)","v":""}]
[null,null,null,null,null,null,null,null,null,null,null,null,null,null,null,null,null,null,null,null,null,null,null,null,null,null,null,null,null,{"$f":"IF(Fixtures!$D$136=\"\",\"\",Fixtures!$D$136)","v":""},{"$f":"IF(Fixtures!$E$136=\"\",\"\",Fixtures!$E$136)","v":""},null,{"$f":"IF(Fixtures!$D$21=\"\",\"\",Fixtures!$D$21)","v":0},{"$f":"IF(Fixtures!$E$21=\"\",\"\",Fixtures!$E$21)","v":4},null,{"$f":"IF(Fixtures!$D$63=\"\",\"\",Fixtures!$D$63)","v":""},{"$f":"IF(Fixtures!$E$63=\"\",\"\",Fixtures!$E$63)","v":""},null,{"$f":"IF(Fixtures!$D$4=\"\",\"\",Fixtures!$D$4)","v":3},{"$f":"IF(Fixtures!$E$4=\"\",\"\",Fixtures!$E$4)","v":1}]
[null,null,null,null,null,null,null,null,null,null,null,null,null,null,null,null,null,null,null,null,null,null,null,null,null,null,null,null,null,{"$f":"IF(Fixtures!$D$75=\"\",\"\",Fixtures!$D$75)","v":""},{"$f":"IF(Fixtures!$E$75=\"\",\"\",Fixtures!$E$75)","v":""},null,{"$f":"IF(Fixtures!$D$68=\"\",\"\",Fixtures!$D$68)","v":""},{"$f":"IF(Fixtures!$E$68=\"\",\"\",Fixtures!$E$68)","v":""},null,{"$f":"IF(Fixtures!$D$36=\"\",\"\",Fixtures!$D$36)","v":2},{"$f":"IF(Fixtures!$E$36=\"\",\"\",Fixtures!$E$36)","v":3},null,{"$f":"IF(Fixtures!$D$45=\"\",\"\",Fixtures!$D$45)","v":""},{"$f":"IF(Fixtures!$E$45=\"\",\"\",Fixtures!$E$45)","v":""}]
[null,null,null,null,null,null,null,null,null,null,null,null,null,null,null,null,null,null,null,null,null,null,null,null,null,null,null,null,null,{"$f":"IF(Fixtures!$D$18=\"\",\"\",Fixtures!$D$18)","v":0},{"$f":"IF(Fixtures!$E$18=\"\",\"\",Fixtures!$E$18)","v":0},null,{"$f":"IF(Fixtures!$D$129=\"\",\"\",Fixtures!$D$129)","v":""},{"$f":"IF(Fixtures!$E$129=\"\",\"\",Fixtures!$E$129)","v":""},null,{"$f":"IF(Fixtures!$D$113=\"\",\"\",Fixtures!$D$113)","v":""},{"$f":"IF(Fixtures!$E$113=\"\",\"\",Fixtures!$E$113)","v":""},null,{"$f":"IF(Fixtures!$D$95=\"\",\"\",Fixtures!$D$95)","v":""},{"$f":"IF(Fixtures!$E$95=\"\",\"\",Fixtures!$E$95)","v":""}]
[null,null,null,null,null,null,null,null,null,null,null,null,null,null,null,null,null,null,null,null,null,null,null,null,null,null,null,null,null,{"$f":"IF(Fixtures!$D$137=\"\",\"\",Fixtures!$D$137)","v":""},{"$f":"IF(Fixtures!$E$137=\"\",\"\",Fixtures!$E$137)","v":""},null,{"$f":"IF(Fixtures!$D$48=\"\",\"\",Fixtures!$D$48)","v":""},{"$f":"IF(Fixtures!$E$48=\"\",\"\",Fixtures!$E$48)","v":""},null,{"$f":"IF(Fixtures!$D$49=\"\",\"\",Fixtures!$D$49)","v":""},{"$f":"IF(Fixtures!$E$49=\"\",\"\",Fixtures!$E$49)","v":""},null,{"$f":"IF(Fixtures!$D$145=\"\",\"\",Fixtures!$D$145)","v":""},{"$f":"IF(Fixtures!$E$145=\"\",\"\",Fixtures!$E$145)","v":""}]
[null,null,null,null,null,null,null,null,null,null,null,null,null,null,null,null,null,null,null,null,null,null,null,null,null,null,null,null,null,{"$f":"IF(Fixtures!$D$70=\"\",\"\",Fixtures!$D$70)","v":""},{"$f":"IF(Fixtures!$E$70=\"\",\"\",Fixtures!$E$70)","v":""},null,{"$f":"IF(Fixtures!$D$25=\"\",\"\",Fixtures!$D$25)","v":7},{"$f":"IF(Fixtures!$E$25=\"\",\"\",Fixtures!$E$25)","v":1},null,{"$f":"IF(Fixtures!$D$15=\"\",\"\",Fixtures!$D$15)","v":0},{"$f":"IF(Fixtures!$E$15=\"\",\"\",Fixtures!$E$15)","v":4},null,{"$f":"IF(Fixtures!$D$35=\"\",\"\",Fixtures!$D$35)","v":1},{"$f":"IF(Fixtures!$E$35=\"\",\"\",Fixtures!$E$35)","v":0}]
[null,null,null,null,null,null,null,null,null,null,null,null,null,null,null,null,null,null,null,null,null,null,null,null,null,null,null,null,null,{"$f":"IF(Fixtures!$D$83=\"\",\"\",Fixtures!$D$83)","v":""},{"$f":"IF(Fixtures!$E$83=\"\",\"\",Fixtures!$E$83)","v":""},null,{"$f":"IF(Fixtures!$D$94=\"\",\"\",Fixtures!$D$94)","v":""},{"$f":"IF(Fixtures!$E$94=\"\",\"\",Fixtures!$E$94)","v":""},null,{"$f":"IF(Fixtures!$D$62=\"\",\"\",Fixtures!$D$62)","v":""},{"$f":"IF(Fixtures!$E$62=\"\",\"\",Fixtures!$E$62)","v":""},null,{"$f":"IF(Fixtures!$D$91=\"\",\"\",Fixtures!$D$91)","v":""},{"$f":"IF(Fixtures!$E$91=\"\",\"\",Fixtures!$E$91)","v":""}]
[null,null,null,null,null,null,null,null,null,null,null,null,null,null,null,null,null,null,null,null,null,null,null,null,null,null,null,null,null,{"$f":"IF(Fixtures!$D$66=\"\",\"\",Fixtures!$D$66)","v":""},{"$f":"IF(Fixtures!$E$66=\"\",\"\",Fixtures!$E$66)","v":""},null,{"$f":"IF(Fixtures!$D$27=\"\",\"\",Fixtures!$D$27)","v":4},{"$f":"IF(Fixtures!$E$27=\"\",\"\",Fixtures!$E$27)","v":0},null,{"$f":"IF(Fixtures!$D$50=\"\",\"\",Fixtures!$D$50)","v":""},{"$f":"IF(Fixtures!$E$50=\"\",\"\",Fixtures!$E$50)","v":""},null,{"$f":"IF(Fixtures!$D$102=\"\",\"\",Fixtures!$D$102)","v":""},{"$f":"IF(Fixtures!$E$102=\"\",\"\",Fixtures!$E$102)","v":""}]
[null,null,null,null,null,null,null,null,null,null,null,null,null,null,null,null,null,null,null,null,null,null,null,null,null,null,null,null,null,{"$f":"IF(Fixtures!$D$100=\"\",\"\",Fixtures!$D$100)","v":""},{"$f":"IF(Fixtures!$E$100=\"\",\"\",Fixtures!$E$100)","v":""},null,{"$f":"IF(Fixtures!$D$104=\"\",\"\",Fixtures!$D$104)","v":""},{"$f":"IF(Fixtures!$E$104=\"\",\"\",Fixtures!$E$104)","v":""},null,{"$f":"IF(Fixtures!$D$88=\"\",\"\",Fixtures!$D$88)","v":""},{"$f":"IF(Fixtures!$E$88=\"\",\"\",Fixtures!$E$88)","v":""},null,{"$f":"IF(Fixtures!$D$134=\"\",\"\",Fixtures!$D$134)","v":""},{"$f":"IF(Fixtures!$E$134=\"\",\"\",Fixtures!$E$134)","v":""}]
[null,null,null,null,null,null,null,null,null,null,null,null,null,null,null,null,null,null,null,null,null,null,null,null,null,null,null,null,null,{"$f":"IF(Fixtures!$D$111=\"\",\"\",Fixtures!$D$111)","v":""},{"$f":"IF(Fixtures!$E$111=\"\",\"\",Fixtures!$E$111)","v":""},null,{"$f":"IF(Fixtures!$D$40=\"\",\"\",Fixtures!$D$40)","v":""},{"$f":"IF(Fixtures!$E$40=\"\",\"\",Fixtures!$E$40)","v":""},null,{"$f":"IF(Fixtures!$D$117=\"\",\"\",Fixtures!$D$117)","v":""},{"$f":"IF(Fixtures!$E$117=\"\",\"\",Fixtures!$E$117)","v":""},null,{"$f":"IF(Fixtures!$D$11=\"\",\"\",Fixtures!$D$11)","v":5},{"$f":"IF(Fixtures!$E$11=\"\",\"\",Fixtures!$E$11)","v":1}]
[null,null,null,null,null,null,null,null,null,null,null,null,null,null,null,null,null,null,null,null,null,null,null,null,null,null,null,null,null,{"$f":"IF(Fixtures!$D$3=\"\",\"\",Fixtures!$D$3)","v":0},{"$f":"IF(Fixtures!$E$3=\"\",\"\",Fixtures!$E$3)","v":3},null,{"$f":"IF(Fixtures!$D$132=\"\",\"\",Fixtures!$D$132)","v":""},{"$f":"IF(Fixtures!$E$132=\"\",\"\",Fixtures!$E$132)","v":""},null,{"$f":"IF(Fixtures!$D$8=\"\",\"\",Fixtures!$D$8)","v":2},{"$f":"IF(Fixtures!$E$8=\"\",\"\",Fixtures!$E$8)","v":0},null,{"$f":"IF(Fixtures!$D$43=\"\",\"\",Fixtures!$D$43)","v":""},{"$f":"IF(Fixtures!$E$43=\"\",\"\",Fixtures!$E$43)","v":""}]
[null,null,null,null,null,null,null,null,null,null,null,null,null,null,null,null,null,null,null,null,null,null,null,null,null,null,null,null,null,{"$f":"IF(Fixtures!$D$133=\"\",\"\",Fixtures!$D$133)","v":""},{"$f":"IF(Fixtures!$E$133=\"\",\"\",Fixtures!$E$133)","v":""},null,{"$f":"IF(Fixtures!$D$41=\"\",\"\",Fixtures!$D$41)","v":""},{"$f":"IF(Fixtures!$E$41=\"\",\"\",Fixtures!$E$41)","v":""},null,{"$f":"IF(Fixtures!$D$19=\"\",\"\",Fixtures!$D$19)","v":2},{"$f":"IF(Fixtures!$E$19=\"\",\"\",Fixtures!$E$19)","v":1},null,{"$f":"IF(Fixtures!$D$71=\"\",\"\",Fixtures!$D$71)","v":""},{"$f":"IF(Fixtures!$E$71=\"\",\"\",Fixtures!$E$71)","v":""}]
[null,null,null,null,null,null,null,null,null,null,null,null,null,null,null,null,null,null,null,null,null,null,null,null,null,null,null,null,null,{"$f":"IF(Fixtures!$D$30=\"\",\"\",Fixtures!$D$30)","v":0},{"$f":"IF(Fixtures!$E$30=\"\",\"\",Fixtures!$E$30)","v":3},null,{"$f":"IF(Fixtures!$D$10=\"\",\"\",Fixtures!$D$10)","v":0},{"$f":"IF(Fixtures!$E$10=\"\",\"\",Fixtures!$E$10)","v":0},null,{"$f":"IF(Fixtures!$D$61=\"\",\"\",Fixtures!$D$61)","v":""},{"$f":"IF(Fixtures!$E$61=\"\",\"\",Fixtures!$E$61)","v":""},null,{"$f":"IF(Fixtures!$D$77=\"\",\"\",Fixtures!$D$77)","v":""},{"$f":"IF(Fixtures!$E$77=\"\",\"\",Fixtures!$E$77)","v":""}]
[null,null,null,null,null,null,null,null,null,null,null,null,null,null,null,null,null,null,null,null,null,null,null,null,null,null,null,null,null,{"$f":"IF(Fixtures!$D$74=\"\",\"\",Fixtures!$D$74)","v":""},{"$f":"IF(Fixtures!$E$74=\"\",\"\",Fixtures!$E$74)","v":""},null,{"$f":"IF(Fixtures!$D$131=\"\",\"\",Fixtures!$D$131)","v":""},{"$f":"IF(Fixtures!$E$131=\"\",\"\",Fixtures!$E$131)","v":""},null,{"$f":"IF(Fixtures!$D$81=\"\",\"\",Fixtures!$D$81)","v":""},{"$f":"IF(Fixtures!$E$81=\"\",\"\",Fixtures!$E$81)","v":""},null,{"$f":"IF(Fixtures!$D$128=\"\",\"\",Fixtures!$D$128)","v":""},{"$f":"IF(Fixtures!$E$128=\"\",\"\",Fixtures!$E$128)","v":""}]
[null,null,null,null,null,null,null,null,null,null,null,null,null,null,null,null,null,null,null,null,null,null,null,null,null,null,null,null,null,{"$f":"IF(Fixtures!$D$78=\"\",\"\",Fixtures!$D$78)","v":""},{"$f":"IF(Fixtures!$E$78=\"\",\"\",Fixtures!$E$78)","v":""},null,{"$f":"IF(Fixtures!$D$92=\"\",\"\",Fixtures!$D$92)","v":""},{"$f":"IF(Fixtures!$E$92=\"\",\"\",Fixtures!$E$92)","v":""},null,{"$f":"IF(Fixtures!$D$143=\"\",\"\",Fixtures!$D$143)","v":""},{"$f":"IF(Fixtures!$E$143=\"\",\"\",Fixtures!$E$143)","v":""},null,{"$f":"IF(Fixtures!$D$9=\"\",\"\",Fixtures!$D$9)","v":3},{"$f":"IF(Fixtures!$E$9=\"\",\"\",Fixtures!$E$9)","v":0}]
[null,null,null,null,null,null,null,null,null,null,null,null,null,null,null,null,null,null,null,null,null,null,null,null,null,null,null,null,null,{"$f":"IF(Fixtures!$D$119=\"\",\"\",Fixtures!$D$119)","v":""},{"$f":"IF(Fixtures!$E$119=\"\",\"\",Fixtures!$E$119)","v":""},null,{"$f":"IF(Fixtures!$D$12=\"\",\"\",Fixtures!$D$12)","v":0},{"$f":"IF(Fixtures!$E$12=\"\",\"\",Fixtures!$E$12)","v":3},null,{"$f":"IF(Fixtures!$D$108=\"\",\"\",Fixtures!$D$108)","v":""},{"$f":"IF(Fixtures!$E$108=\"\",\"\",Fixtures!$E$108)","v":""},null,{"$f":"IF(Fixtures!$D$107=\"\",\"\",Fixtures!$D$107)","v":""},{"$f":"IF(Fixtures!$E$107=\"\",\"\",Fixtures!$E$107)","v":""}]
[null,null,null,null,null,null,null,null,null,null,null,null,null,null,null,null,null,null,null,null,null,null,null,null,null,null,null,null,null,{"$f":"IF(Fixtures!$D$72=\"\",\"\",Fixtures!$D$72)","v":""},{"$f":"IF(Fixtures!$E$72=\"\",\"\",Fixtures!$E$72)","v":""},null,{"$f":"IF(Fixtures!$D$114=\"\",\"\",Fixtures!$D$114)","v":""},{"$f":"IF(Fixtures!$E$114=\"\",\"\",Fixtures!$E$114)","v":""},null,{"$f":"IF(Fixtures!$D$127=\"\",\"\",Fixtures!$D$127)","v":""},{"$f":"IF(Fixtures!$E$127=\"\",\"\",Fixtures!$E$127)","v":""},null,{"$f":"IF(Fixtures!$D$130=\"\",\"\",Fixtures!$D$130)","v":""},{"$f":"IF(Fixtures!$E$130=\"\",\"\",Fixtures!$E$130)","v":""}]
[null,null,null,null,null,null,null,null,null,null,null,null,null,null,null,null,null,null,null,null,null,null,null,null,null,null,null,null,null,{"$f":"IF(Fixtures!$D$106=\"\",\"\",Fixtures!$D$106)","v":""},{"$f":"IF(Fixtures!$E$106=\"\",\"\",Fixtures!$E$106)","v":""},null,{"$f":"IF(Fixtures!$D$90=\"\",\"\",Fixtures!$D$90)","v":""},{"$f":"IF(Fixtures!$E$90=\"\",\"\",Fixtures!$E$90)","v":""},null,{"$f":"IF(Fixtures!$D$29=\"\",\"\",Fixtures!$D$29)","v":0},{"$f":"IF(Fixtures!$E$29=\"\",\"\",Fixtures!$E$29)","v":4},null,{"$f":"IF(Fixtures!$D$54=\"\",\"\",Fixtures!$D$54)","v":""},{"$f":"IF(Fixtures!$E$54=\"\",\"\",Fixtures!$E$54)","v":""}]
[null,null,null,null,null,null,null,null,null,null,null,null,null,null,null,null,null,null,null,null,null,null,null,null,null,null,null,null,null,{"$f":"IF(Fixtures!$D$17=\"\",\"\",Fixtures!$D$17)","v":2},{"$f":"IF(Fixtures!$E$17=\"\",\"\",Fixtures!$E$17)","v":1},null,{"$f":"IF(Fixtures!$D$46=\"\",\"\",Fixtures!$D$46)","v":""},{"$f":"IF(Fixtures!$E$46=\"\",\"\",Fixtures!$E$46)","v":""},null,{"$f":"IF(Fixtures!$D$65=\"\",\"\",Fixtures!$D$65)","v":""},{"$f":"IF(Fixtures!$E$65=\"\",\"\",Fixtures!$E$65)","v":""},null,{"$f":"IF(Fixtures!$D$22=\"\",\"\",Fixtures!$D$22)","v":1},{"$f":"IF(Fixtures!$E$22=\"\",\"\",Fixtures!$E$22)","v":1}]
[null,null,null,null,null,null,null,null,null,null,null,null,null,null,null,null,null,null,null,null,null,null,null,null,null,null,null,null,null,{"$f":"IF(Fixtures!$D$32=\"\",\"\",Fixtures!$D$32)","v":1},{"$f":"IF(Fixtures!$E$32=\"\",\"\",Fixtures!$E$32)","v":0},null,{"$f":"IF(Fixtures!$D$56=\"\",\"\",Fixtures!$D$56)","v":""},{"$f":"IF(Fixtures!$E$56=\"\",\"\",Fixtures!$E$56)","v":""},null,{"$f":"IF(Fixtures!$D$138=\"\",\"\",Fixtures!$D$138)","v":""},{"$f":"IF(Fixtures!$E$138=\"\",\"\",Fixtures!$E$138)","v":""},null,{"$f":"IF(Fixtures!$D$97=\"\",\"\",Fixtures!$D$97)","v":""},{"$f":"IF(Fixtures!$E$97=\"\",\"\",Fixtures!$E$97)","v":""}]
[null,null,null,null,null,null,null,null,null,null,null,null,null,null,null,null,null,null,null,null,null,null,null,null,null,null,null,null,null,{"$f":"IF(Fixtures!$D$52=\"\",\"\",Fixtures!$D$52)","v":""},{"$f":"IF(Fixtures!$E$52=\"\",\"\",Fixtures!$E$52)","v":""},null,{"$f":"IF(Fixtures!$D$31=\"\",\"\",Fixtures!$D$31)","v":2},{"$f":"IF(Fixtures!$E$31=\"\",\"\",Fixtures!$E$31)","v":3},null,{"$f":"IF(Fixtures!$D$24=\"\",\"\",Fixtures!$D$24)","v":1},{"$f":"IF(Fixtures!$E$24=\"\",\"\",Fixtures!$E$24)","v":0},null,{"$f":"IF(Fixtures!$D$121=\"\",\"\",Fixtures!$D$121)","v":""},{"$f":"IF(Fixtures!$E$121=\"\",\"\",Fixtures!$E$121)","v":""}]
[null,null,null,null,null,null,null,null,null,null,null,null,null,null,null,null,null,null,null,null,null,null,null,null,null,null,null,null,null,{"$f":"IF(Fixtures!$D$99=\"\",\"\",Fixtures!$D$99)","v":""},{"$f":"IF(Fixtures!$E$99=\"\",\"\",Fixtures!$E$99)","v":""},null,{"$f":"IF(Fixtures!$D$140=\"\",\"\",Fixtures!$D$140)","v":""},{"$f":"IF(Fixtures!$E$140=\"\",\"\",Fixtures!$E$140)","v":""},null,{"$f":"IF(Fixtures!$D$64=\"\",\"\",Fixtures!$D$64)","v":""},{"$f":"IF(Fixtures!$E$64=\"\",\"\",Fixtures!$E$64)","v":""},null,{"$f":"IF(Fixtures!$D$28=\"\",\"\",Fixtures!$D$28)","v":1},{"$f":"IF(Fixtures!$E$28=\"\",\"\",Fixtures!$E$28)","v":1}]
[null,null,null,null,null,null,null,null,null,null,null,null,null,null,null,null,null,null,null,null,null,null,null,null,null,null,null,null,null,{"$f":"IF(Fixtures!$D$126=\"\",\"\",Fixtures!$D$126)","v":""},{"$f":"IF(Fixtures!$E$126=\"\",\"\",Fixtures!$E$126)","v":""},null,{"$f":"IF(Fixtures!$D$82=\"\",\"\",Fixtures!$D$82)","v":""},{"$f":"IF(Fixtures!$E$82=\"\",\"\",Fixtures!$E$82)","v":""},null,{"$f":"IF(Fixtures!$D$76=\"\",\"\",Fixtures!$D$76)","v":""},{"$f":"IF(Fixtures!$E$76=\"\",\"\",Fixtures!$E$76)","v":""},null,{"$f":"IF(Fixtures!$D$47=\"\",\"\",Fixtures!$D$47)","v":""},{"$f":"IF(Fixtures!$E$47=\"\",\"\",Fixtures!$E$47)","v":""}]
[null,null,null,null,null,null,null,null,null,null,null,null,null,null,null,null,null,null,null,null,null,null,null,null,null,null,null,null,null,{"$f":"IF(Fixtures!$D$69=\"\",\"\",Fixtures!$D$69)","v":""},{"$f":"IF(Fixtures!$E$69=\"\",\"\",Fixtures!$E$69)","v":""},null,{"$f":"IF(Fixtures!$D$122=\"\",\"\",Fixtures!$D$122)","v":""},{"$f":"IF(Fixtures!$E$122=\"\",\"\",Fixtures!$E$122)","v":""},null,{"$f":"IF(Fixtures!$D$105=\"\",\"\",Fixtures!$D$105)","v":""},{"$f":"IF(Fixtures!$E$105=\"\",\"\",Fixtures!$E$105)","v":""},null,{"$f":"IF(Fixtures!$D$112=\"\",\"\",Fixtures!$D$112)","v":""},{"$f":"IF(Fixtures!$E$112=\"\",\"\",Fixtures!$E$112)","v":""}]
[null,null,null,null,null,null,null,null,null,null,null,null,null,null,null,null,null,null,null,null,null,null,null,null,null,null,null,null,null,{"$f":"IF(Fixtures!$D$16=\"\",\"\",Fixtures!$D$16)","v":1},{"$f":"IF(Fixtures!$E$16=\"\",\"\",Fixtures!$E$16)","v":2},null,{"$f":"IF(Fixtures!$D$14=\"\",\"\",Fixtures!$D$14)","v":1},{"$f":"IF(Fixtures!$E$14=\"\",\"\",Fixtures!$E$14)","v":0},null,{"$f":"IF(Fixtures!$D$59=\"\",\"\",Fixtures!$D$59)","v":""},{"$f":"IF(Fixtures!$E$59=\"\",\"\",Fixtures!$E$59)","v":""},null,{"$f":"IF(Fixtures!$D$20=\"\",\"\",Fixtures!$D$20)","v":2},{"$f":"IF(Fixtures!$E$20=\"\",\"\",Fixtures!$E$20)","v":1}]
[null,null,null,null,null,null,null,null,null,null,null,null,null,null,null,null,null,null,null,null,null,null,null,null,null,null,null,null,null,{"$f":"IF(Fixtures!$D$139=\"\",\"\",Fixtures!$D$139)","v":""},{"$f":"IF(Fixtures!$E$139=\"\",\"\",Fixtures!$E$139)","v":""},null,{"$f":"IF(Fixtures!$D$57=\"\",\"\",Fixtures!$D$57)","v":""},{"$f":"IF(Fixtures!$E$57=\"\",\"\",Fixtures!$E$57)","v":""},null,{"$f":"IF(Fixtures!$D$33=\"\",\"\",Fixtures!$D$33)","v":2},{"$f":"IF(Fixtures!$E$33=\"\",\"\",Fixtures!$E$33)","v":2},null,{"$f":"IF(Fixtures!$D$60=\"\",\"\",Fixtures!$D$60)","v":""},{"$f":"IF(Fixtures!$E$60=\"\",\"\",Fixtures!$E$60)","v":""}]
[null,null,null,null,null,null,null,null,null,null,null,null,null,null,null,null,null,null,null,null,null,null,null,null,null,null,null,null,null,{"$f":"IF(Fixtures!$D$86=\"\",\"\",Fixtures!$D$86)","v":""},{"$f":"IF(Fixtures!$E$86=\"\",\"\",Fixtures!$E$86)","v":""},null,{"$f":"IF(Fixtures!$D$85=\"\",\"\",Fixtures!$D$85)","v":""},{"$f":"IF(Fixtures!$E$85=\"\",\"\",Fixtures!$E$85)","v":""},null,{"$f":"IF(Fixtures!$D$135=\"\",\"\",Fixtures!$D$135)","v":""},{"$f":"IF(Fixtures!$E$135=\"\",\"\",Fixtures!$E$135)","v":""},null,{"$f":"IF(Fixtures!$D$103=\"\",\"\",Fixtures!$D$103)","v":""},{"$f":"IF(Fixtures!$E$103=\"\",\"\",Fixtures!$E$103)","v":""}]
[null,null,null,null,null,null,null,null,null,null,null,null,null,null,null,null,null,null,null,null,null,null,null,null,null,null,null,null,null,{"$f":"IF(Fixtures!$D$89=\"\",\"\",Fixtures!$D$89)","v":""},{"$f":"IF(Fixtures!$E$89=\"\",\"\",Fixtures!$E$89)","v":""},null,{"$f":"IF(Fixtures!$D$124=\"\",\"\",Fixtures!$D$124)","v":""},{"$f":"IF(Fixtures!$E$124=\"\",\"\",Fixtures!$E$124)","v":""},null,{"$f":"IF(Fixtures!$D$93=\"\",\"\",Fixtures!$D$93)","v":""},{"$f":"IF(Fixtures!$E$93=\"\",\"\",Fixtures!$E$93)","v":""},null,{"$f":"IF(Fixtures!$D$84=\"\",\"\",Fixtures!$D$84)","v":""},{"$f":"IF(Fixtures!$E$84=\"\",\"\",Fixtures!$E$84)","v":""}]
[null,null,null,null,null,null,null,null,null,null,null,null,null,null,null,null,null,null,null,null,null,null,null,null,null,null,null,null,null,{"$f":"IF(Fixtures!$D$141=\"\",\"\",Fixtures!$D$141)","v":""},{"$f":"IF(Fixtures!$E$141=\"\",\"\",Fixtures!$E$141)","v":""},null,{"$f":"IF(Fixtures!$D$6=\"\",\"\",Fixtures!$D$6)","v":9},{"$f":"IF(Fixtures!$E$6=\"\",\"\",Fixtures!$E$6)","v":2},null,{"$f":"IF(Fixtures!$D$55=\"\",\"\",Fixtures!$D$55)","v":""},{"$f":"IF(Fixtures!$E$55=\"\",\"\",Fixtures!$E$55)","v":""},null,{"$f":"IF(Fixtures!$D$44=\"\",\"\",Fixtures!$D$44)","v":""},{"$f":"IF(Fixtures!$E$44=\"\",\"\",Fixtures!$E$44)","v":""}]
[null,null,null,null,null,null,null,null,null,null,null,null,null,null,null,null,null,null,null,null,null,null,null,null,null,null,null,null,null,{"$f":"IF(Fixtures!$D$39=\"\",\"\",Fixtures!$D$39)","v":""},{"$f":"IF(Fixtures!$E$39=\"\",\"\",Fixtures!$E$39)","v":""},null,{"$f":"IF(Fixtures!$D$58=\"\",\"\",Fixtures!$D$58)","v":""},{"$f":"IF(Fixtures!$E$58=\"\",\"\",Fixtures!$E$58)","v":""},null,{"$f":"IF(Fixtures!$D$5=\"\",\"\",Fixtures!$D$5)","v":1},{"$f":"IF(Fixtures!$E$5=\"\",\"\",Fixtures!$E$5)","v":3},null,{"$f":"IF(Fixtures!$D$7=\"\",\"\",Fixtures!$D$7)","v":3},{"$f":"IF(Fixtures!$E$7=\"\",\"\",Fixtures!$E$7)","v":1}]
[null,null,null,null,null,null,null,null,null,null,null,null,null,null,null,null,null,null,null,null,null,null,null,null,null,null,null,null,null,{"$f":"IF(Fixtures!$D$37=\"\",\"\",Fixtures!$D$37)","v":0},{"$f":"IF(Fixtures!$E$37=\"\",\"\",Fixtures!$E$37)","v":1},null,{"$f":"IF(Fixtures!$D$53=\"\",\"\",Fixtures!$D$53)","v":""},{"$f":"IF(Fixtures!$E$53=\"\",\"\",Fixtures!$E$53)","v":""},null,{"$f":"IF(Fixtures!$D$142=\"\",\"\",Fixtures!$D$142)","v":""},{"$f":"IF(Fixtures!$E$142=\"\",\"\",Fixtures!$E$142)","v":""},null,{"$f":"IF(Fixtures!$D$118=\"\",\"\",Fixtures!$D$118)","v":""},{"$f":"IF(Fixtures!$E$118=\"\",\"\",Fixtures!$E$118)","v":""}]
[null,null,null,null,null,null,null,null,null,null,null,null,null,null,null,null,null,null,null,null,null,null,null,null,null,null,null,null,null,{"$f":"IF(Fixtures!$D$42=\"\",\"\",Fixtures!$D$42)","v":""},{"$f":"IF(Fixtures!$E$42=\"\",\"\",Fixtures!$E$42)","v":""},null,{"$f":"IF(Fixtures!$D$96=\"\",\"\",Fixtures!$D$96)","v":""},{"$f":"IF(Fixtures!$E$96=\"\",\"\",Fixtures!$E$96)","v":""},null,{"$f":"IF(Fixtures!$D$23=\"\",\"\",Fixtures!$D$23)","v":2},{"$f":"IF(Fixtures!$E$23=\"\",\"\",Fixtures!$E$23)","v":0},null,{"$f":"IF(Fixtures!$D$26=\"\",\"\",Fixtures!$D$26)","v":5},{"$f":"IF(Fixtures!$E$26=\"\",\"\",Fixtures!$E$26)","v":0}]
[null,null,null,null,null,null,null,null,null,null,null,null,null,null,null,null,null,null,null,null,null,null,null,null,null,null,null,null,null,{"$f":"IF(Fixtures!$D$109=\"\",\"\",Fixtures!$D$109)","v":""},{"$f":"IF(Fixtures!$E$109=\"\",\"\",Fixtures!$E$109)","v":""},null,{"$f":"IF(Fixtures!$D$13=\"\",\"\",Fixtures!$D$13)","v":0},{"$f":"IF(Fixtures!$E$13=\"\",\"\",Fixtures!$E$13)","v":0},null,{"$f":"IF(Fixtures!$D$80=\"\",\"\",Fixtures!$D$80)","v":""},{"$f":"IF(Fixtures!$E$80=\"\",\"\",Fixtures!$E$80)","v":""},null,{"$f":"IF(Fixtures!$D$125=\"\",\"\",Fixtures!$D$125)","v":""},{"$f":"IF(Fixtures!$E$125=\"\",\"\",Fixtures!$E$125)","v":""}]
[null,null,null,null,null,null,null,null,null,null,null,null,null,null,null,null,null,null,null,null,null,null,null,null,null,null,null,null,null,{"$f":"IF(Fixtures!$D$34=\"\",\"\",Fixtures!$D$34)","v":2},{"$f":"IF(Fixtures!$E$34=\"\",\"\",Fixtures!$E$34)","v":0},null,{"$f":"IF(Fixtures!$D$123=\"\",\"\",Fixtures!$D$123)","v":""},{"$f":"IF(Fixtures!$E$123=\"\",\"\",Fixtures!$E$123)","v":""},null,{"$f":"IF(Fixtures!$D$98=\"\",\"\",Fixtures!$D$98)","v":""},{"$f":"IF(Fixtures!$E$98=\"\",\"\",Fixtures!$E$98)","v":""},null,{"$f":"IF(Fixtures!$D$67=\"\",\"\",Fixtures!$D$67)","v":""},{"$f":"IF(Fixtures!$E$67=\"\",\"\",Fixtures!$E$67)","v":""}]
[null,null,null,null,null,null,null,null,null,null,null,null,null,null,null,null,null,null,null,null,null,null,null,null,null,null,null,null,null,{"$f":"IF(Fixtures!$D$144=\"\",\"\",Fixtures!$D$144)","v":""},{"$f":"IF(Fixtures!$E$144=\"\",\"\",Fixtures!$E$144)","v":""},null,{"$f":"IF(Fixtures!$D$51=\"\",\"\",Fixtures!$D$51)","v":""},{"$f":"IF(Fixtures!$E$51=\"\",\"\",Fixtures!$E$51)","v":""},null,{"$f":"IF(Fixtures!$D$146=\"\",\"\",Fixtures!$D$146)","v":""},{"$f":"IF(Fixtures!$E$146=\"\",\"\",Fixtures!$E$146)","v":""},null,{"$f":"IF(Fixtures!$D$110=\"\",\"\",Fixtures!$D$110)","v":""},{"$f":"IF(Fixtures!$E$110=\"\",\"\",Fixtures!$E$110)","v":""}]
[]
[]
[]
[]
[]
[]
[]
[]
[]
[]
[]
[]
[]
[]
[]
[]
[]
[]
[]
[]
[]
[]
[]
[]
[]
[]
[]
[]
[]
[]
[]
[]
[]
[]
[]
[]
[]
[]
[]
[]
[]
[]
[]
[]
[]
[]
[]
[]
[]
[]
[]
[]
[]
[]
[]
[]
[]
[]
[]
[]
[]
[]
[]
[]
[]
[]
[]
[]
[]
[]
[]
[]
[null,null,null,null,null,null,null,null,null,null,null,null,null,null,null,null,null,null,null,null,null,null,null,null,null,null,null,null,null,{"$f":"IF(Fixtures!$D$101=\"\",\"\",Fixtures!$D$101)","v":""},{"$f":"IF(Fixtures!$E$101=\"\",\"\",Fixtures!$E$101)","v":""}]
[null,null,null,null,null,null,null,null,null,null,null,null,null,null,null,null,null,null,null,null,null,null,null,null,null,null,null,null,null,{"$f":"IF(Fixtures!$D$116=\"\",\"\",Fixtures!$D$116)","v":""},{"$f":"IF(Fixtures!$E$116=\"\",\"\",Fixtures!$E$116)","v":""}]
[null,null,null,null,null,null,null,null,null,null,null,null,null,null,null,null,null,null,null,null,null,null,null,null,null,null,null,null,null,{"$f":"IF(Fixtures!$D$4=\"\",\"\",Fixtures!$D$4)","v":3},{"$f":"IF(Fixtures!$E$4=\"\",\"\",Fixtures!$E$4)","v":1}]
[null,null,null,null,null,null,null,null,null,null,null,null,null,null,null,null,null,null,null,null,null,null,null,null,null,null,null,null,null,{"$f":"IF(Fixtures!$D$45=\"\",\"\",Fixtures!$D$45)","v":""},{"$f":"IF(Fixtures!$E$45=\"\",\"\",Fixtures!$E$45)","v":""}]
[null,null,null,null,null,null,null,null,null,null,null,null,null,null,null,null,null,null,null,null,null,null,null,null,null,null,null,null,null,{"$f":"IF(Fixtures!$D$95=\"\",\"\",Fixtures!$D$95)","v":""},{"$f":"IF(Fixtures!$E$95=\"\",\"\",Fixtures!$E$95)","v":""}]
[null,null,null,null,null,null,null,null,null,null,null,null,null,null,null,null,null,null,null,null,null,null,null,null,null,null,null,null,null,{"$f":"IF(Fixtures!$D$145=\"\",\"\",Fixtures!$D$145)","v":""},{"$f":"IF(Fixtures!$E$145=\"\",\"\",Fixtures!$E$145)","v":""}]
[null,null,null,null,null,null,null,null,null,null,null,null,null,null,null,null,null,null,null,null,null,null,null,null,null,null,null,null,null,{"$f":"IF(Fixtures!$D$35=\"\",\"\",Fixtures!$D$35)","v":1},{"$f":"IF(Fixtures!$E$35=\"\",\"\",Fixtures!$E$35)","v":0}]
[null,null,null,null,null,null,null,null,null,null,null,null,null,null,null,null,null,null,null,null,null,null,null,null,null,null,null,null,null,{"$f":"IF(Fixtures!$D$91=\"\",\"\",Fixtures!$D$91)","v":""},{"$f":"IF(Fixtures!$E$91=\"\",\"\",Fixtures!$E$91)","v":""}]
[null,null,null,null,null,null,null,null,null,null,null,null,null,null,null,null,null,null,null,null,null,null,null,null,null,null,null,null,null,{"$f":"IF(Fixtures!$D$102=\"\",\"\",Fixtures!$D$102)","v":""},{"$f":"IF(Fixtures!$E$102=\"\",\"\",Fixtures!$E$102)","v":""}]
[null,null,null,null,null,null,null,null,null,null,null,null,null,null,null,null,null,null,null,null,null,null,null,null,null,null,null,null,null,{"$f":"IF(Fixtures!$D$134=\"\",\"\",Fixtures!$D$134)","v":""},{"$f":"IF(Fixtures!$E$134=\"\",\"\",Fixtures!$E$134)","v":""}]
[null,null,null,null,null,null,null,null,null,null,null,null,null,null,null,null,null,null,null,null,null,null,null,null,null,null,null,null,null,{"$f":"IF(Fixtures!$D$11=\"\",\"\",Fixtures!$D$11)","v":5},{"$f":"IF(Fixtures!$E$11=\"\",\"\",Fixtures!$E$11)","v":1}]
[null,null,null,null,null,null,null,null,null,null,null,null,null,null,null,null,null,null,null,null,null,null,null,null,null,null,null,null,null,{"$f":"IF(Fixtures!$D$43=\"\",\"\",Fixtures!$D$43)","v":""},{"$f":"IF(Fixtures!$E$43=\"\",\"\",Fixtures!$E$43)","v":""}]
[null,null,null,null,null,null,null,null,null,null,null,null,null,null,null,null,null,null,null,null,null,null,null,null,null,null,null,null,null,{"$f":"IF(Fixtures!$D$71=\"\",\"\",Fixtures!$D$71)","v":""},{"$f":"IF(Fixtures!$E$71=\"\",\"\",Fixtures!$E$71)","v":""}]
[null,null,null,null,null,null,null,null,null,null,null,null,null,null,null,null,null,null,null,null,null,null,null,null,null,null,null,null,null,{"$f":"IF(Fixtures!$D$77=\"\",\"\",Fixtures!$D$77)","v":""},{"$f":"IF(Fixtures!$E$77=\"\",\"\",Fixtures!$E$77)","v":""}]
[null,null,null,null,null,null,null,null,null,null,null,null,null,null,null,null,null,null,null,null,null,null,null,null,null,null,null,null,null,{"$f":"IF(Fixtures!$D$128=\"\",\"\",Fixtures!$D$128)","v":""},{"$f":"IF(Fixtures!$E$128=\"\",\"\",Fixtures!$E$128)","v":""}]
[null,null,null,null,null,null,null,null,null,null,null,null,null,null,null,null,null,null,null,null,null,null,null,null,null,null,null,null,null,{"$f":"IF(Fixtures!$D$9=\"\",\"\",Fixtures!$D$9)","v":3},{"$f":"IF(Fixtures!$E$9=\"\",\"\",Fixtures!$E$9)","v":0}]
[null,null,null,null,null,null,null,null,null,null,null,null,null,null,null,null,null,null,null,null,null,null,null,null,null,null,null,null,null,{"$f":"IF(Fixtures!$D$107=\"\",\"\",Fixtures!$D$107)","v":""},{"$f":"IF(Fixtures!$E$107=\"\",\"\",Fixtures!$E$107)","v":""}]
[null,null,null,null,null,null,null,null,null,null,null,null,null,null,null,null,null,null,null,null,null,null,null,null,null,null,null,null,null,{"$f":"IF(Fixtures!$D$130=\"\",\"\",Fixtures!$D$130)","v":""},{"$f":"IF(Fixtures!$E$130=\"\",\"\",Fixtures!$E$130)","v":""}]
[null,null,null,null,null,null,null,null,null,null,null,null,null,null,null,null,null,null,null,null,null,null,null,null,null,null,null,null,null,{"$f":"IF(Fixtures!$D$54=\"\",\"\",Fixtures!$D$54)","v":""},{"$f":"IF(Fixtures!$E$54=\"\",\"\",Fixtures!$E$54)","v":""}]
[null,null,null,null,null,null,null,null,null,null,null,null,null,null,null,null,null,null,null,null,null,null,null,null,null,null,null,null,null,{"$f":"IF(Fixtures!$D$22=\"\",\"\",Fixtures!$D$22)","v":1},{"$f":"IF(Fixtures!$E$22=\"\",\"\",Fixtures!$E$22)","v":1}]
[null,null,null,null,null,null,null,null,null,null,null,null,null,null,null,null,null,null,null,null,null,null,null,null,null,null,null,null,null,{"$f":"IF(Fixtures!$D$97=\"\",\"\",Fixtures!$D$97)","v":""},{"$f":"IF(Fixtures!$E$97=\"\",\"\",Fixtures!$E$97)","v":""}]
[null,null,null,null,null,null,null,null,null,null,null,null,null,null,null,null,null,null,null,null,null,null,null,null,null,null,null,null,null,{"$f":"IF(Fixtures!$D$121=\"\",\"\",Fixtures!$D$121)","v":""},{"$f":"IF(Fixtures!$E$121=\"\",\"\",Fixtures!$E$121)","v":""}]
[null,null,null,null,null,null,null,null,null,null,null,null,null,null,null,null,null,null,null,null,null,null,null,null,null,null,null,null,null,{"$f":"IF(Fixtures!$D$28=\"\",\"\",Fixtures!$D$28)","v":1},{"$f":"IF(Fixtures!$E$28=\"\",\"\",Fixtures!$E$28)","v":1}]
[null,null,null,null,null,null,null,null,null,null,null,null,null,null,null,null,null,null,null,null,null,null,null,null,null,null,null,null,null,{"$f":"IF(Fixtures!$D$47=\"\",\"\",Fixtures!$D$47)","v":""},{"$f":"IF(Fixtures!$E$47=\"\",\"\",Fixtures!$E$47)","v":""}]
[null,null,null,null,null,null,null,null,null,null,null,null,null,null,null,null,null,null,null,null,null,null,null,null,null,null,null,null,null,{"$f":"IF(Fixtures!$D$112=\"\",\"\",Fixtures!$D$112)","v":""},{"$f":"IF(Fixtures!$E$112=\"\",\"\",Fixtures!$E$112)","v":""}]
[null,null,null,null,null,null,null,null,null,null,null,null,null,null,null,null,null,null,null,null,null,null,null,null,null,null,null,null,null,{"$f":"IF(Fixtures!$D$20=\"\",\"\",Fixtures!$D$20)","v":2},{"$f":"IF(Fixtures!$E$20=\"\",\"\",Fixtures!$E$20)","v":1}]
[null,null,null,null,null,null,null,null,null,null,null,null,null,null,null,null,null,null,null,null,null,null,null,null,null,null,null,null,null,{"$f":"IF(Fixtures!$D$60=\"\",\"\",Fixtures!$D$60)","v":""},{"$f":"IF(Fixtures!$E$60=\"\",\"\",Fixtures!$E$60)","v":""}]
[null,null,null,null,null,null,null,null,null,null,null,null,null,null,null,null,null,null,null,null,null,null,null,null,null,null,null,null,null,{"$f":"IF(Fixtures!$D$103=\"\",\"\",Fixtures!$D$103)","v":""},{"$f":"IF(Fixtures!$E$103=\"\",\"\",Fixtures!$E$103)","v":""}]
[null,null,null,null,null,null,null,null,null,null,null,null,null,null,null,null,null,null,null,null,null,null,null,null,null,null,null,null,null,{"$f":"IF(Fixtures!$D$84=\"\",\"\",Fixtures!$D$84)","v":""},{"$f":"IF(Fixtures!$E$84=\"\",\"\",Fixtures!$E$84)","v":""}]
[null,null,null,null,null,null,null,null,null,null,null,null,null,null,null,null,null,null,null,null,null,null,null,null,null,null,null,null,null,{"$f":"IF(Fixtures!$D$44=\"\",\"\",Fixtures!$D$44)","v":""},{"$f":"IF(Fixtures!$E$44=\"\",\"\",Fixtures!$E$44)","v":""}]
[null,null,null,null,null,null,null,null,null,null,null,null,null,null,null,null,null,null,null,null,null,null,null,null,null,null,null,null,null,{"$f":"IF(Fixtures!$D$7=\"\",\"\",Fixtures!$D$7)","v":3},{"$f":"IF(Fixtures!$E$7=\"\",\"\",Fixtures!$E$7)","v":1}]
[null,null,null,null,null,null,null,null,null,null,null,null,null,null,null,null,null,null,null,null,null,null,null,null,null,null,null,null,null,{"$f":"IF(Fixtures!$D$118=\"\",\"\",Fixtures!$D$118)","v":""},{"$f":"IF(Fixtures!$E$118=\"\",\"\",Fixtures!$E$118)","v":""}]
[null,null,null,null,null,null,null,null,null,null,null,null,null,null,null,null,null,null,null,null,null,null,null,null,null,null,null,null,null,{"$f":"IF(Fixtures!$D$26=\"\",\"\",Fixtures!$D$26)","v":5},{"$f":"IF(Fixtures!$E$26=\"\",\"\",Fixtures!$E$26)","v":0}]
[null,null,null,null,null,null,null,null,null,null,null,null,null,null,null,null,null,null,null,null,null,null,null,null,null,null,null,null,null,{"$f":"IF(Fixtures!$D$125=\"\",\"\",Fixtures!$D$125)","v":""},{"$f":"IF(Fixtures!$E$125=\"\",\"\",Fixtures!$E$125)","v":""}]
[null,null,null,null,null,null,null,null,null,null,null,null,null,null,null,null,null,null,null,null,null,null,null,null,null,null,null,null,null,{"$f":"IF(Fixtures!$D$67=\"\",\"\",Fixtures!$D$67)","v":""},{"$f":"IF(Fixtures!$E$67=\"\",\"\",Fixtures!$E$67)","v":""}]
[null,null,null,null,null,null,null,null,null,null,null,null,null,null,null,null,null,null,null,null,null,null,null,null,null,null,null,null,null,{"$f":"IF(Fixtures!$D$110=\"\",\"\",Fixtures!$D$110)","v":""},{"$f":"IF(Fixtures!$E$110=\"\",\"\",Fixtures!$E$110)","v":""}]

{"sheet":"LadderH","index":2,"n_rows":38,"n_cols":10,"rows_kept":38,"cut":false,"hidden":false,"merged":[]}
[]
[null,"Team","P","W","D","L","F","A","G/D","Pts"]
[null,{"$f":"Grid!$DY$14","v":"Borussia Dortmund"},{"$f":"Grid!$DZ$14","v":2},{"$f":"Grid!$EA$14","v":2},{"$f":"Grid!$EB$14","v":0},{"$f":"Grid!$EC$14","v":0},{"$f":"Grid!$ED$14","v":10},{"$f":"Grid!$EE$14","v":1},{"$f":"Grid!$EF$14","v":9},{"$f":"Grid!$EG$14","v":6}]
[null,{"$f":"Grid!$DY$15","v":"Stade Brestois 29"},{"$f":"Grid!$DZ$15","v":2},{"$f":"Grid!$EA$15","v":2},{"$f":"Grid!$EB$15","v":0},{"$f":"Grid!$EC$15","v":0},{"$f":"Grid!$ED$15","v":6},{"$f":"Grid!$EE$15","v":1},{"$f":"Grid!$EF$15","v":5},{"$f":"Grid!$EG$15","v":6}]
[null,{"$f":"Grid!$DY$12","v":"Benfica"},{"$f":"Grid!$DZ$12","v":2},{"$f":"Grid!$EA$12","v":2},{"$f":"Grid!$EB$12","v":0},{"$f":"Grid!$EC$12","v":0},{"$f":"Grid!$ED$12","v":6},{"$f":"Grid!$EE$12","v":1},{"$f":"Grid!$EF$12","v":5},{"$f":"Grid!$EG$12","v":6}]
[null,{"$f":"Grid!$DY$10","v":"Bayer Leverkusen"},{"$f":"Grid!$DZ$10","v":2},{"$f":"Grid!$EA$10","v":2},{"$f":"Grid!$EB$10","v":0},{"$f":"Grid!$EC$10","v":0},{"$f":"Grid!$ED$10","v":5},{"$f":"Grid!$EE$10","v":0},{"$f":"Grid!$EF$10","v":5},{"$f":"Grid!$EG$10","v":6}]
[null,{"$f":"Grid!$DY$24","v":"Liverpool"},{"$f":"Grid!$DZ$24","v":2},{"$f":"Grid!$EA$24","v":2},{"$f":"Grid!$EB$24","v":0},{"$f":"Grid!$EC$24","v":0},{"$f":"Grid!$ED$24","v":5},{"$f":"Grid!$EE$24","v":1},{"$f":"Grid!$EF$24","v":4},{"$f":"Grid!$EG$24","v":6}]
[null,{"$f":"Grid!$DY$6","v":"Aston Villa"},{"$f":"Grid!$DZ$6","v":2},{"$f":"Grid!$EA$6","v":2},{"$f":"Grid!$EB$6","v":0},{"$f":"Grid!$EC$6","v":0},{"$f":"Grid!$ED$6","v":4},{"$f":"Grid!$EE$6","v":0},{"$f":"Grid!$EF$6","v":4},{"$f":"Grid!$EG$6","v":6}]
[null,{"$f":"Grid!$DY$22","v":"Juventus"},{"$f":"Grid!$DZ$22","v":2},{"$f":"Grid!$EA$22","v":2},{"$f":"Grid!$EB$22","v":0},{"$f":"Grid!$EC$22","v":0},{"$f":"Grid!$ED$22","v":6},{"$f":"Grid!$EE$22","v":3},{"$f":"Grid!$EF$22","v":3},{"$f":"Grid!$EG$22","v":6}]
[null,{"$f":"Grid!$DY$25","v":"Manchester City"},{"$f":"Grid!$DZ$25","v":2},{"$f":"Grid!$EA$25","v":1},{"$f":"Grid!$EB$25","v":1},{"$f":"Grid!$EC$25","v":0},{"$f":"Grid!$ED$25","v":4},{"$f":"Grid!$EE$25","v":0},{"$f":"Grid!$EF$25","v":4},{"$f":"Grid!$EG$25","v":4}]
[null,{"$f":"Grid!$DY$21","v":"Internazionale Milano"},{"$f":"Grid!$DZ$21","v":2},{"$f":"Grid!$EA$21","v":1},{"$f":"Grid!$EB$21","v":1},{"$f":"Grid!$EC$21","v":0},{"$f":"Grid!$ED$21","v":4},{"$f":"Grid!$EE$21","v":0},{"$f":"Grid!$EF$21","v":4},{"$f":"Grid!$EG$21","v":4}]
[null,{"$f":"Grid!$DY$35","v":"Sparta Prague"},{"$f":"Grid!$DZ$35","v":2},{"$f":"Grid!$EA$35","v":1},{"$f":"Grid!$EB$35","v":1},{"$f":"Grid!$EC$35","v":0},{"$f":"Grid!$ED$35","v":4},{"$f":"Grid!$EE$35","v":1},{"$f":"Grid!$EF$35","v":3},{"$f":"Grid!$EG$35","v":4}]
[null,{"$f":"Grid!$DY$7","v":"Atalanta"},{"$f":"Grid!$DZ$7","v":2},{"$f":"Grid!$EA$7","v":1},{"$f":"Grid!$EB$7","v":1},{"$f":"Grid!$EC$7","v":0},{"$f":"Grid!$ED$7","v":3},{"$f":"Grid!$EE$7","v":0},{"$f":"Grid!$EF$7","v":3},{"$f":"Grid!$EG$7","v":4}]
[null,{"$f":"Grid!$DY$36","v":"Sporting CP"},{"$f":"Grid!$DZ$36","v":2},{"$f":"Grid!$EA$36","v":1},{"$f":"Grid!$EB$36","v":1},{"$f":"Grid!$EC$36","v":0},{"$f":"Grid!$ED$36","v":3},{"$f":"Grid!$EE$36","v":1},{"$f":"Grid!$EF$36","v":2},{"$f":"Grid!$EG$36","v":4}]
[null,{"$f":"Grid!$DY$5","v":"Arsenal"},{"$f":"Grid!$DZ$5","v":2},{"$f":"Grid!$EA$5","v":1},{"$f":"Grid!$EB$5","v":1},{"$f":"Grid!$EC$5","v":0},{"$f":"Grid!$ED$5","v":2},{"$f":"Grid!$EE$5","v":0},{"$f":"Grid!$EF$5","v":2},{"$f":"Grid!$EG$5","v":4}]
[null,{"$f":"Grid!$DY$26","v":"Monaco"},{"$f":"Grid!$DZ$26","v":2},{"$f":"Grid!$EA$26","v":1},{"$f":"Grid!$EB$26","v":1},{"$f":"Grid!$EC$26","v":0},{"$f":"Grid!$ED$26","v":4},{"$f":"Grid!$EE$26","v":3},{"$f":"Grid!$EF$26","v":1},{"$f":"Grid!$EG$26","v":4}]
[null,{"$f":"Grid!$DY$11","v":"Bayern Munich"},{"$f":"Grid!$DZ$11","v":2},{"$f":"Grid!$EA$11","v":1},{"$f":"Grid!$EB$11","v":0},{"$f":"Grid!$EC$11","v":1},{"$f":"Grid!$ED$11","v":9},{"$f":"Grid!$EE$11","v":3},{"$f":"Grid!$EF$11","v":6},{"$f":"Grid!$EG$11","v":3}]
[null,{"$f":"Grid!$DY$9","v":"Barcelona"},{"$f":"Grid!$DZ$9","v":2},{"$f":"Grid!$EA$9","v":1},{"$f":"Grid!$EB$9","v":0},{"$f":"Grid!$EC$9","v":1},{"$f":"Grid!$ED$9","v":6},{"$f":"Grid!$EE$9","v":2},{"$f":"Grid!$EF$9","v":4},{"$f":"Grid!$EG$9","v":3}]
[null,{"$f":"Grid!$DY$30","v":"Real Madrid"},{"$f":"Grid!$DZ$30","v":2},{"$f":"Grid!$EA$30","v":1},{"$f":"Grid!$EB$30","v":0},{"$f":"Grid!$EC$30","v":1},{"$f":"Grid!$ED$30","v":3},{"$f":"Grid!$EE$30","v":2},{"$f":"Grid!$EF$30","v":1},{"$f":"Grid!$EG$30","v":3}]
[null,{"$f":"Grid!$DY$27","v":"Paris Saint-Germain"},{"$f":"Grid!$DZ$27","v":2},{"$f":"Grid!$EA$27","v":1},{"$f":"Grid!$EB$27","v":0},{"$f":"Grid!$EC$27","v":1},{"$f":"Grid!$ED$27","v":1},{"$f":"Grid!$EE$27","v":2},{"$f":"Grid!$EF$27","v":-1},{"$f":"Grid!$EG$27","v":3}]
[null,{"$f":"Grid!$DY$23","v":"Lille"},{"$f":"Grid!$DZ$23","v":2},{"$f":"Grid!$EA$23","v":1},{"$f":"Grid!$EB$23","v":0},{"$f":"Grid!$EC$23","v":1},{"$f":"Grid!$ED$23","v":1},{"$f":"Grid!$EE$23","v":2},{"$f":"Grid!$EF$23","v":-1},{"$f":"Grid!$EG$23","v":3}]
[null,{"$f":"Grid!$DY$16","v":"Celtic"},{"$f":"Grid!$DZ$16","v":2},{"$f":"Grid!$EA$16","v":1},{"$f":"Grid!$EB$16","v":0},{"$f":"Grid!$EC$16","v":1},{"$f":"Grid!$ED$16","v":6},{"$f":"Grid!$EE$16","v":8},{"$f":"Grid!$EF$16","v":-2},{"$f":"Grid!$EG$16","v":3}]
[null,{"$f":"Grid!$DY$17","v":"Club Brugge KV"},{"$f":"Grid!$DZ$17","v":2},{"$f":"Grid!$EA$17","v":1},{"$f":"Grid!$EB$17","v":0},{"$f":"Grid!$EC$17","v":1},{"$f":"Grid!$ED$17","v":1},{"$f":"Grid!$EE$17","v":3},{"$f":"Grid!$EF$17","v":-2},{"$f":"Grid!$EG$17","v":3}]
[null,{"$f":"Grid!$DY$19","v":"Feyenoord"},{"$f":"Grid!$DZ$19","v":2},{"$f":"Grid!$EA$19","v":1},{"$f":"Grid!$EB$19","v":0},{"$f":"Grid!$EC$19","v":1},{"$f":"Grid!$ED$19","v":3},{"$f":"Grid!$EE$19","v":6},{"$f":"Grid!$EF$19","v":-3},{"$f":"Grid!$EG$19","v":3}]
[null,{"$f":"Grid!$DY$8","v":"Atletico Madrid"},{"$f":"Grid!$DZ$8","v":2},{"$f":"Grid!$EA$8","v":1},{"$f":"Grid!$EB$8","v":0},{"$f":"Grid!$EC$8","v":1},{"$f":"Grid!$ED$8","v":2},{"$f":"Grid!$EE$8","v":5},{"$f":"Grid!$EF$8","v":-3},{"$f":"Grid!$EG$8","v":3}]
[null,{"$f":"Grid!$DY$38","v":"Stuttgart"},{"$f":"Grid!$DZ$38","v":2},{"$f":"Grid!$EA$38","v":0},{"$f":"Grid!$EB$38","v":1},{"$f":"Grid!$EC$38","v":1},{"$f":"Grid!$ED$38","v":2},{"$f":"Grid!$EE$38","v":4},{"$f":"Grid!$EF$38","v":-2},{"$f":"Grid!$EG$38","v":1}]
[null,{"$f":"Grid!$DY$28","v":"PSV"},{"$f":"Grid!$DZ$28","v":2},{"$f":"Grid!$EA$28","v":0},{"$f":"Grid!$EB$28","v":1},{"$f":"Grid!$EC$28","v":1},{"$f":"Grid!$ED$28","v":2},{"$f":"Grid!$EE$28","v":4},{"$f":"Grid!$EF$28","v":-2},{"$f":"Grid!$EG$28","v":1}]
[null,{"$f":"Grid!$DY$13","v":"Bologna"},{"$f":"Grid!$DZ$13","v":2},{"$f":"Grid!$EA$13","v":0},{"$f":"Grid!$EB$13","v":1},{"$f":"Grid!$EC$13","v":1},{"$f":"Grid!$ED$13","v":0},{"$f":"Grid!$EE$13","v":2},{"$f":"Grid!$EF$13","v":-2},{"$f":"Grid!$EG$13","v":1}]
[null,{"$f":"Grid!$DY$33","v":"Shakhtar Donetsk"},{"$f":"Grid!$DZ$33","v":2},{"$f":"Grid!$EA$33","v":0},{"$f":"Grid!$EB$33","v":1},{"$f":"Grid!$EC$33","v":1},{"$f":"Grid!$ED$33","v":0},{"$f":"Grid!$EE$33","v":3},{"$f":"Grid!$EF$33","v":-3},{"$f":"Grid!$EG$33","v":1}]
[null,{"$f":"Grid!$DY$18","v":"GNK Dinamo Zagreb"},{"$f":"Grid!$DZ$18","v":2},{"$f":"Grid!$EA$18","v":0},{"$f":"Grid!$EB$18","v":1},{"$f":"Grid!$EC$18","v":1},{"$f":"Grid!$ED$18","v":4},{"$f":"Grid!$EE$18","v":11},{"$f":"Grid!$EF$18","v":-7},{"$f":"Grid!$EG$18","v":1}]
[null,{"$f":"Grid!$DY$29","v":"RB Leipzig"},{"$f":"Grid!$DZ$29","v":2},{"$f":"Grid!$EA$29","v":0},{"$f":"Grid!$EB$29","v":0},{"$f":"Grid!$EC$29","v":2},{"$f":"Grid!$ED$29","v":3},{"$f":"Grid!$EE$29","v":5},{"$f":"Grid!$EF$29","v":-2},{"$f":"Grid!$EG$29","v":0}]
[null,{"$f":"Grid!$DY$20","v":"Girona"},{"$f":"Grid!$DZ$20","v":2},{"$f":"Grid!$EA$20","v":0},{"$f":"Grid!$EB$20","v":0},{"$f":"Grid!$EC$20","v":2},{"$f":"Grid!$ED$20","v":2},{"$f":"Grid!$EE$20","v":4},{"$f":"Grid!$EF$20","v":-2},{"$f":"Grid!$EG$20","v":0}]
[null,{"$f":"Grid!$DY$37","v":"Sturm Graz"},{"$f":"Grid!$DZ$37","v":2},{"$f":"Grid!$EA$37","v":0},{"$f":"Grid!$EB$37","v":0},{"$f":"Grid!$EC$37","v":2},{"$f":"Grid!$ED$37","v":1},{"$f":"Grid!$EE$37","v":3},{"$f":"Grid!$EF$37","v":-2},{"$f":"Grid!$EG$37","v":0}]
[null,{"$f":"Grid!$DY$4","v":"AC Milan"},{"$f":"Grid!$DZ$4","v":2},{"$f":"Grid!$EA$4","v":0},{"$f":"Grid!$EB$4","v":0},{"$f":"Grid!$EC$4","v":2},{"$f":"Grid!$ED$4","v":1},{"$f":"Grid!$EE$4","v":4},{"$f":"Grid!$EF$4","v":-3},{"$f":"Grid!$EG$4","v":0}]
[null,{"$f":"Grid!$DY$31","v":"Crvena zvezda"},{"$f":"Grid!$DZ$31","v":2},{"$f":"Grid!$EA$31","v":0},{"$f":"Grid!$EB$31","v":0},{"$f":"Grid!$EC$31","v":2},{"$f":"Grid!$ED$31","v":1},{"$f":"Grid!$EE$31","v":6},{"$f":"Grid!$EF$31","v":-5},{"$f":"Grid!$EG$31","v":0}]
[null,{"$f":"Grid!$DY$32","v":"Salzburg"},{"$f":"Grid!$DZ$32","v":2},{"$f":"Grid!$EA$32","v":0},{"$f":"Grid!$EB$32","v":0},{"$f":"Grid!$EC$32","v":2},{"$f":"Grid!$ED$32","v":0},{"$f":"Grid!$EE$32","v":7},{"$f":"Grid!$EF$32","v":-7},{"$f":"Grid!$EG$32","v":0}]
[null,{"$f":"Grid!$DY$34","v":"Slovan Bratislava"},{"$f":"Grid!$DZ$34","v":2},{"$f":"Grid!$EA$34","v":0},{"$f":"Grid!$EB$34","v":0},{"$f":"Grid!$EC$34","v":2},{"$f":"Grid!$ED$34","v":1},{"$f":"Grid!$EE$34","v":9},{"$f":"Grid!$EF$34","v":-8},{"$f":"Grid!$EG$34","v":0}]
[null,{"$f":"Grid!$DY$39","v":"Young Boys"},{"$f":"Grid!$DZ$39","v":2},{"$f":"Grid!$EA$39","v":0},{"$f":"Grid!$EB$39","v":0},{"$f":"Grid!$EC$39","v":2},{"$f":"Grid!$ED$39","v":0},{"$f":"Grid!$EE$39","v":8},{"$f":"Grid!$EF$39","v":-8},{"$f":"Grid!$EG$39","v":0}]

{"sheet":"Ladder","index":3,"n_rows":38,"n_cols":11,"rows_kept":38,"cut":false,"hidden":false,"merged":[]}
[]
[null,"Posn",{"$f":"LadderH!B2","v":"Team"},{"$f":"LadderH!C2","v":"P"},{"$f":"LadderH!D2","v":"W"},{"$f":"LadderH!E2","v":"D"},{"$f":"LadderH!F2","v":"L"},{"$f":"LadderH!G2","v":"F"},{"$f":"LadderH!H2","v":"A"},{"$f":"LadderH!I2","v":"G/D"},{"$f":"LadderH!J2","v":"Pts"}]
[null,1,{"$f":"LadderH!B3","v":"Borussia Dortmund"},{"$f":"LadderH!C3","v":2},{"$f":"LadderH!D3","v":2},{"$f":"LadderH!E3","v":0},{"$f":"LadderH!F3","v":0},{"$f":"LadderH!G3","v":10},{"$f":"LadderH!H3","v":1},{"$f":"LadderH!I3","v":9},{"$f":"LadderH!J3","v":6}]
[null,2,{"$f":"LadderH!B4","v":"Stade Brestois 29"},{"$f":"LadderH!C4","v":2},{"$f":"LadderH!D4","v":2},{"$f":"LadderH!E4","v":0},{"$f":"LadderH!F4","v":0},{"$f":"LadderH!G4","v":6},{"$f":"LadderH!H4","v":1},{"$f":"LadderH!I4","v":5},{"$f":"LadderH!J4","v":6}]
[null,3,{"$f":"LadderH!B5","v":"Benfica"},{"$f":"LadderH!C5","v":2},{"$f":"LadderH!D5","v":2},{"$f":"LadderH!E5","v":0},{"$f":"LadderH!F5","v":0},{"$f":"LadderH!G5","v":6},{"$f":"LadderH!H5","v":1},{"$f":"LadderH!I5","v":5},{"$f":"LadderH!J5","v":6}]
[null,4,{"$f":"LadderH!B6","v":"Bayer Leverkusen"},{"$f":"LadderH!C6","v":2},{"$f":"LadderH!D6","v":2},{"$f":"LadderH!E6","v":0},{"$f":"LadderH!F6","v":0},{"$f":"LadderH!G6","v":5},{"$f":"LadderH!H6","v":0},{"$f":"LadderH!I6","v":5},{"$f":"LadderH!J6","v":6}]
[null,5,{"$f":"LadderH!B7","v":"Liverpool"},{"$f":"LadderH!C7","v":2},{"$f":"LadderH!D7","v":2},{"$f":"LadderH!E7","v":0},{"$f":"LadderH!F7","v":0},{"$f":"LadderH!G7","v":5},{"$f":"LadderH!H7","v":1},{"$f":"LadderH!I7","v":4},{"$f":"LadderH!J7","v":6}]
[null,6,{"$f":"LadderH!B8","v":"Aston Villa"},{"$f":"LadderH!C8","v":2},{"$f":"LadderH!D8","v":2},{"$f":"LadderH!E8","v":0},{"$f":"LadderH!F8","v":0},{"$f":"LadderH!G8","v":4},{"$f":"LadderH!H8","v":0},{"$f":"LadderH!I8","v":4},{"$f":"LadderH!J8","v":6}]
[null,7,{"$f":"LadderH!B9","v":"Juventus"},{"$f":"LadderH!C9","v":2},{"$f":"LadderH!D9","v":2},{"$f":"LadderH!E9","v":0},{"$f":"LadderH!F9","v":0},{"$f":"LadderH!G9","v":6},{"$f":"LadderH!H9","v":3},{"$f":"LadderH!I9","v":3},{"$f":"LadderH!J9","v":6}]
[null,8,{"$f":"LadderH!B10","v":"Manchester City"},{"$f":"LadderH!C10","v":2},{"$f":"LadderH!D10","v":1},{"$f":"LadderH!E10","v":1},{"$f":"LadderH!F10","v":0},{"$f":"LadderH!G10","v":4},{"$f":"LadderH!H10","v":0},{"$f":"LadderH!I10","v":4},{"$f":"LadderH!J10","v":4}]
[null,9,{"$f":"LadderH!B11","v":"Internazionale Milano"},{"$f":"LadderH!C11","v":2},{"$f":"LadderH!D11","v":1},{"$f":"LadderH!E11","v":1},{"$f":"LadderH!F11","v":0},{"$f":"LadderH!G11","v":4},{"$f":"LadderH!H11","v":0},{"$f":"LadderH!I11","v":4},{"$f":"LadderH!J11","v":4}]
[null,10,{"$f":"LadderH!B12","v":"Sparta Prague"},{"$f":"LadderH!C12","v":2},{"$f":"LadderH!D12","v":1},{"$f":"LadderH!E12","v":1},{"$f":"LadderH!F12","v":0},{"$f":"LadderH!G12","v":4},{"$f":"LadderH!H12","v":1},{"$f":"LadderH!I12","v":3},{"$f":"LadderH!J12","v":4}]
[null,11,{"$f":"LadderH!B13","v":"Atalanta"},{"$f":"LadderH!C13","v":2},{"$f":"LadderH!D13","v":1},{"$f":"LadderH!E13","v":1},{"$f":"LadderH!F13","v":0},{"$f":"LadderH!G13","v":3},{"$f":"LadderH!H13","v":0},{"$f":"LadderH!I13","v":3},{"$f":"LadderH!J13","v":4}]
[null,12,{"$f":"LadderH!B14","v":"Sporting CP"},{"$f":"LadderH!C14","v":2},{"$f":"LadderH!D14","v":1},{"$f":"LadderH!E14","v":1},{"$f":"LadderH!F14","v":0},{"$f":"LadderH!G14","v":3},{"$f":"LadderH!H14","v":1},{"$f":"LadderH!I14","v":2},{"$f":"LadderH!J14","v":4}]
[null,13,{"$f":"LadderH!B15","v":"Arsenal"},{"$f":"LadderH!C15","v":2},{"$f":"LadderH!D15","v":1},{"$f":"LadderH!E15","v":1},{"$f":"LadderH!F15","v":0},{"$f":"LadderH!G15","v":2},{"$f":"LadderH!H15","v":0},{"$f":"LadderH!I15","v":2},{"$f":"LadderH!J15","v":4}]
[null,14,{"$f":"LadderH!B16","v":"Monaco"},{"$f":"LadderH!C16","v":2},{"$f":"LadderH!D16","v":1},{"$f":"LadderH!E16","v":1},{"$f":"LadderH!F16","v":0},{"$f":"LadderH!G16","v":4},{"$f":"LadderH!H16","v":3},{"$f":"LadderH!I16","v":1},{"$f":"LadderH!J16","v":4}]
[null,15,{"$f":"LadderH!B17","v":"Bayern Munich"},{"$f":"LadderH!C17","v":2},{"$f":"LadderH!D17","v":1},{"$f":"LadderH!E17","v":0},{"$f":"LadderH!F17","v":1},{"$f":"LadderH!G17","v":9},{"$f":"LadderH!H17","v":3},{"$f":"LadderH!I17","v":6},{"$f":"LadderH!J17","v":3}]
[null,16,{"$f":"LadderH!B18","v":"Barcelona"},{"$f":"LadderH!C18","v":2},{"$f":"LadderH!D18","v":1},{"$f":"LadderH!E18","v":0},{"$f":"LadderH!F18","v":1},{"$f":"LadderH!G18","v":6},{"$f":"LadderH!H18","v":2},{"$f":"LadderH!I18","v":4},{"$f":"LadderH!J18","v":3}]
[null,17,{"$f":"LadderH!B19","v":"Real Madrid"},{"$f":"LadderH!C19","v":2},{"$f":"LadderH!D19","v":1},{"$f":"LadderH!E19","v":0},{"$f":"LadderH!F19","v":1},{"$f":"LadderH!G19","v":3},{"$f":"LadderH!H19","v":2},{"$f":"LadderH!I19","v":1},{"$f":"LadderH!J19","v":3}]
[null,18,{"$f":"LadderH!B20","v":"Paris Saint-Germain"},{"$f":"LadderH!C20","v":2},{"$f":"LadderH!D20","v":1},{"$f":"LadderH!E20","v":0},{"$f":"LadderH!F20","v":1},{"$f":"LadderH!G20","v":1},{"$f":"LadderH!H20","v":2},{"$f":"LadderH!I20","v":-1},{"$f":"LadderH!J20","v":3}]
[null,19,{"$f":"LadderH!B21","v":"Lille"},{"$f":"LadderH!C21","v":2},{"$f":"LadderH!D21","v":1},{"$f":"LadderH!E21","v":0},{"$f":"LadderH!F21","v":1},{"$f":"LadderH!G21","v":1},{"$f":"LadderH!H21","v":2},{"$f":"LadderH!I21","v":-1},{"$f":"LadderH!J21","v":3}]
[null,20,{"$f":"LadderH!B22","v":"Celtic"},{"$f":"LadderH!C22","v":2},{"$f":"LadderH!D22","v":1},{"$f":"LadderH!E22","v":0},{"$f":"LadderH!F22","v":1},{"$f":"LadderH!G22","v":6},{"$f":"LadderH!H22","v":8},{"$f":"LadderH!I22","v":-2},{"$f":"LadderH!J22","v":3}]
[null,21,{"$f":"LadderH!B23","v":"Club Brugge KV"},{"$f":"LadderH!C23","v":2},{"$f":"LadderH!D23","v":1},{"$f":"LadderH!E23","v":0},{"$f":"LadderH!F23","v":1},{"$f":"LadderH!G23","v":1},{"$f":"LadderH!H23","v":3},{"$f":"LadderH!I23","v":-2},{"$f":"LadderH!J23","v":3}]
[null,22,{"$f":"LadderH!B24","v":"Feyenoord"},{"$f":"LadderH!C24","v":2},{"$f":"LadderH!D24","v":1},{"$f":"LadderH!E24","v":0},{"$f":"LadderH!F24","v":1},{"$f":"LadderH!G24","v":3},{"$f":"LadderH!H24","v":6},{"$f":"LadderH!I24","v":-3},{"$f":"LadderH!J24","v":3}]
[null,23,{"$f":"LadderH!B25","v":"Atletico Madrid"},{"$f":"LadderH!C25","v":2},{"$f":"LadderH!D25","v":1},{"$f":"LadderH!E25","v":0},{"$f":"LadderH!F25","v":1},{"$f":"LadderH!G25","v":2},{"$f":"LadderH!H25","v":5},{"$f":"LadderH!I25","v":-3},{"$f":"LadderH!J25","v":3}]
[null,24,{"$f":"LadderH!B26","v":"Stuttgart"},{"$f":"LadderH!C26","v":2},{"$f":"LadderH!D26","v":0},{"$f":"LadderH!E26","v":1},{"$f":"LadderH!F26","v":1},{"$f":"LadderH!G26","v":2},{"$f":"LadderH!H26","v":4},{"$f":"LadderH!I26","v":-2},{"$f":"LadderH!J26","v":1}]
[null,25,{"$f":"LadderH!B27","v":"PSV"},{"$f":"LadderH!C27","v":2},{"$f":"LadderH!D27","v":0},{"$f":"LadderH!E27","v":1},{"$f":"LadderH!F27","v":1},{"$f":"LadderH!G27","v":2},{"$f":"LadderH!H27","v":4},{"$f":"LadderH!I27","v":-2},{"$f":"LadderH!J27","v":1}]
[null,26,{"$f":"LadderH!B28","v":"Bologna"},{"$f":"LadderH!C28","v":2},{"$f":"LadderH!D28","v":0},{"$f":"LadderH!E28","v":1},{"$f":"LadderH!F28","v":1},{"$f":"LadderH!G28","v":0},{"$f":"LadderH!H28","v":2},{"$f":"LadderH!I28","v":-2},{"$f":"LadderH!J28","v":1}]
[null,27,{"$f":"LadderH!B29","v":"Shakhtar Donetsk"},{"$f":"LadderH!C29","v":2},{"$f":"LadderH!D29","v":0},{"$f":"LadderH!E29","v":1},{"$f":"LadderH!F29","v":1},{"$f":"LadderH!G29","v":0},{"$f":"LadderH!H29","v":3},{"$f":"LadderH!I29","v":-3},{"$f":"LadderH!J29","v":1}]
[null,28,{"$f":"LadderH!B30","v":"GNK Dinamo Zagreb"},{"$f":"LadderH!C30","v":2},{"$f":"LadderH!D30","v":0},{"$f":"LadderH!E30","v":1},{"$f":"LadderH!F30","v":1},{"$f":"LadderH!G30","v":4},{"$f":"LadderH!H30","v":11},{"$f":"LadderH!I30","v":-7},{"$f":"LadderH!J30","v":1}]
[null,29,{"$f":"LadderH!B31","v":"RB Leipzig"},{"$f":"LadderH!C31","v":2},{"$f":"LadderH!D31","v":0},{"$f":"LadderH!E31","v":0},{"$f":"LadderH!F31","v":2},{"$f":"LadderH!G31","v":3},{"$f":"LadderH!H31","v":5},{"$f":"LadderH!I31","v":-2},{"$f":"LadderH!J31","v":0}]
[null,30,{"$f":"LadderH!B32","v":"Girona"},{"$f":"LadderH!C32","v":2},{"$f":"LadderH!D32","v":0},{"$f":"LadderH!E32","v":0},{"$f":"LadderH!F32","v":2},{"$f":"LadderH!G32","v":2},{"$f":"LadderH!H32","v":4},{"$f":"LadderH!I32","v":-2},{"$f":"LadderH!J32","v":0}]
[null,31,{"$f":"LadderH!B33","v":"Sturm Graz"},{"$f":"LadderH!C33","v":2},{"$f":"LadderH!D33","v":0},{"$f":"LadderH!E33","v":0},{"$f":"LadderH!F33","v":2},{"$f":"LadderH!G33","v":1},{"$f":"LadderH!H33","v":3},{"$f":"LadderH!I33","v":-2},{"$f":"LadderH!J33","v":0}]
[null,32,{"$f":"LadderH!B34","v":"AC Milan"},{"$f":"LadderH!C34","v":2},{"$f":"LadderH!D34","v":0},{"$f":"LadderH!E34","v":0},{"$f":"LadderH!F34","v":2},{"$f":"LadderH!G34","v":1},{"$f":"LadderH!H34","v":4},{"$f":"LadderH!I34","v":-3},{"$f":"LadderH!J34","v":0}]
[null,33,{"$f":"LadderH!B35","v":"Crvena zvezda"},{"$f":"LadderH!C35","v":2},{"$f":"LadderH!D35","v":0},{"$f":"LadderH!E35","v":0},{"$f":"LadderH!F35","v":2},{"$f":"LadderH!G35","v":1},{"$f":"LadderH!H35","v":6},{"$f":"LadderH!I35","v":-5},{"$f":"LadderH!J35","v":0}]
[null,34,{"$f":"LadderH!B36","v":"Salzburg"},{"$f":"LadderH!C36","v":2},{"$f":"LadderH!D36","v":0},{"$f":"LadderH!E36","v":0},{"$f":"LadderH!F36","v":2},{"$f":"LadderH!G36","v":0},{"$f":"LadderH!H36","v":7},{"$f":"LadderH!I36","v":-7},{"$f":"LadderH!J36","v":0}]
[null,35,{"$f":"LadderH!B37","v":"Slovan Bratislava"},{"$f":"LadderH!C37","v":2},{"$f":"LadderH!D37","v":0},{"$f":"LadderH!E37","v":0},{"$f":"LadderH!F37","v":2},{"$f":"LadderH!G37","v":1},{"$f":"LadderH!H37","v":9},{"$f":"LadderH!I37","v":-8},{"$f":"LadderH!J37","v":0}]
[null,36,{"$f":"LadderH!B38","v":"Young Boys"},{"$f":"LadderH!C38","v":2},{"$f":"LadderH!D38","v":0},{"$f":"LadderH!E38","v":0},{"$f":"LadderH!F38","v":2},{"$f":"LadderH!G38","v":0},{"$f":"LadderH!H38","v":8},{"$f":"LadderH!I38","v":-8},{"$f":"LadderH!J38","v":0}]

{"sheet":"McRopod","index":4,"n_rows":26,"n_cols":9,"rows_kept":26,"cut":false,"hidden":false,"merged":[]}
[null,null,null,null,null,null,null,null,"V1 - 240906"]
[]
[null,"Welcome to the new-format UEFA Champions League McRopod Sports System.  You can use "]
[null,"this file to input actual and/or predicted scores and produce an accurate ECL Ladder, ranking all"]
[null,"the clubs in corect order and seeing which teams advance directly to the Round of 16; which go to the "]
[null,"Play-offs to determine which teams join them in the R16; as well as which teams say farewell to "]
[null,"UEFA action  this campaign."]
[]
[null,"All the fixtures are correctly loaded as drawn.  All you need to do is input the scores (actual"]
[null,"and/or predicted).  Once you do that, press the Ladder button to see the resultant rankings."]
[]
[null,"Teams finishing in the top eight positions (1-8) advance directly to the Round of 16.  They will each"]
[null,"be drawn against one of the winners of Play-offs between teams finishing in the next sixteen "]
[null,"positions (9-24).  This will be a seeded draw meaning the higher up the rankings a team finishes, the"]
[null,"lower-ranked their opponents will be.  The eight winners of these Play-offs will advance to the R16 to be"]
[null,"drawn to each face one of the teams finishing 1-8 which directly qualified for the R16."]
[]
[null,"Enter only a whole positive number in a yellow results cell as you'll get an error flag otherwise and the"]
[null,"Ladder won't correctly form."]
[]
[null,"Now you are ready to go - press the Fixtures button and input scores!"]
[]
[]
[]
[null,"Alan Clark"]
[null,"McRopod Concepts"]